BEGIN:VCALENDAR
VERSION:2.0
PRODID:-//St. Michael&#039;s Church - ECPv6.15.20//NONSGML v1.0//EN
CALSCALE:GREGORIAN
METHOD:PUBLISH
X-WR-CALNAME:St. Michael&#039;s Church
X-ORIGINAL-URL:https://stmichaels-litchfield.org
X-WR-CALDESC:Events for St. Michael&#039;s Church
REFRESH-INTERVAL;VALUE=DURATION:PT1H
X-Robots-Tag:noindex
X-PUBLISHED-TTL:PT1H
BEGIN:VTIMEZONE
TZID:America/New_York
BEGIN:DAYLIGHT
TZOFFSETFROM:-0500
TZOFFSETTO:-0400
TZNAME:EDT
DTSTART:20280312T070000
END:DAYLIGHT
BEGIN:STANDARD
TZOFFSETFROM:-0400
TZOFFSETTO:-0500
TZNAME:EST
DTSTART:20281105T060000
END:STANDARD
BEGIN:DAYLIGHT
TZOFFSETFROM:-0500
TZOFFSETTO:-0400
TZNAME:EDT
DTSTART:20290311T070000
END:DAYLIGHT
BEGIN:STANDARD
TZOFFSETFROM:-0400
TZOFFSETTO:-0500
TZNAME:EST
DTSTART:20291104T060000
END:STANDARD
BEGIN:DAYLIGHT
TZOFFSETFROM:-0500
TZOFFSETTO:-0400
TZNAME:EDT
DTSTART:20300310T070000
END:DAYLIGHT
BEGIN:STANDARD
TZOFFSETFROM:-0400
TZOFFSETTO:-0500
TZNAME:EST
DTSTART:20301103T060000
END:STANDARD
END:VTIMEZONE
BEGIN:VEVENT
DTSTART;TZID=America/New_York:20290508T093000
DTEND;TZID=America/New_York:20290508T143000
DTSTAMP:20260424T075318
CREATED:20260128T181432Z
LAST-MODIFIED:20260128T181726Z
UID:10292107-1872927000-1872945000@stmichaels-litchfield.org
SUMMARY:Church Office Open
DESCRIPTION:
URL:https://stmichaels-litchfield.org/event/church-office-open-14/2029-05-08/
LOCATION:Church Office\, 25 South Street\, Litchfield\, CT\, 06759\, United States
CATEGORIES:Church Office Event
END:VEVENT
BEGIN:VEVENT
DTSTART;TZID=America/New_York:20290508T120000
DTEND;TZID=America/New_York:20290508T130000
DTSTAMP:20260424T075318
CREATED:20260223T205039Z
LAST-MODIFIED:20260223T205039Z
UID:10293203-1872936000-1872939600@stmichaels-litchfield.org
SUMMARY:Lunch with Meredith
DESCRIPTION:
URL:https://stmichaels-litchfield.org/event/lunch-with-meredith-2/2029-05-08/
LOCATION:Community House in Library from April 9th forward
CATEGORIES:Church Event,Parish Events
END:VEVENT
BEGIN:VEVENT
DTSTART;TZID=America/New_York:20290508T151500
DTEND;TZID=America/New_York:20290508T163000
DTSTAMP:20260424T075318
CREATED:20260223T204456Z
LAST-MODIFIED:20260304T185946Z
UID:10293591-1872947700-1872952200@stmichaels-litchfield.org
SUMMARY:Property Committee meeting in Parish House Library
DESCRIPTION:
URL:https://stmichaels-litchfield.org/event/property-committee-meeting-in-parish-house-library-4/2029-05-08/
LOCATION:Parish House Library\, 25 South Street\, Litchfield\, CT\, 06759\, United States
CATEGORIES:Church Event
END:VEVENT
BEGIN:VEVENT
DTSTART;TZID=America/New_York:20290508T160000
DTEND;TZID=America/New_York:20290508T173000
DTSTAMP:20260424T075318
CREATED:20260331T205128Z
LAST-MODIFIED:20260331T205254Z
UID:10294858-1872950400-1872955800@stmichaels-litchfield.org
SUMMARY:Priest Search Committee
DESCRIPTION:
URL:https://stmichaels-litchfield.org/event/priest-search-committee-3-2-5/2029-05-08/
LOCATION:Parish House Library\, 25 South Street\, Litchfield\, CT\, 06759\, United States
END:VEVENT
BEGIN:VEVENT
DTSTART;TZID=America/New_York:20290508T190000
DTEND;TZID=America/New_York:20290508T200000
DTSTAMP:20260424T075318
CREATED:20211108T175914Z
LAST-MODIFIED:20260130T014621Z
UID:10286667-1872961200-1872964800@stmichaels-litchfield.org
SUMMARY:AA Meeting in Community House
DESCRIPTION:
URL:https://stmichaels-litchfield.org/event/aa-group-in-community-house-2/2029-05-08/
LOCATION:Community House in Library from April 9th forward
CATEGORIES:AA/NA Events
END:VEVENT
END:VCALENDAR