BEGIN:VCALENDAR
VERSION:2.0
PRODID:-//St. Michael&#039;s Church - ECPv6.15.20//NONSGML v1.0//EN
CALSCALE:GREGORIAN
METHOD:PUBLISH
X-WR-CALNAME:St. Michael&#039;s Church
X-ORIGINAL-URL:https://stmichaels-litchfield.org
X-WR-CALDESC:Events for St. Michael&#039;s Church
REFRESH-INTERVAL;VALUE=DURATION:PT1H
X-Robots-Tag:noindex
X-PUBLISHED-TTL:PT1H
BEGIN:VTIMEZONE
TZID:America/New_York
BEGIN:DAYLIGHT
TZOFFSETFROM:-0500
TZOFFSETTO:-0400
TZNAME:EDT
DTSTART:20280312T070000
END:DAYLIGHT
BEGIN:STANDARD
TZOFFSETFROM:-0400
TZOFFSETTO:-0500
TZNAME:EST
DTSTART:20281105T060000
END:STANDARD
BEGIN:DAYLIGHT
TZOFFSETFROM:-0500
TZOFFSETTO:-0400
TZNAME:EDT
DTSTART:20290311T070000
END:DAYLIGHT
BEGIN:STANDARD
TZOFFSETFROM:-0400
TZOFFSETTO:-0500
TZNAME:EST
DTSTART:20291104T060000
END:STANDARD
BEGIN:DAYLIGHT
TZOFFSETFROM:-0500
TZOFFSETTO:-0400
TZNAME:EDT
DTSTART:20300310T070000
END:DAYLIGHT
BEGIN:STANDARD
TZOFFSETFROM:-0400
TZOFFSETTO:-0500
TZNAME:EST
DTSTART:20301103T060000
END:STANDARD
END:VTIMEZONE
BEGIN:VEVENT
DTSTART;TZID=America/New_York:20290610T080000
DTEND;TZID=America/New_York:20290610T090000
DTSTAMP:20260424T093024
CREATED:20211108T181651Z
LAST-MODIFIED:20260327T134504Z
UID:10020566-1875772800-1875776400@stmichaels-litchfield.org
SUMMARY:Eucharist\, Rite I
DESCRIPTION:Spoken\, no music
URL:https://stmichaels-litchfield.org/event/sunday-eucharist/2029-06-10/
LOCATION:Chapel\, 25 South Street\, Litchfield\, CT\, 06759\, United States
CATEGORIES:Church Event,Parish Events
END:VEVENT
BEGIN:VEVENT
DTSTART;TZID=America/New_York:20290610T100000
DTEND;TZID=America/New_York:20290610T110000
DTSTAMP:20260424T093024
CREATED:20250403T150154Z
LAST-MODIFIED:20260422T181447Z
UID:10020652-1875780000-1875783600@stmichaels-litchfield.org
SUMMARY:Sunday Eucharist\, Rite II
DESCRIPTION:Rite II with music \nFollowed by Coffee Hour in the Community House
URL:https://stmichaels-litchfield.org/event/sunday-eucharist-2-3/2029-06-10/
LOCATION:Church\, 25 South Street\, Litchfield\, CT\, 06759\, United States
CATEGORIES:Church Event,Parish Events
END:VEVENT
BEGIN:VEVENT
DTSTART;TZID=America/New_York:20290610T110000
DTEND;TZID=America/New_York:20290610T140000
DTSTAMP:20260424T093024
CREATED:20230711T182541Z
LAST-MODIFIED:20250806T192214Z
UID:10287256-1875783600-1875794400@stmichaels-litchfield.org
SUMMARY:Coffee and Fellowship in the Community House
DESCRIPTION:
URL:https://stmichaels-litchfield.org/event/coffee-and-congregation-in-the-community-house/2029-06-10/
LOCATION:Community House in Library from April 9th forward
CATEGORIES:Church Event
END:VEVENT
BEGIN:VEVENT
DTSTART;TZID=America/New_York:20290610T112000
DTEND;TZID=America/New_York:20290610T123000
DTSTAMP:20260424T093024
CREATED:20260408T170910Z
LAST-MODIFIED:20260408T170910Z
UID:10296081-1875784800-1875789000@stmichaels-litchfield.org
SUMMARY:Vestry Meeting
DESCRIPTION:
URL:https://stmichaels-litchfield.org/event/vestry-meeting-4/2029-06-10/
CATEGORIES:Church Event,Parish Events
END:VEVENT
BEGIN:VEVENT
DTSTART;TZID=America/New_York:20290610T190000
DTEND;TZID=America/New_York:20290610T200000
DTSTAMP:20260424T093024
CREATED:20230619T142544Z
LAST-MODIFIED:20260416T160049Z
UID:10296155-1875812400-1875816000@stmichaels-litchfield.org
SUMMARY:AA Meeting in Community House
DESCRIPTION:
URL:https://stmichaels-litchfield.org/event/aa-meeting-in-community-house/2029-06-10/
LOCATION:Community House in Library from April 9th forward
END:VEVENT
END:VCALENDAR