BEGIN:VCALENDAR
VERSION:2.0
PRODID:-//St. Michael&#039;s Church - ECPv6.15.20//NONSGML v1.0//EN
CALSCALE:GREGORIAN
METHOD:PUBLISH
X-WR-CALNAME:St. Michael&#039;s Church
X-ORIGINAL-URL:https://stmichaels-litchfield.org
X-WR-CALDESC:Events for St. Michael&#039;s Church
REFRESH-INTERVAL;VALUE=DURATION:PT1H
X-Robots-Tag:noindex
X-PUBLISHED-TTL:PT1H
BEGIN:VTIMEZONE
TZID:America/New_York
BEGIN:DAYLIGHT
TZOFFSETFROM:-0500
TZOFFSETTO:-0400
TZNAME:EDT
DTSTART:20240310T070000
END:DAYLIGHT
BEGIN:STANDARD
TZOFFSETFROM:-0400
TZOFFSETTO:-0500
TZNAME:EST
DTSTART:20241103T060000
END:STANDARD
BEGIN:DAYLIGHT
TZOFFSETFROM:-0500
TZOFFSETTO:-0400
TZNAME:EDT
DTSTART:20250309T070000
END:DAYLIGHT
BEGIN:STANDARD
TZOFFSETFROM:-0400
TZOFFSETTO:-0500
TZNAME:EST
DTSTART:20251102T060000
END:STANDARD
BEGIN:DAYLIGHT
TZOFFSETFROM:-0500
TZOFFSETTO:-0400
TZNAME:EDT
DTSTART:20260308T070000
END:DAYLIGHT
BEGIN:STANDARD
TZOFFSETFROM:-0400
TZOFFSETTO:-0500
TZNAME:EST
DTSTART:20261101T060000
END:STANDARD
END:VTIMEZONE
BEGIN:VEVENT
DTSTART;TZID=America/New_York:20250628T083000
DTEND;TZID=America/New_York:20250628T093000
DTSTAMP:20260420T202457
CREATED:20230619T143626Z
LAST-MODIFIED:20230619T143720Z
UID:10010669-1751099400-1751103000@stmichaels-litchfield.org
SUMMARY:AA Meeting in Parish House Library
DESCRIPTION:
URL:https://stmichaels-litchfield.org/event/aa-meeting-in-community-house-2/2025-06-28/
LOCATION:Community House in Library from April 9th forward
CATEGORIES:AA/NA Events
END:VEVENT
BEGIN:VEVENT
DTSTART;TZID=America/New_York:20250630T070000
DTEND;TZID=America/New_York:20250630T073000
DTSTAMP:20260420T202457
CREATED:20230606T184551Z
LAST-MODIFIED:20230619T142647Z
UID:10005992-1751266800-1751268600@stmichaels-litchfield.org
SUMMARY:AA Meeting in the Parish House Library
DESCRIPTION:
URL:https://stmichaels-litchfield.org/event/aa-meeting-in-the-library/2025-06-30/
LOCATION:Parish House Library\, 25 South Street\, Litchfield\, CT\, 06759\, United States
CATEGORIES:AA/NA Events
END:VEVENT
BEGIN:VEVENT
DTSTART;TZID=America/New_York:20250701T190000
DTEND;TZID=America/New_York:20250701T200000
DTSTAMP:20260420T202457
CREATED:20211108T175914Z
LAST-MODIFIED:20260130T014621Z
UID:10010063-1751396400-1751400000@stmichaels-litchfield.org
SUMMARY:AA Meeting in Community House
DESCRIPTION:
URL:https://stmichaels-litchfield.org/event/aa-group-in-community-house-2/2025-07-01/
LOCATION:Community House in Library from April 9th forward
CATEGORIES:AA/NA Events
END:VEVENT
BEGIN:VEVENT
DTSTART;TZID=America/New_York:20250702T070000
DTEND;TZID=America/New_York:20250702T073000
DTSTAMP:20260420T202457
CREATED:20230606T184551Z
LAST-MODIFIED:20230619T142647Z
UID:10005993-1751439600-1751441400@stmichaels-litchfield.org
SUMMARY:AA Meeting in the Parish House Library
DESCRIPTION:
URL:https://stmichaels-litchfield.org/event/aa-meeting-in-the-library/2025-07-02/
LOCATION:Parish House Library\, 25 South Street\, Litchfield\, CT\, 06759\, United States
CATEGORIES:AA/NA Events
END:VEVENT
BEGIN:VEVENT
DTSTART;TZID=America/New_York:20250702T193000
DTEND;TZID=America/New_York:20250702T210000
DTSTAMP:20260420T202457
CREATED:20211108T180816Z
LAST-MODIFIED:20230714T003135Z
UID:10012417-1751484600-1751490000@stmichaels-litchfield.org
SUMMARY:NA meeting in Community House
DESCRIPTION:
URL:https://stmichaels-litchfield.org/event/narcotics-anonymous/2025-07-02/
LOCATION:Community House in Library from April 9th forward
CATEGORIES:AA/NA Events
END:VEVENT
BEGIN:VEVENT
DTSTART;TZID=America/New_York:20250704T070000
DTEND;TZID=America/New_York:20250704T073000
DTSTAMP:20260420T202457
CREATED:20230606T184551Z
LAST-MODIFIED:20230619T142647Z
UID:10005994-1751612400-1751614200@stmichaels-litchfield.org
SUMMARY:AA Meeting in the Parish House Library
DESCRIPTION:
URL:https://stmichaels-litchfield.org/event/aa-meeting-in-the-library/2025-07-04/
LOCATION:Parish House Library\, 25 South Street\, Litchfield\, CT\, 06759\, United States
CATEGORIES:AA/NA Events
END:VEVENT
BEGIN:VEVENT
DTSTART;TZID=America/New_York:20250705T083000
DTEND;TZID=America/New_York:20250705T093000
DTSTAMP:20260420T202457
CREATED:20230619T143626Z
LAST-MODIFIED:20230619T143720Z
UID:10010670-1751704200-1751707800@stmichaels-litchfield.org
SUMMARY:AA Meeting in Parish House Library
DESCRIPTION:
URL:https://stmichaels-litchfield.org/event/aa-meeting-in-community-house-2/2025-07-05/
LOCATION:Community House in Library from April 9th forward
CATEGORIES:AA/NA Events
END:VEVENT
BEGIN:VEVENT
DTSTART;TZID=America/New_York:20250707T070000
DTEND;TZID=America/New_York:20250707T073000
DTSTAMP:20260420T202457
CREATED:20230606T184551Z
LAST-MODIFIED:20230619T142647Z
UID:10005995-1751871600-1751873400@stmichaels-litchfield.org
SUMMARY:AA Meeting in the Parish House Library
DESCRIPTION:
URL:https://stmichaels-litchfield.org/event/aa-meeting-in-the-library/2025-07-07/
LOCATION:Parish House Library\, 25 South Street\, Litchfield\, CT\, 06759\, United States
CATEGORIES:AA/NA Events
END:VEVENT
BEGIN:VEVENT
DTSTART;TZID=America/New_York:20250708T190000
DTEND;TZID=America/New_York:20250708T200000
DTSTAMP:20260420T202457
CREATED:20211108T175914Z
LAST-MODIFIED:20260130T014621Z
UID:10010064-1752001200-1752004800@stmichaels-litchfield.org
SUMMARY:AA Meeting in Community House
DESCRIPTION:
URL:https://stmichaels-litchfield.org/event/aa-group-in-community-house-2/2025-07-08/
LOCATION:Community House in Library from April 9th forward
CATEGORIES:AA/NA Events
END:VEVENT
BEGIN:VEVENT
DTSTART;TZID=America/New_York:20250709T070000
DTEND;TZID=America/New_York:20250709T073000
DTSTAMP:20260420T202457
CREATED:20230606T184551Z
LAST-MODIFIED:20230619T142647Z
UID:10005996-1752044400-1752046200@stmichaels-litchfield.org
SUMMARY:AA Meeting in the Parish House Library
DESCRIPTION:
URL:https://stmichaels-litchfield.org/event/aa-meeting-in-the-library/2025-07-09/
LOCATION:Parish House Library\, 25 South Street\, Litchfield\, CT\, 06759\, United States
CATEGORIES:AA/NA Events
END:VEVENT
BEGIN:VEVENT
DTSTART;TZID=America/New_York:20250709T193000
DTEND;TZID=America/New_York:20250709T210000
DTSTAMP:20260420T202457
CREATED:20211108T180816Z
LAST-MODIFIED:20230714T003135Z
UID:10012418-1752089400-1752094800@stmichaels-litchfield.org
SUMMARY:NA meeting in Community House
DESCRIPTION:
URL:https://stmichaels-litchfield.org/event/narcotics-anonymous/2025-07-09/
LOCATION:Community House in Library from April 9th forward
CATEGORIES:AA/NA Events
END:VEVENT
BEGIN:VEVENT
DTSTART;TZID=America/New_York:20250711T070000
DTEND;TZID=America/New_York:20250711T073000
DTSTAMP:20260420T202457
CREATED:20230606T184551Z
LAST-MODIFIED:20230619T142647Z
UID:10005997-1752217200-1752219000@stmichaels-litchfield.org
SUMMARY:AA Meeting in the Parish House Library
DESCRIPTION:
URL:https://stmichaels-litchfield.org/event/aa-meeting-in-the-library/2025-07-11/
LOCATION:Parish House Library\, 25 South Street\, Litchfield\, CT\, 06759\, United States
CATEGORIES:AA/NA Events
END:VEVENT
BEGIN:VEVENT
DTSTART;TZID=America/New_York:20250712T083000
DTEND;TZID=America/New_York:20250712T093000
DTSTAMP:20260420T202457
CREATED:20230619T143626Z
LAST-MODIFIED:20230619T143720Z
UID:10010671-1752309000-1752312600@stmichaels-litchfield.org
SUMMARY:AA Meeting in Parish House Library
DESCRIPTION:
URL:https://stmichaels-litchfield.org/event/aa-meeting-in-community-house-2/2025-07-12/
LOCATION:Community House in Library from April 9th forward
CATEGORIES:AA/NA Events
END:VEVENT
BEGIN:VEVENT
DTSTART;TZID=America/New_York:20250714T070000
DTEND;TZID=America/New_York:20250714T073000
DTSTAMP:20260420T202457
CREATED:20230606T184551Z
LAST-MODIFIED:20230619T142647Z
UID:10005998-1752476400-1752478200@stmichaels-litchfield.org
SUMMARY:AA Meeting in the Parish House Library
DESCRIPTION:
URL:https://stmichaels-litchfield.org/event/aa-meeting-in-the-library/2025-07-14/
LOCATION:Parish House Library\, 25 South Street\, Litchfield\, CT\, 06759\, United States
CATEGORIES:AA/NA Events
END:VEVENT
BEGIN:VEVENT
DTSTART;TZID=America/New_York:20250715T190000
DTEND;TZID=America/New_York:20250715T200000
DTSTAMP:20260420T202457
CREATED:20211108T175914Z
LAST-MODIFIED:20260130T014621Z
UID:10010065-1752606000-1752609600@stmichaels-litchfield.org
SUMMARY:AA Meeting in Community House
DESCRIPTION:
URL:https://stmichaels-litchfield.org/event/aa-group-in-community-house-2/2025-07-15/
LOCATION:Community House in Library from April 9th forward
CATEGORIES:AA/NA Events
END:VEVENT
BEGIN:VEVENT
DTSTART;TZID=America/New_York:20250716T070000
DTEND;TZID=America/New_York:20250716T073000
DTSTAMP:20260420T202457
CREATED:20230606T184551Z
LAST-MODIFIED:20230619T142647Z
UID:10005999-1752649200-1752651000@stmichaels-litchfield.org
SUMMARY:AA Meeting in the Parish House Library
DESCRIPTION:
URL:https://stmichaels-litchfield.org/event/aa-meeting-in-the-library/2025-07-16/
LOCATION:Parish House Library\, 25 South Street\, Litchfield\, CT\, 06759\, United States
CATEGORIES:AA/NA Events
END:VEVENT
BEGIN:VEVENT
DTSTART;TZID=America/New_York:20250716T193000
DTEND;TZID=America/New_York:20250716T210000
DTSTAMP:20260420T202457
CREATED:20211108T180816Z
LAST-MODIFIED:20230714T003135Z
UID:10012419-1752694200-1752699600@stmichaels-litchfield.org
SUMMARY:NA meeting in Community House
DESCRIPTION:
URL:https://stmichaels-litchfield.org/event/narcotics-anonymous/2025-07-16/
LOCATION:Community House in Library from April 9th forward
CATEGORIES:AA/NA Events
END:VEVENT
BEGIN:VEVENT
DTSTART;TZID=America/New_York:20250718T070000
DTEND;TZID=America/New_York:20250718T073000
DTSTAMP:20260420T202457
CREATED:20230606T184551Z
LAST-MODIFIED:20230619T142647Z
UID:10006000-1752822000-1752823800@stmichaels-litchfield.org
SUMMARY:AA Meeting in the Parish House Library
DESCRIPTION:
URL:https://stmichaels-litchfield.org/event/aa-meeting-in-the-library/2025-07-18/
LOCATION:Parish House Library\, 25 South Street\, Litchfield\, CT\, 06759\, United States
CATEGORIES:AA/NA Events
END:VEVENT
BEGIN:VEVENT
DTSTART;TZID=America/New_York:20250719T083000
DTEND;TZID=America/New_York:20250719T093000
DTSTAMP:20260420T202457
CREATED:20230619T143626Z
LAST-MODIFIED:20230619T143720Z
UID:10010672-1752913800-1752917400@stmichaels-litchfield.org
SUMMARY:AA Meeting in Parish House Library
DESCRIPTION:
URL:https://stmichaels-litchfield.org/event/aa-meeting-in-community-house-2/2025-07-19/
LOCATION:Community House in Library from April 9th forward
CATEGORIES:AA/NA Events
END:VEVENT
BEGIN:VEVENT
DTSTART;TZID=America/New_York:20250721T070000
DTEND;TZID=America/New_York:20250721T073000
DTSTAMP:20260420T202457
CREATED:20230606T184551Z
LAST-MODIFIED:20230619T142647Z
UID:10006001-1753081200-1753083000@stmichaels-litchfield.org
SUMMARY:AA Meeting in the Parish House Library
DESCRIPTION:
URL:https://stmichaels-litchfield.org/event/aa-meeting-in-the-library/2025-07-21/
LOCATION:Parish House Library\, 25 South Street\, Litchfield\, CT\, 06759\, United States
CATEGORIES:AA/NA Events
END:VEVENT
BEGIN:VEVENT
DTSTART;TZID=America/New_York:20250722T190000
DTEND;TZID=America/New_York:20250722T200000
DTSTAMP:20260420T202457
CREATED:20211108T175914Z
LAST-MODIFIED:20260130T014621Z
UID:10010066-1753210800-1753214400@stmichaels-litchfield.org
SUMMARY:AA Meeting in Community House
DESCRIPTION:
URL:https://stmichaels-litchfield.org/event/aa-group-in-community-house-2/2025-07-22/
LOCATION:Community House in Library from April 9th forward
CATEGORIES:AA/NA Events
END:VEVENT
BEGIN:VEVENT
DTSTART;TZID=America/New_York:20250723T070000
DTEND;TZID=America/New_York:20250723T073000
DTSTAMP:20260420T202457
CREATED:20230606T184551Z
LAST-MODIFIED:20230619T142647Z
UID:10006002-1753254000-1753255800@stmichaels-litchfield.org
SUMMARY:AA Meeting in the Parish House Library
DESCRIPTION:
URL:https://stmichaels-litchfield.org/event/aa-meeting-in-the-library/2025-07-23/
LOCATION:Parish House Library\, 25 South Street\, Litchfield\, CT\, 06759\, United States
CATEGORIES:AA/NA Events
END:VEVENT
BEGIN:VEVENT
DTSTART;TZID=America/New_York:20250723T193000
DTEND;TZID=America/New_York:20250723T210000
DTSTAMP:20260420T202457
CREATED:20211108T180816Z
LAST-MODIFIED:20230714T003135Z
UID:10012420-1753299000-1753304400@stmichaels-litchfield.org
SUMMARY:NA meeting in Community House
DESCRIPTION:
URL:https://stmichaels-litchfield.org/event/narcotics-anonymous/2025-07-23/
LOCATION:Community House in Library from April 9th forward
CATEGORIES:AA/NA Events
END:VEVENT
BEGIN:VEVENT
DTSTART;TZID=America/New_York:20250725T070000
DTEND;TZID=America/New_York:20250725T073000
DTSTAMP:20260420T202457
CREATED:20230606T184551Z
LAST-MODIFIED:20230619T142647Z
UID:10006003-1753426800-1753428600@stmichaels-litchfield.org
SUMMARY:AA Meeting in the Parish House Library
DESCRIPTION:
URL:https://stmichaels-litchfield.org/event/aa-meeting-in-the-library/2025-07-25/
LOCATION:Parish House Library\, 25 South Street\, Litchfield\, CT\, 06759\, United States
CATEGORIES:AA/NA Events
END:VEVENT
BEGIN:VEVENT
DTSTART;TZID=America/New_York:20250726T083000
DTEND;TZID=America/New_York:20250726T093000
DTSTAMP:20260420T202457
CREATED:20230619T143626Z
LAST-MODIFIED:20230619T143720Z
UID:10010673-1753518600-1753522200@stmichaels-litchfield.org
SUMMARY:AA Meeting in Parish House Library
DESCRIPTION:
URL:https://stmichaels-litchfield.org/event/aa-meeting-in-community-house-2/2025-07-26/
LOCATION:Community House in Library from April 9th forward
CATEGORIES:AA/NA Events
END:VEVENT
BEGIN:VEVENT
DTSTART;TZID=America/New_York:20250728T070000
DTEND;TZID=America/New_York:20250728T073000
DTSTAMP:20260420T202457
CREATED:20230606T184551Z
LAST-MODIFIED:20230619T142647Z
UID:10006004-1753686000-1753687800@stmichaels-litchfield.org
SUMMARY:AA Meeting in the Parish House Library
DESCRIPTION:
URL:https://stmichaels-litchfield.org/event/aa-meeting-in-the-library/2025-07-28/
LOCATION:Parish House Library\, 25 South Street\, Litchfield\, CT\, 06759\, United States
CATEGORIES:AA/NA Events
END:VEVENT
BEGIN:VEVENT
DTSTART;TZID=America/New_York:20250729T190000
DTEND;TZID=America/New_York:20250729T200000
DTSTAMP:20260420T202457
CREATED:20211108T175914Z
LAST-MODIFIED:20260130T014621Z
UID:10010067-1753815600-1753819200@stmichaels-litchfield.org
SUMMARY:AA Meeting in Community House
DESCRIPTION:
URL:https://stmichaels-litchfield.org/event/aa-group-in-community-house-2/2025-07-29/
LOCATION:Community House in Library from April 9th forward
CATEGORIES:AA/NA Events
END:VEVENT
BEGIN:VEVENT
DTSTART;TZID=America/New_York:20250730T070000
DTEND;TZID=America/New_York:20250730T073000
DTSTAMP:20260420T202457
CREATED:20230606T184551Z
LAST-MODIFIED:20230619T142647Z
UID:10006005-1753858800-1753860600@stmichaels-litchfield.org
SUMMARY:AA Meeting in the Parish House Library
DESCRIPTION:
URL:https://stmichaels-litchfield.org/event/aa-meeting-in-the-library/2025-07-30/
LOCATION:Parish House Library\, 25 South Street\, Litchfield\, CT\, 06759\, United States
CATEGORIES:AA/NA Events
END:VEVENT
BEGIN:VEVENT
DTSTART;TZID=America/New_York:20250730T193000
DTEND;TZID=America/New_York:20250730T210000
DTSTAMP:20260420T202457
CREATED:20211108T180816Z
LAST-MODIFIED:20230714T003135Z
UID:10012421-1753903800-1753909200@stmichaels-litchfield.org
SUMMARY:NA meeting in Community House
DESCRIPTION:
URL:https://stmichaels-litchfield.org/event/narcotics-anonymous/2025-07-30/
LOCATION:Community House in Library from April 9th forward
CATEGORIES:AA/NA Events
END:VEVENT
BEGIN:VEVENT
DTSTART;TZID=America/New_York:20250801T070000
DTEND;TZID=America/New_York:20250801T073000
DTSTAMP:20260420T202457
CREATED:20230606T184551Z
LAST-MODIFIED:20230619T142647Z
UID:10006006-1754031600-1754033400@stmichaels-litchfield.org
SUMMARY:AA Meeting in the Parish House Library
DESCRIPTION:
URL:https://stmichaels-litchfield.org/event/aa-meeting-in-the-library/2025-08-01/
LOCATION:Parish House Library\, 25 South Street\, Litchfield\, CT\, 06759\, United States
CATEGORIES:AA/NA Events
END:VEVENT
END:VCALENDAR