BEGIN:VCALENDAR
VERSION:2.0
PRODID:-//St. Michael&#039;s Church - ECPv6.15.20//NONSGML v1.0//EN
CALSCALE:GREGORIAN
METHOD:PUBLISH
X-ORIGINAL-URL:https://stmichaels-litchfield.org
X-WR-CALDESC:Events for St. Michael&#039;s Church
REFRESH-INTERVAL;VALUE=DURATION:PT1H
X-Robots-Tag:noindex
X-PUBLISHED-TTL:PT1H
BEGIN:VTIMEZONE
TZID:America/New_York
BEGIN:DAYLIGHT
TZOFFSETFROM:-0500
TZOFFSETTO:-0400
TZNAME:EDT
DTSTART:20260308T070000
END:DAYLIGHT
BEGIN:STANDARD
TZOFFSETFROM:-0400
TZOFFSETTO:-0500
TZNAME:EST
DTSTART:20261101T060000
END:STANDARD
BEGIN:DAYLIGHT
TZOFFSETFROM:-0500
TZOFFSETTO:-0400
TZNAME:EDT
DTSTART:20270314T070000
END:DAYLIGHT
BEGIN:STANDARD
TZOFFSETFROM:-0400
TZOFFSETTO:-0500
TZNAME:EST
DTSTART:20271107T060000
END:STANDARD
BEGIN:DAYLIGHT
TZOFFSETFROM:-0500
TZOFFSETTO:-0400
TZNAME:EDT
DTSTART:20280312T070000
END:DAYLIGHT
BEGIN:STANDARD
TZOFFSETFROM:-0400
TZOFFSETTO:-0500
TZNAME:EST
DTSTART:20281105T060000
END:STANDARD
END:VTIMEZONE
BEGIN:VEVENT
DTSTART;TZID=America/New_York:20270125T070000
DTEND;TZID=America/New_York:20270125T073000
DTSTAMP:20260421T053152
CREATED:20230606T184551Z
LAST-MODIFIED:20230619T142647Z
UID:10006238-1800860400-1800862200@stmichaels-litchfield.org
SUMMARY:AA Meeting in the Parish House Library
DESCRIPTION:
URL:https://stmichaels-litchfield.org/event/aa-meeting-in-the-library/2027-01-25/
LOCATION:Parish House Library\, 25 South Street\, Litchfield\, CT\, 06759\, United States
CATEGORIES:AA/NA Events
END:VEVENT
BEGIN:VEVENT
DTSTART;TZID=America/New_York:20270126T190000
DTEND;TZID=America/New_York:20270126T200000
DTSTAMP:20260421T053152
CREATED:20211108T175914Z
LAST-MODIFIED:20260130T014621Z
UID:10010145-1800990000-1800993600@stmichaels-litchfield.org
SUMMARY:AA Meeting in Community House
DESCRIPTION:
URL:https://stmichaels-litchfield.org/event/aa-group-in-community-house-2/2027-01-26/
LOCATION:Community House in Library from April 9th forward
CATEGORIES:AA/NA Events
END:VEVENT
BEGIN:VEVENT
DTSTART;TZID=America/New_York:20270127T070000
DTEND;TZID=America/New_York:20270127T073000
DTSTAMP:20260421T053152
CREATED:20230606T184551Z
LAST-MODIFIED:20230619T142647Z
UID:10006239-1801033200-1801035000@stmichaels-litchfield.org
SUMMARY:AA Meeting in the Parish House Library
DESCRIPTION:
URL:https://stmichaels-litchfield.org/event/aa-meeting-in-the-library/2027-01-27/
LOCATION:Parish House Library\, 25 South Street\, Litchfield\, CT\, 06759\, United States
CATEGORIES:AA/NA Events
END:VEVENT
BEGIN:VEVENT
DTSTART;TZID=America/New_York:20270127T193000
DTEND;TZID=America/New_York:20270127T210000
DTSTAMP:20260421T053152
CREATED:20211108T180816Z
LAST-MODIFIED:20230714T003135Z
UID:10012499-1801078200-1801083600@stmichaels-litchfield.org
SUMMARY:NA meeting in Community House
DESCRIPTION:
URL:https://stmichaels-litchfield.org/event/narcotics-anonymous/2027-01-27/
LOCATION:Community House in Library from April 9th forward
CATEGORIES:AA/NA Events
END:VEVENT
BEGIN:VEVENT
DTSTART;TZID=America/New_York:20270129T070000
DTEND;TZID=America/New_York:20270129T073000
DTSTAMP:20260421T053152
CREATED:20230606T184551Z
LAST-MODIFIED:20230619T142647Z
UID:10006240-1801206000-1801207800@stmichaels-litchfield.org
SUMMARY:AA Meeting in the Parish House Library
DESCRIPTION:
URL:https://stmichaels-litchfield.org/event/aa-meeting-in-the-library/2027-01-29/
LOCATION:Parish House Library\, 25 South Street\, Litchfield\, CT\, 06759\, United States
CATEGORIES:AA/NA Events
END:VEVENT
BEGIN:VEVENT
DTSTART;TZID=America/New_York:20270130T083000
DTEND;TZID=America/New_York:20270130T093000
DTSTAMP:20260421T053152
CREATED:20230619T143626Z
LAST-MODIFIED:20230619T143720Z
UID:10010752-1801297800-1801301400@stmichaels-litchfield.org
SUMMARY:AA Meeting in Parish House Library
DESCRIPTION:
URL:https://stmichaels-litchfield.org/event/aa-meeting-in-community-house-2/2027-01-30/
LOCATION:Community House in Library from April 9th forward
CATEGORIES:AA/NA Events
END:VEVENT
BEGIN:VEVENT
DTSTART;TZID=America/New_York:20270201T070000
DTEND;TZID=America/New_York:20270201T073000
DTSTAMP:20260421T053152
CREATED:20230606T184551Z
LAST-MODIFIED:20230619T142647Z
UID:10006241-1801465200-1801467000@stmichaels-litchfield.org
SUMMARY:AA Meeting in the Parish House Library
DESCRIPTION:
URL:https://stmichaels-litchfield.org/event/aa-meeting-in-the-library/2027-02-01/
LOCATION:Parish House Library\, 25 South Street\, Litchfield\, CT\, 06759\, United States
CATEGORIES:AA/NA Events
END:VEVENT
BEGIN:VEVENT
DTSTART;TZID=America/New_York:20270202T190000
DTEND;TZID=America/New_York:20270202T200000
DTSTAMP:20260421T053152
CREATED:20211108T175914Z
LAST-MODIFIED:20260130T014621Z
UID:10010146-1801594800-1801598400@stmichaels-litchfield.org
SUMMARY:AA Meeting in Community House
DESCRIPTION:
URL:https://stmichaels-litchfield.org/event/aa-group-in-community-house-2/2027-02-02/
LOCATION:Community House in Library from April 9th forward
CATEGORIES:AA/NA Events
END:VEVENT
BEGIN:VEVENT
DTSTART;TZID=America/New_York:20270203T070000
DTEND;TZID=America/New_York:20270203T073000
DTSTAMP:20260421T053152
CREATED:20230606T184551Z
LAST-MODIFIED:20230619T142647Z
UID:10006242-1801638000-1801639800@stmichaels-litchfield.org
SUMMARY:AA Meeting in the Parish House Library
DESCRIPTION:
URL:https://stmichaels-litchfield.org/event/aa-meeting-in-the-library/2027-02-03/
LOCATION:Parish House Library\, 25 South Street\, Litchfield\, CT\, 06759\, United States
CATEGORIES:AA/NA Events
END:VEVENT
BEGIN:VEVENT
DTSTART;TZID=America/New_York:20270203T193000
DTEND;TZID=America/New_York:20270203T210000
DTSTAMP:20260421T053152
CREATED:20211108T180816Z
LAST-MODIFIED:20230714T003135Z
UID:10012500-1801683000-1801688400@stmichaels-litchfield.org
SUMMARY:NA meeting in Community House
DESCRIPTION:
URL:https://stmichaels-litchfield.org/event/narcotics-anonymous/2027-02-03/
LOCATION:Community House in Library from April 9th forward
CATEGORIES:AA/NA Events
END:VEVENT
BEGIN:VEVENT
DTSTART;TZID=America/New_York:20270205T070000
DTEND;TZID=America/New_York:20270205T073000
DTSTAMP:20260421T053152
CREATED:20230606T184551Z
LAST-MODIFIED:20230619T142647Z
UID:10006243-1801810800-1801812600@stmichaels-litchfield.org
SUMMARY:AA Meeting in the Parish House Library
DESCRIPTION:
URL:https://stmichaels-litchfield.org/event/aa-meeting-in-the-library/2027-02-05/
LOCATION:Parish House Library\, 25 South Street\, Litchfield\, CT\, 06759\, United States
CATEGORIES:AA/NA Events
END:VEVENT
BEGIN:VEVENT
DTSTART;TZID=America/New_York:20270206T083000
DTEND;TZID=America/New_York:20270206T093000
DTSTAMP:20260421T053152
CREATED:20230619T143626Z
LAST-MODIFIED:20230619T143720Z
UID:10010753-1801902600-1801906200@stmichaels-litchfield.org
SUMMARY:AA Meeting in Parish House Library
DESCRIPTION:
URL:https://stmichaels-litchfield.org/event/aa-meeting-in-community-house-2/2027-02-06/
LOCATION:Community House in Library from April 9th forward
CATEGORIES:AA/NA Events
END:VEVENT
BEGIN:VEVENT
DTSTART;TZID=America/New_York:20270208T070000
DTEND;TZID=America/New_York:20270208T073000
DTSTAMP:20260421T053152
CREATED:20230606T184551Z
LAST-MODIFIED:20230619T142647Z
UID:10006244-1802070000-1802071800@stmichaels-litchfield.org
SUMMARY:AA Meeting in the Parish House Library
DESCRIPTION:
URL:https://stmichaels-litchfield.org/event/aa-meeting-in-the-library/2027-02-08/
LOCATION:Parish House Library\, 25 South Street\, Litchfield\, CT\, 06759\, United States
CATEGORIES:AA/NA Events
END:VEVENT
BEGIN:VEVENT
DTSTART;TZID=America/New_York:20270209T190000
DTEND;TZID=America/New_York:20270209T200000
DTSTAMP:20260421T053152
CREATED:20211108T175914Z
LAST-MODIFIED:20260130T014621Z
UID:10010147-1802199600-1802203200@stmichaels-litchfield.org
SUMMARY:AA Meeting in Community House
DESCRIPTION:
URL:https://stmichaels-litchfield.org/event/aa-group-in-community-house-2/2027-02-09/
LOCATION:Community House in Library from April 9th forward
CATEGORIES:AA/NA Events
END:VEVENT
BEGIN:VEVENT
DTSTART;TZID=America/New_York:20270210T070000
DTEND;TZID=America/New_York:20270210T073000
DTSTAMP:20260421T053152
CREATED:20230606T184551Z
LAST-MODIFIED:20230619T142647Z
UID:10006245-1802242800-1802244600@stmichaels-litchfield.org
SUMMARY:AA Meeting in the Parish House Library
DESCRIPTION:
URL:https://stmichaels-litchfield.org/event/aa-meeting-in-the-library/2027-02-10/
LOCATION:Parish House Library\, 25 South Street\, Litchfield\, CT\, 06759\, United States
CATEGORIES:AA/NA Events
END:VEVENT
BEGIN:VEVENT
DTSTART;TZID=America/New_York:20270210T193000
DTEND;TZID=America/New_York:20270210T210000
DTSTAMP:20260421T053152
CREATED:20211108T180816Z
LAST-MODIFIED:20230714T003135Z
UID:10012501-1802287800-1802293200@stmichaels-litchfield.org
SUMMARY:NA meeting in Community House
DESCRIPTION:
URL:https://stmichaels-litchfield.org/event/narcotics-anonymous/2027-02-10/
LOCATION:Community House in Library from April 9th forward
CATEGORIES:AA/NA Events
END:VEVENT
BEGIN:VEVENT
DTSTART;TZID=America/New_York:20270212T070000
DTEND;TZID=America/New_York:20270212T073000
DTSTAMP:20260421T053152
CREATED:20230606T184551Z
LAST-MODIFIED:20230619T142647Z
UID:10006246-1802415600-1802417400@stmichaels-litchfield.org
SUMMARY:AA Meeting in the Parish House Library
DESCRIPTION:
URL:https://stmichaels-litchfield.org/event/aa-meeting-in-the-library/2027-02-12/
LOCATION:Parish House Library\, 25 South Street\, Litchfield\, CT\, 06759\, United States
CATEGORIES:AA/NA Events
END:VEVENT
BEGIN:VEVENT
DTSTART;TZID=America/New_York:20270213T083000
DTEND;TZID=America/New_York:20270213T093000
DTSTAMP:20260421T053152
CREATED:20230619T143626Z
LAST-MODIFIED:20230619T143720Z
UID:10010754-1802507400-1802511000@stmichaels-litchfield.org
SUMMARY:AA Meeting in Parish House Library
DESCRIPTION:
URL:https://stmichaels-litchfield.org/event/aa-meeting-in-community-house-2/2027-02-13/
LOCATION:Community House in Library from April 9th forward
CATEGORIES:AA/NA Events
END:VEVENT
BEGIN:VEVENT
DTSTART;TZID=America/New_York:20270215T070000
DTEND;TZID=America/New_York:20270215T073000
DTSTAMP:20260421T053152
CREATED:20230606T184551Z
LAST-MODIFIED:20230619T142647Z
UID:10006247-1802674800-1802676600@stmichaels-litchfield.org
SUMMARY:AA Meeting in the Parish House Library
DESCRIPTION:
URL:https://stmichaels-litchfield.org/event/aa-meeting-in-the-library/2027-02-15/
LOCATION:Parish House Library\, 25 South Street\, Litchfield\, CT\, 06759\, United States
CATEGORIES:AA/NA Events
END:VEVENT
BEGIN:VEVENT
DTSTART;TZID=America/New_York:20270216T190000
DTEND;TZID=America/New_York:20270216T200000
DTSTAMP:20260421T053152
CREATED:20211108T175914Z
LAST-MODIFIED:20260130T014621Z
UID:10010148-1802804400-1802808000@stmichaels-litchfield.org
SUMMARY:AA Meeting in Community House
DESCRIPTION:
URL:https://stmichaels-litchfield.org/event/aa-group-in-community-house-2/2027-02-16/
LOCATION:Community House in Library from April 9th forward
CATEGORIES:AA/NA Events
END:VEVENT
BEGIN:VEVENT
DTSTART;TZID=America/New_York:20270217T070000
DTEND;TZID=America/New_York:20270217T073000
DTSTAMP:20260421T053152
CREATED:20230606T184551Z
LAST-MODIFIED:20230619T142647Z
UID:10006248-1802847600-1802849400@stmichaels-litchfield.org
SUMMARY:AA Meeting in the Parish House Library
DESCRIPTION:
URL:https://stmichaels-litchfield.org/event/aa-meeting-in-the-library/2027-02-17/
LOCATION:Parish House Library\, 25 South Street\, Litchfield\, CT\, 06759\, United States
CATEGORIES:AA/NA Events
END:VEVENT
BEGIN:VEVENT
DTSTART;TZID=America/New_York:20270217T193000
DTEND;TZID=America/New_York:20270217T210000
DTSTAMP:20260421T053152
CREATED:20211108T180816Z
LAST-MODIFIED:20230714T003135Z
UID:10012502-1802892600-1802898000@stmichaels-litchfield.org
SUMMARY:NA meeting in Community House
DESCRIPTION:
URL:https://stmichaels-litchfield.org/event/narcotics-anonymous/2027-02-17/
LOCATION:Community House in Library from April 9th forward
CATEGORIES:AA/NA Events
END:VEVENT
BEGIN:VEVENT
DTSTART;TZID=America/New_York:20270219T070000
DTEND;TZID=America/New_York:20270219T073000
DTSTAMP:20260421T053152
CREATED:20230606T184551Z
LAST-MODIFIED:20230619T142647Z
UID:10006249-1803020400-1803022200@stmichaels-litchfield.org
SUMMARY:AA Meeting in the Parish House Library
DESCRIPTION:
URL:https://stmichaels-litchfield.org/event/aa-meeting-in-the-library/2027-02-19/
LOCATION:Parish House Library\, 25 South Street\, Litchfield\, CT\, 06759\, United States
CATEGORIES:AA/NA Events
END:VEVENT
BEGIN:VEVENT
DTSTART;TZID=America/New_York:20270220T083000
DTEND;TZID=America/New_York:20270220T093000
DTSTAMP:20260421T053152
CREATED:20230619T143626Z
LAST-MODIFIED:20230619T143720Z
UID:10010755-1803112200-1803115800@stmichaels-litchfield.org
SUMMARY:AA Meeting in Parish House Library
DESCRIPTION:
URL:https://stmichaels-litchfield.org/event/aa-meeting-in-community-house-2/2027-02-20/
LOCATION:Community House in Library from April 9th forward
CATEGORIES:AA/NA Events
END:VEVENT
BEGIN:VEVENT
DTSTART;TZID=America/New_York:20270222T070000
DTEND;TZID=America/New_York:20270222T073000
DTSTAMP:20260421T053152
CREATED:20230606T184551Z
LAST-MODIFIED:20230619T142647Z
UID:10006250-1803279600-1803281400@stmichaels-litchfield.org
SUMMARY:AA Meeting in the Parish House Library
DESCRIPTION:
URL:https://stmichaels-litchfield.org/event/aa-meeting-in-the-library/2027-02-22/
LOCATION:Parish House Library\, 25 South Street\, Litchfield\, CT\, 06759\, United States
CATEGORIES:AA/NA Events
END:VEVENT
BEGIN:VEVENT
DTSTART;TZID=America/New_York:20270223T190000
DTEND;TZID=America/New_York:20270223T200000
DTSTAMP:20260421T053152
CREATED:20211108T175914Z
LAST-MODIFIED:20260130T014621Z
UID:10010149-1803409200-1803412800@stmichaels-litchfield.org
SUMMARY:AA Meeting in Community House
DESCRIPTION:
URL:https://stmichaels-litchfield.org/event/aa-group-in-community-house-2/2027-02-23/
LOCATION:Community House in Library from April 9th forward
CATEGORIES:AA/NA Events
END:VEVENT
BEGIN:VEVENT
DTSTART;TZID=America/New_York:20270224T070000
DTEND;TZID=America/New_York:20270224T073000
DTSTAMP:20260421T053152
CREATED:20230606T184551Z
LAST-MODIFIED:20230619T142647Z
UID:10006251-1803452400-1803454200@stmichaels-litchfield.org
SUMMARY:AA Meeting in the Parish House Library
DESCRIPTION:
URL:https://stmichaels-litchfield.org/event/aa-meeting-in-the-library/2027-02-24/
LOCATION:Parish House Library\, 25 South Street\, Litchfield\, CT\, 06759\, United States
CATEGORIES:AA/NA Events
END:VEVENT
BEGIN:VEVENT
DTSTART;TZID=America/New_York:20270224T193000
DTEND;TZID=America/New_York:20270224T210000
DTSTAMP:20260421T053152
CREATED:20211108T180816Z
LAST-MODIFIED:20230714T003135Z
UID:10012503-1803497400-1803502800@stmichaels-litchfield.org
SUMMARY:NA meeting in Community House
DESCRIPTION:
URL:https://stmichaels-litchfield.org/event/narcotics-anonymous/2027-02-24/
LOCATION:Community House in Library from April 9th forward
CATEGORIES:AA/NA Events
END:VEVENT
BEGIN:VEVENT
DTSTART;TZID=America/New_York:20270226T070000
DTEND;TZID=America/New_York:20270226T073000
DTSTAMP:20260421T053152
CREATED:20230606T184551Z
LAST-MODIFIED:20230619T142647Z
UID:10006252-1803625200-1803627000@stmichaels-litchfield.org
SUMMARY:AA Meeting in the Parish House Library
DESCRIPTION:
URL:https://stmichaels-litchfield.org/event/aa-meeting-in-the-library/2027-02-26/
LOCATION:Parish House Library\, 25 South Street\, Litchfield\, CT\, 06759\, United States
CATEGORIES:AA/NA Events
END:VEVENT
BEGIN:VEVENT
DTSTART;TZID=America/New_York:20270227T083000
DTEND;TZID=America/New_York:20270227T093000
DTSTAMP:20260421T053152
CREATED:20230619T143626Z
LAST-MODIFIED:20230619T143720Z
UID:10010756-1803717000-1803720600@stmichaels-litchfield.org
SUMMARY:AA Meeting in Parish House Library
DESCRIPTION:
URL:https://stmichaels-litchfield.org/event/aa-meeting-in-community-house-2/2027-02-27/
LOCATION:Community House in Library from April 9th forward
CATEGORIES:AA/NA Events
END:VEVENT
END:VCALENDAR