BEGIN:VCALENDAR
VERSION:2.0
PRODID:-//St. Michael&#039;s Church - ECPv6.15.20//NONSGML v1.0//EN
CALSCALE:GREGORIAN
METHOD:PUBLISH
X-ORIGINAL-URL:https://stmichaels-litchfield.org
X-WR-CALDESC:Events for St. Michael&#039;s Church
REFRESH-INTERVAL;VALUE=DURATION:PT1H
X-Robots-Tag:noindex
X-PUBLISHED-TTL:PT1H
BEGIN:VTIMEZONE
TZID:America/New_York
BEGIN:DAYLIGHT
TZOFFSETFROM:-0500
TZOFFSETTO:-0400
TZNAME:EDT
DTSTART:20240310T070000
END:DAYLIGHT
BEGIN:STANDARD
TZOFFSETFROM:-0400
TZOFFSETTO:-0500
TZNAME:EST
DTSTART:20241103T060000
END:STANDARD
BEGIN:DAYLIGHT
TZOFFSETFROM:-0500
TZOFFSETTO:-0400
TZNAME:EDT
DTSTART:20250309T070000
END:DAYLIGHT
BEGIN:STANDARD
TZOFFSETFROM:-0400
TZOFFSETTO:-0500
TZNAME:EST
DTSTART:20251102T060000
END:STANDARD
BEGIN:DAYLIGHT
TZOFFSETFROM:-0500
TZOFFSETTO:-0400
TZNAME:EDT
DTSTART:20260308T070000
END:DAYLIGHT
BEGIN:STANDARD
TZOFFSETFROM:-0400
TZOFFSETTO:-0500
TZNAME:EST
DTSTART:20261101T060000
END:STANDARD
END:VTIMEZONE
BEGIN:VEVENT
DTSTART;TZID=America/New_York:20251103T070000
DTEND;TZID=America/New_York:20251103T073000
DTSTAMP:20260421T080140
CREATED:20230606T184551Z
LAST-MODIFIED:20230619T142647Z
UID:10006046-1762153200-1762155000@stmichaels-litchfield.org
SUMMARY:AA Meeting in the Parish House Library
DESCRIPTION:
URL:https://stmichaels-litchfield.org/event/aa-meeting-in-the-library/2025-11-03/
LOCATION:Parish House Library\, 25 South Street\, Litchfield\, CT\, 06759\, United States
CATEGORIES:AA/NA Events
END:VEVENT
BEGIN:VEVENT
DTSTART;TZID=America/New_York:20251104T190000
DTEND;TZID=America/New_York:20251104T200000
DTSTAMP:20260421T080140
CREATED:20211108T175914Z
LAST-MODIFIED:20260130T014621Z
UID:10010081-1762282800-1762286400@stmichaels-litchfield.org
SUMMARY:AA Meeting in Community House
DESCRIPTION:
URL:https://stmichaels-litchfield.org/event/aa-group-in-community-house-2/2025-11-04/
LOCATION:Community House in Library from April 9th forward
CATEGORIES:AA/NA Events
END:VEVENT
BEGIN:VEVENT
DTSTART;TZID=America/New_York:20251105T070000
DTEND;TZID=America/New_York:20251105T073000
DTSTAMP:20260421T080140
CREATED:20230606T184551Z
LAST-MODIFIED:20230619T142647Z
UID:10006047-1762326000-1762327800@stmichaels-litchfield.org
SUMMARY:AA Meeting in the Parish House Library
DESCRIPTION:
URL:https://stmichaels-litchfield.org/event/aa-meeting-in-the-library/2025-11-05/
LOCATION:Parish House Library\, 25 South Street\, Litchfield\, CT\, 06759\, United States
CATEGORIES:AA/NA Events
END:VEVENT
BEGIN:VEVENT
DTSTART;TZID=America/New_York:20251105T193000
DTEND;TZID=America/New_York:20251105T210000
DTSTAMP:20260421T080140
CREATED:20211108T180816Z
LAST-MODIFIED:20230714T003135Z
UID:10012435-1762371000-1762376400@stmichaels-litchfield.org
SUMMARY:NA meeting in Community House
DESCRIPTION:
URL:https://stmichaels-litchfield.org/event/narcotics-anonymous/2025-11-05/
LOCATION:Community House in Library from April 9th forward
CATEGORIES:AA/NA Events
END:VEVENT
BEGIN:VEVENT
DTSTART;TZID=America/New_York:20251107T070000
DTEND;TZID=America/New_York:20251107T073000
DTSTAMP:20260421T080140
CREATED:20230606T184551Z
LAST-MODIFIED:20230619T142647Z
UID:10006048-1762498800-1762500600@stmichaels-litchfield.org
SUMMARY:AA Meeting in the Parish House Library
DESCRIPTION:
URL:https://stmichaels-litchfield.org/event/aa-meeting-in-the-library/2025-11-07/
LOCATION:Parish House Library\, 25 South Street\, Litchfield\, CT\, 06759\, United States
CATEGORIES:AA/NA Events
END:VEVENT
BEGIN:VEVENT
DTSTART;TZID=America/New_York:20251108T083000
DTEND;TZID=America/New_York:20251108T093000
DTSTAMP:20260421T080140
CREATED:20230619T143626Z
LAST-MODIFIED:20230619T143720Z
UID:10010688-1762590600-1762594200@stmichaels-litchfield.org
SUMMARY:AA Meeting in Parish House Library
DESCRIPTION:
URL:https://stmichaels-litchfield.org/event/aa-meeting-in-community-house-2/2025-11-08/
LOCATION:Community House in Library from April 9th forward
CATEGORIES:AA/NA Events
END:VEVENT
BEGIN:VEVENT
DTSTART;TZID=America/New_York:20251110T070000
DTEND;TZID=America/New_York:20251110T073000
DTSTAMP:20260421T080140
CREATED:20230606T184551Z
LAST-MODIFIED:20230619T142647Z
UID:10006049-1762758000-1762759800@stmichaels-litchfield.org
SUMMARY:AA Meeting in the Parish House Library
DESCRIPTION:
URL:https://stmichaels-litchfield.org/event/aa-meeting-in-the-library/2025-11-10/
LOCATION:Parish House Library\, 25 South Street\, Litchfield\, CT\, 06759\, United States
CATEGORIES:AA/NA Events
END:VEVENT
BEGIN:VEVENT
DTSTART;TZID=America/New_York:20251111T190000
DTEND;TZID=America/New_York:20251111T200000
DTSTAMP:20260421T080140
CREATED:20211108T175914Z
LAST-MODIFIED:20260130T014621Z
UID:10010082-1762887600-1762891200@stmichaels-litchfield.org
SUMMARY:AA Meeting in Community House
DESCRIPTION:
URL:https://stmichaels-litchfield.org/event/aa-group-in-community-house-2/2025-11-11/
LOCATION:Community House in Library from April 9th forward
CATEGORIES:AA/NA Events
END:VEVENT
BEGIN:VEVENT
DTSTART;TZID=America/New_York:20251112T070000
DTEND;TZID=America/New_York:20251112T073000
DTSTAMP:20260421T080140
CREATED:20230606T184551Z
LAST-MODIFIED:20230619T142647Z
UID:10006050-1762930800-1762932600@stmichaels-litchfield.org
SUMMARY:AA Meeting in the Parish House Library
DESCRIPTION:
URL:https://stmichaels-litchfield.org/event/aa-meeting-in-the-library/2025-11-12/
LOCATION:Parish House Library\, 25 South Street\, Litchfield\, CT\, 06759\, United States
CATEGORIES:AA/NA Events
END:VEVENT
BEGIN:VEVENT
DTSTART;TZID=America/New_York:20251112T193000
DTEND;TZID=America/New_York:20251112T210000
DTSTAMP:20260421T080140
CREATED:20211108T180816Z
LAST-MODIFIED:20230714T003135Z
UID:10012436-1762975800-1762981200@stmichaels-litchfield.org
SUMMARY:NA meeting in Community House
DESCRIPTION:
URL:https://stmichaels-litchfield.org/event/narcotics-anonymous/2025-11-12/
LOCATION:Community House in Library from April 9th forward
CATEGORIES:AA/NA Events
END:VEVENT
BEGIN:VEVENT
DTSTART;TZID=America/New_York:20251114T070000
DTEND;TZID=America/New_York:20251114T073000
DTSTAMP:20260421T080140
CREATED:20230606T184551Z
LAST-MODIFIED:20230619T142647Z
UID:10006051-1763103600-1763105400@stmichaels-litchfield.org
SUMMARY:AA Meeting in the Parish House Library
DESCRIPTION:
URL:https://stmichaels-litchfield.org/event/aa-meeting-in-the-library/2025-11-14/
LOCATION:Parish House Library\, 25 South Street\, Litchfield\, CT\, 06759\, United States
CATEGORIES:AA/NA Events
END:VEVENT
BEGIN:VEVENT
DTSTART;TZID=America/New_York:20251115T083000
DTEND;TZID=America/New_York:20251115T093000
DTSTAMP:20260421T080140
CREATED:20230619T143626Z
LAST-MODIFIED:20230619T143720Z
UID:10010689-1763195400-1763199000@stmichaels-litchfield.org
SUMMARY:AA Meeting in Parish House Library
DESCRIPTION:
URL:https://stmichaels-litchfield.org/event/aa-meeting-in-community-house-2/2025-11-15/
LOCATION:Community House in Library from April 9th forward
CATEGORIES:AA/NA Events
END:VEVENT
BEGIN:VEVENT
DTSTART;TZID=America/New_York:20251117T070000
DTEND;TZID=America/New_York:20251117T073000
DTSTAMP:20260421T080140
CREATED:20230606T184551Z
LAST-MODIFIED:20230619T142647Z
UID:10006052-1763362800-1763364600@stmichaels-litchfield.org
SUMMARY:AA Meeting in the Parish House Library
DESCRIPTION:
URL:https://stmichaels-litchfield.org/event/aa-meeting-in-the-library/2025-11-17/
LOCATION:Parish House Library\, 25 South Street\, Litchfield\, CT\, 06759\, United States
CATEGORIES:AA/NA Events
END:VEVENT
BEGIN:VEVENT
DTSTART;TZID=America/New_York:20251118T190000
DTEND;TZID=America/New_York:20251118T200000
DTSTAMP:20260421T080140
CREATED:20211108T175914Z
LAST-MODIFIED:20260130T014621Z
UID:10010083-1763492400-1763496000@stmichaels-litchfield.org
SUMMARY:AA Meeting in Community House
DESCRIPTION:
URL:https://stmichaels-litchfield.org/event/aa-group-in-community-house-2/2025-11-18/
LOCATION:Community House in Library from April 9th forward
CATEGORIES:AA/NA Events
END:VEVENT
BEGIN:VEVENT
DTSTART;TZID=America/New_York:20251119T070000
DTEND;TZID=America/New_York:20251119T073000
DTSTAMP:20260421T080140
CREATED:20230606T184551Z
LAST-MODIFIED:20230619T142647Z
UID:10006053-1763535600-1763537400@stmichaels-litchfield.org
SUMMARY:AA Meeting in the Parish House Library
DESCRIPTION:
URL:https://stmichaels-litchfield.org/event/aa-meeting-in-the-library/2025-11-19/
LOCATION:Parish House Library\, 25 South Street\, Litchfield\, CT\, 06759\, United States
CATEGORIES:AA/NA Events
END:VEVENT
BEGIN:VEVENT
DTSTART;TZID=America/New_York:20251119T193000
DTEND;TZID=America/New_York:20251119T210000
DTSTAMP:20260421T080141
CREATED:20211108T180816Z
LAST-MODIFIED:20230714T003135Z
UID:10012437-1763580600-1763586000@stmichaels-litchfield.org
SUMMARY:NA meeting in Community House
DESCRIPTION:
URL:https://stmichaels-litchfield.org/event/narcotics-anonymous/2025-11-19/
LOCATION:Community House in Library from April 9th forward
CATEGORIES:AA/NA Events
END:VEVENT
BEGIN:VEVENT
DTSTART;TZID=America/New_York:20251121T070000
DTEND;TZID=America/New_York:20251121T073000
DTSTAMP:20260421T080141
CREATED:20230606T184551Z
LAST-MODIFIED:20230619T142647Z
UID:10006054-1763708400-1763710200@stmichaels-litchfield.org
SUMMARY:AA Meeting in the Parish House Library
DESCRIPTION:
URL:https://stmichaels-litchfield.org/event/aa-meeting-in-the-library/2025-11-21/
LOCATION:Parish House Library\, 25 South Street\, Litchfield\, CT\, 06759\, United States
CATEGORIES:AA/NA Events
END:VEVENT
BEGIN:VEVENT
DTSTART;TZID=America/New_York:20251122T083000
DTEND;TZID=America/New_York:20251122T093000
DTSTAMP:20260421T080141
CREATED:20230619T143626Z
LAST-MODIFIED:20230619T143720Z
UID:10010690-1763800200-1763803800@stmichaels-litchfield.org
SUMMARY:AA Meeting in Parish House Library
DESCRIPTION:
URL:https://stmichaels-litchfield.org/event/aa-meeting-in-community-house-2/2025-11-22/
LOCATION:Community House in Library from April 9th forward
CATEGORIES:AA/NA Events
END:VEVENT
BEGIN:VEVENT
DTSTART;TZID=America/New_York:20251124T070000
DTEND;TZID=America/New_York:20251124T073000
DTSTAMP:20260421T080141
CREATED:20230606T184551Z
LAST-MODIFIED:20230619T142647Z
UID:10006055-1763967600-1763969400@stmichaels-litchfield.org
SUMMARY:AA Meeting in the Parish House Library
DESCRIPTION:
URL:https://stmichaels-litchfield.org/event/aa-meeting-in-the-library/2025-11-24/
LOCATION:Parish House Library\, 25 South Street\, Litchfield\, CT\, 06759\, United States
CATEGORIES:AA/NA Events
END:VEVENT
BEGIN:VEVENT
DTSTART;TZID=America/New_York:20251125T190000
DTEND;TZID=America/New_York:20251125T200000
DTSTAMP:20260421T080141
CREATED:20211108T175914Z
LAST-MODIFIED:20260130T014621Z
UID:10010084-1764097200-1764100800@stmichaels-litchfield.org
SUMMARY:AA Meeting in Community House
DESCRIPTION:
URL:https://stmichaels-litchfield.org/event/aa-group-in-community-house-2/2025-11-25/
LOCATION:Community House in Library from April 9th forward
CATEGORIES:AA/NA Events
END:VEVENT
BEGIN:VEVENT
DTSTART;TZID=America/New_York:20251126T070000
DTEND;TZID=America/New_York:20251126T073000
DTSTAMP:20260421T080141
CREATED:20230606T184551Z
LAST-MODIFIED:20230619T142647Z
UID:10006056-1764140400-1764142200@stmichaels-litchfield.org
SUMMARY:AA Meeting in the Parish House Library
DESCRIPTION:
URL:https://stmichaels-litchfield.org/event/aa-meeting-in-the-library/2025-11-26/
LOCATION:Parish House Library\, 25 South Street\, Litchfield\, CT\, 06759\, United States
CATEGORIES:AA/NA Events
END:VEVENT
BEGIN:VEVENT
DTSTART;TZID=America/New_York:20251126T193000
DTEND;TZID=America/New_York:20251126T210000
DTSTAMP:20260421T080141
CREATED:20211108T180816Z
LAST-MODIFIED:20230714T003135Z
UID:10012438-1764185400-1764190800@stmichaels-litchfield.org
SUMMARY:NA meeting in Community House
DESCRIPTION:
URL:https://stmichaels-litchfield.org/event/narcotics-anonymous/2025-11-26/
LOCATION:Community House in Library from April 9th forward
CATEGORIES:AA/NA Events
END:VEVENT
BEGIN:VEVENT
DTSTART;TZID=America/New_York:20251128T070000
DTEND;TZID=America/New_York:20251128T073000
DTSTAMP:20260421T080141
CREATED:20230606T184551Z
LAST-MODIFIED:20230619T142647Z
UID:10006057-1764313200-1764315000@stmichaels-litchfield.org
SUMMARY:AA Meeting in the Parish House Library
DESCRIPTION:
URL:https://stmichaels-litchfield.org/event/aa-meeting-in-the-library/2025-11-28/
LOCATION:Parish House Library\, 25 South Street\, Litchfield\, CT\, 06759\, United States
CATEGORIES:AA/NA Events
END:VEVENT
BEGIN:VEVENT
DTSTART;TZID=America/New_York:20251129T083000
DTEND;TZID=America/New_York:20251129T093000
DTSTAMP:20260421T080141
CREATED:20230619T143626Z
LAST-MODIFIED:20230619T143720Z
UID:10010691-1764405000-1764408600@stmichaels-litchfield.org
SUMMARY:AA Meeting in Parish House Library
DESCRIPTION:
URL:https://stmichaels-litchfield.org/event/aa-meeting-in-community-house-2/2025-11-29/
LOCATION:Community House in Library from April 9th forward
CATEGORIES:AA/NA Events
END:VEVENT
BEGIN:VEVENT
DTSTART;TZID=America/New_York:20251201T070000
DTEND;TZID=America/New_York:20251201T073000
DTSTAMP:20260421T080141
CREATED:20230606T184551Z
LAST-MODIFIED:20230619T142647Z
UID:10006058-1764572400-1764574200@stmichaels-litchfield.org
SUMMARY:AA Meeting in the Parish House Library
DESCRIPTION:
URL:https://stmichaels-litchfield.org/event/aa-meeting-in-the-library/2025-12-01/
LOCATION:Parish House Library\, 25 South Street\, Litchfield\, CT\, 06759\, United States
CATEGORIES:AA/NA Events
END:VEVENT
BEGIN:VEVENT
DTSTART;TZID=America/New_York:20251202T190000
DTEND;TZID=America/New_York:20251202T200000
DTSTAMP:20260421T080141
CREATED:20211108T175914Z
LAST-MODIFIED:20260130T014621Z
UID:10010085-1764702000-1764705600@stmichaels-litchfield.org
SUMMARY:AA Meeting in Community House
DESCRIPTION:
URL:https://stmichaels-litchfield.org/event/aa-group-in-community-house-2/2025-12-02/
LOCATION:Community House in Library from April 9th forward
CATEGORIES:AA/NA Events
END:VEVENT
BEGIN:VEVENT
DTSTART;TZID=America/New_York:20251203T070000
DTEND;TZID=America/New_York:20251203T073000
DTSTAMP:20260421T080141
CREATED:20230606T184551Z
LAST-MODIFIED:20230619T142647Z
UID:10006059-1764745200-1764747000@stmichaels-litchfield.org
SUMMARY:AA Meeting in the Parish House Library
DESCRIPTION:
URL:https://stmichaels-litchfield.org/event/aa-meeting-in-the-library/2025-12-03/
LOCATION:Parish House Library\, 25 South Street\, Litchfield\, CT\, 06759\, United States
CATEGORIES:AA/NA Events
END:VEVENT
BEGIN:VEVENT
DTSTART;TZID=America/New_York:20251203T193000
DTEND;TZID=America/New_York:20251203T210000
DTSTAMP:20260421T080141
CREATED:20211108T180816Z
LAST-MODIFIED:20230714T003135Z
UID:10012439-1764790200-1764795600@stmichaels-litchfield.org
SUMMARY:NA meeting in Community House
DESCRIPTION:
URL:https://stmichaels-litchfield.org/event/narcotics-anonymous/2025-12-03/
LOCATION:Community House in Library from April 9th forward
CATEGORIES:AA/NA Events
END:VEVENT
BEGIN:VEVENT
DTSTART;TZID=America/New_York:20251205T070000
DTEND;TZID=America/New_York:20251205T073000
DTSTAMP:20260421T080141
CREATED:20230606T184551Z
LAST-MODIFIED:20230619T142647Z
UID:10006060-1764918000-1764919800@stmichaels-litchfield.org
SUMMARY:AA Meeting in the Parish House Library
DESCRIPTION:
URL:https://stmichaels-litchfield.org/event/aa-meeting-in-the-library/2025-12-05/
LOCATION:Parish House Library\, 25 South Street\, Litchfield\, CT\, 06759\, United States
CATEGORIES:AA/NA Events
END:VEVENT
BEGIN:VEVENT
DTSTART;TZID=America/New_York:20251206T083000
DTEND;TZID=America/New_York:20251206T093000
DTSTAMP:20260421T080141
CREATED:20230619T143626Z
LAST-MODIFIED:20230619T143720Z
UID:10010692-1765009800-1765013400@stmichaels-litchfield.org
SUMMARY:AA Meeting in Parish House Library
DESCRIPTION:
URL:https://stmichaels-litchfield.org/event/aa-meeting-in-community-house-2/2025-12-06/
LOCATION:Community House in Library from April 9th forward
CATEGORIES:AA/NA Events
END:VEVENT
END:VCALENDAR