BEGIN:VCALENDAR
VERSION:2.0
PRODID:-//St. Michael&#039;s Church - ECPv6.15.20//NONSGML v1.0//EN
CALSCALE:GREGORIAN
METHOD:PUBLISH
X-WR-CALNAME:St. Michael&#039;s Church
X-ORIGINAL-URL:https://stmichaels-litchfield.org
X-WR-CALDESC:Events for St. Michael&#039;s Church
REFRESH-INTERVAL;VALUE=DURATION:PT1H
X-Robots-Tag:noindex
X-PUBLISHED-TTL:PT1H
BEGIN:VTIMEZONE
TZID:America/New_York
BEGIN:DAYLIGHT
TZOFFSETFROM:-0500
TZOFFSETTO:-0400
TZNAME:EDT
DTSTART:20260308T070000
END:DAYLIGHT
BEGIN:STANDARD
TZOFFSETFROM:-0400
TZOFFSETTO:-0500
TZNAME:EST
DTSTART:20261101T060000
END:STANDARD
BEGIN:DAYLIGHT
TZOFFSETFROM:-0500
TZOFFSETTO:-0400
TZNAME:EDT
DTSTART:20270314T070000
END:DAYLIGHT
BEGIN:STANDARD
TZOFFSETFROM:-0400
TZOFFSETTO:-0500
TZNAME:EST
DTSTART:20271107T060000
END:STANDARD
BEGIN:DAYLIGHT
TZOFFSETFROM:-0500
TZOFFSETTO:-0400
TZNAME:EDT
DTSTART:20280312T070000
END:DAYLIGHT
BEGIN:STANDARD
TZOFFSETFROM:-0400
TZOFFSETTO:-0500
TZNAME:EST
DTSTART:20281105T060000
END:STANDARD
END:VTIMEZONE
BEGIN:VEVENT
DTSTART;TZID=America/New_York:20270419T070000
DTEND;TZID=America/New_York:20270419T073000
DTSTAMP:20260421T135706
CREATED:20230606T184551Z
LAST-MODIFIED:20230619T142647Z
UID:10006274-1808118000-1808119800@stmichaels-litchfield.org
SUMMARY:AA Meeting in the Parish House Library
DESCRIPTION:
URL:https://stmichaels-litchfield.org/event/aa-meeting-in-the-library/2027-04-19/
LOCATION:Parish House Library\, 25 South Street\, Litchfield\, CT\, 06759\, United States
CATEGORIES:AA/NA Events
END:VEVENT
BEGIN:VEVENT
DTSTART;TZID=America/New_York:20270420T190000
DTEND;TZID=America/New_York:20270420T200000
DTSTAMP:20260421T135706
CREATED:20211108T175914Z
LAST-MODIFIED:20260130T014621Z
UID:10010157-1808247600-1808251200@stmichaels-litchfield.org
SUMMARY:AA Meeting in Community House
DESCRIPTION:
URL:https://stmichaels-litchfield.org/event/aa-group-in-community-house-2/2027-04-20/
LOCATION:Community House in Library from April 9th forward
CATEGORIES:AA/NA Events
END:VEVENT
BEGIN:VEVENT
DTSTART;TZID=America/New_York:20270421T070000
DTEND;TZID=America/New_York:20270421T073000
DTSTAMP:20260421T135706
CREATED:20230606T184551Z
LAST-MODIFIED:20230619T142647Z
UID:10006275-1808290800-1808292600@stmichaels-litchfield.org
SUMMARY:AA Meeting in the Parish House Library
DESCRIPTION:
URL:https://stmichaels-litchfield.org/event/aa-meeting-in-the-library/2027-04-21/
LOCATION:Parish House Library\, 25 South Street\, Litchfield\, CT\, 06759\, United States
CATEGORIES:AA/NA Events
END:VEVENT
BEGIN:VEVENT
DTSTART;TZID=America/New_York:20270421T193000
DTEND;TZID=America/New_York:20270421T210000
DTSTAMP:20260421T135706
CREATED:20211108T180816Z
LAST-MODIFIED:20230714T003135Z
UID:10012511-1808335800-1808341200@stmichaels-litchfield.org
SUMMARY:NA meeting in Community House
DESCRIPTION:
URL:https://stmichaels-litchfield.org/event/narcotics-anonymous/2027-04-21/
LOCATION:Community House in Library from April 9th forward
CATEGORIES:AA/NA Events
END:VEVENT
BEGIN:VEVENT
DTSTART;TZID=America/New_York:20270423T070000
DTEND;TZID=America/New_York:20270423T073000
DTSTAMP:20260421T135706
CREATED:20230606T184551Z
LAST-MODIFIED:20230619T142647Z
UID:10006276-1808463600-1808465400@stmichaels-litchfield.org
SUMMARY:AA Meeting in the Parish House Library
DESCRIPTION:
URL:https://stmichaels-litchfield.org/event/aa-meeting-in-the-library/2027-04-23/
LOCATION:Parish House Library\, 25 South Street\, Litchfield\, CT\, 06759\, United States
CATEGORIES:AA/NA Events
END:VEVENT
BEGIN:VEVENT
DTSTART;TZID=America/New_York:20270424T083000
DTEND;TZID=America/New_York:20270424T093000
DTSTAMP:20260421T135706
CREATED:20230619T143626Z
LAST-MODIFIED:20230619T143720Z
UID:10010764-1808555400-1808559000@stmichaels-litchfield.org
SUMMARY:AA Meeting in Parish House Library
DESCRIPTION:
URL:https://stmichaels-litchfield.org/event/aa-meeting-in-community-house-2/2027-04-24/
LOCATION:Community House in Library from April 9th forward
CATEGORIES:AA/NA Events
END:VEVENT
BEGIN:VEVENT
DTSTART;TZID=America/New_York:20270426T070000
DTEND;TZID=America/New_York:20270426T073000
DTSTAMP:20260421T135706
CREATED:20230606T184551Z
LAST-MODIFIED:20230619T142647Z
UID:10006277-1808722800-1808724600@stmichaels-litchfield.org
SUMMARY:AA Meeting in the Parish House Library
DESCRIPTION:
URL:https://stmichaels-litchfield.org/event/aa-meeting-in-the-library/2027-04-26/
LOCATION:Parish House Library\, 25 South Street\, Litchfield\, CT\, 06759\, United States
CATEGORIES:AA/NA Events
END:VEVENT
BEGIN:VEVENT
DTSTART;TZID=America/New_York:20270427T190000
DTEND;TZID=America/New_York:20270427T200000
DTSTAMP:20260421T135706
CREATED:20211108T175914Z
LAST-MODIFIED:20260130T014621Z
UID:10010158-1808852400-1808856000@stmichaels-litchfield.org
SUMMARY:AA Meeting in Community House
DESCRIPTION:
URL:https://stmichaels-litchfield.org/event/aa-group-in-community-house-2/2027-04-27/
LOCATION:Community House in Library from April 9th forward
CATEGORIES:AA/NA Events
END:VEVENT
BEGIN:VEVENT
DTSTART;TZID=America/New_York:20270428T070000
DTEND;TZID=America/New_York:20270428T073000
DTSTAMP:20260421T135706
CREATED:20230606T184551Z
LAST-MODIFIED:20230619T142647Z
UID:10006278-1808895600-1808897400@stmichaels-litchfield.org
SUMMARY:AA Meeting in the Parish House Library
DESCRIPTION:
URL:https://stmichaels-litchfield.org/event/aa-meeting-in-the-library/2027-04-28/
LOCATION:Parish House Library\, 25 South Street\, Litchfield\, CT\, 06759\, United States
CATEGORIES:AA/NA Events
END:VEVENT
BEGIN:VEVENT
DTSTART;TZID=America/New_York:20270428T193000
DTEND;TZID=America/New_York:20270428T210000
DTSTAMP:20260421T135706
CREATED:20211108T180816Z
LAST-MODIFIED:20230714T003135Z
UID:10012512-1808940600-1808946000@stmichaels-litchfield.org
SUMMARY:NA meeting in Community House
DESCRIPTION:
URL:https://stmichaels-litchfield.org/event/narcotics-anonymous/2027-04-28/
LOCATION:Community House in Library from April 9th forward
CATEGORIES:AA/NA Events
END:VEVENT
BEGIN:VEVENT
DTSTART;TZID=America/New_York:20270430T070000
DTEND;TZID=America/New_York:20270430T073000
DTSTAMP:20260421T135706
CREATED:20230606T184551Z
LAST-MODIFIED:20230619T142647Z
UID:10006279-1809068400-1809070200@stmichaels-litchfield.org
SUMMARY:AA Meeting in the Parish House Library
DESCRIPTION:
URL:https://stmichaels-litchfield.org/event/aa-meeting-in-the-library/2027-04-30/
LOCATION:Parish House Library\, 25 South Street\, Litchfield\, CT\, 06759\, United States
CATEGORIES:AA/NA Events
END:VEVENT
BEGIN:VEVENT
DTSTART;TZID=America/New_York:20270501T083000
DTEND;TZID=America/New_York:20270501T093000
DTSTAMP:20260421T135706
CREATED:20230619T143626Z
LAST-MODIFIED:20230619T143720Z
UID:10010765-1809160200-1809163800@stmichaels-litchfield.org
SUMMARY:AA Meeting in Parish House Library
DESCRIPTION:
URL:https://stmichaels-litchfield.org/event/aa-meeting-in-community-house-2/2027-05-01/
LOCATION:Community House in Library from April 9th forward
CATEGORIES:AA/NA Events
END:VEVENT
BEGIN:VEVENT
DTSTART;TZID=America/New_York:20270503T070000
DTEND;TZID=America/New_York:20270503T073000
DTSTAMP:20260421T135706
CREATED:20230606T184551Z
LAST-MODIFIED:20230619T142647Z
UID:10006280-1809327600-1809329400@stmichaels-litchfield.org
SUMMARY:AA Meeting in the Parish House Library
DESCRIPTION:
URL:https://stmichaels-litchfield.org/event/aa-meeting-in-the-library/2027-05-03/
LOCATION:Parish House Library\, 25 South Street\, Litchfield\, CT\, 06759\, United States
CATEGORIES:AA/NA Events
END:VEVENT
BEGIN:VEVENT
DTSTART;TZID=America/New_York:20270504T190000
DTEND;TZID=America/New_York:20270504T200000
DTSTAMP:20260421T135706
CREATED:20211108T175914Z
LAST-MODIFIED:20260130T014621Z
UID:10010159-1809457200-1809460800@stmichaels-litchfield.org
SUMMARY:AA Meeting in Community House
DESCRIPTION:
URL:https://stmichaels-litchfield.org/event/aa-group-in-community-house-2/2027-05-04/
LOCATION:Community House in Library from April 9th forward
CATEGORIES:AA/NA Events
END:VEVENT
BEGIN:VEVENT
DTSTART;TZID=America/New_York:20270505T070000
DTEND;TZID=America/New_York:20270505T073000
DTSTAMP:20260421T135706
CREATED:20230606T184551Z
LAST-MODIFIED:20230619T142647Z
UID:10006281-1809500400-1809502200@stmichaels-litchfield.org
SUMMARY:AA Meeting in the Parish House Library
DESCRIPTION:
URL:https://stmichaels-litchfield.org/event/aa-meeting-in-the-library/2027-05-05/
LOCATION:Parish House Library\, 25 South Street\, Litchfield\, CT\, 06759\, United States
CATEGORIES:AA/NA Events
END:VEVENT
BEGIN:VEVENT
DTSTART;TZID=America/New_York:20270505T193000
DTEND;TZID=America/New_York:20270505T210000
DTSTAMP:20260421T135706
CREATED:20211108T180816Z
LAST-MODIFIED:20230714T003135Z
UID:10012513-1809545400-1809550800@stmichaels-litchfield.org
SUMMARY:NA meeting in Community House
DESCRIPTION:
URL:https://stmichaels-litchfield.org/event/narcotics-anonymous/2027-05-05/
LOCATION:Community House in Library from April 9th forward
CATEGORIES:AA/NA Events
END:VEVENT
BEGIN:VEVENT
DTSTART;TZID=America/New_York:20270507T070000
DTEND;TZID=America/New_York:20270507T073000
DTSTAMP:20260421T135706
CREATED:20230606T184551Z
LAST-MODIFIED:20230619T142647Z
UID:10006282-1809673200-1809675000@stmichaels-litchfield.org
SUMMARY:AA Meeting in the Parish House Library
DESCRIPTION:
URL:https://stmichaels-litchfield.org/event/aa-meeting-in-the-library/2027-05-07/
LOCATION:Parish House Library\, 25 South Street\, Litchfield\, CT\, 06759\, United States
CATEGORIES:AA/NA Events
END:VEVENT
BEGIN:VEVENT
DTSTART;TZID=America/New_York:20270508T083000
DTEND;TZID=America/New_York:20270508T093000
DTSTAMP:20260421T135706
CREATED:20230619T143626Z
LAST-MODIFIED:20230619T143720Z
UID:10010766-1809765000-1809768600@stmichaels-litchfield.org
SUMMARY:AA Meeting in Parish House Library
DESCRIPTION:
URL:https://stmichaels-litchfield.org/event/aa-meeting-in-community-house-2/2027-05-08/
LOCATION:Community House in Library from April 9th forward
CATEGORIES:AA/NA Events
END:VEVENT
BEGIN:VEVENT
DTSTART;TZID=America/New_York:20270510T070000
DTEND;TZID=America/New_York:20270510T073000
DTSTAMP:20260421T135706
CREATED:20230606T184551Z
LAST-MODIFIED:20230619T142647Z
UID:10006283-1809932400-1809934200@stmichaels-litchfield.org
SUMMARY:AA Meeting in the Parish House Library
DESCRIPTION:
URL:https://stmichaels-litchfield.org/event/aa-meeting-in-the-library/2027-05-10/
LOCATION:Parish House Library\, 25 South Street\, Litchfield\, CT\, 06759\, United States
CATEGORIES:AA/NA Events
END:VEVENT
BEGIN:VEVENT
DTSTART;TZID=America/New_York:20270511T190000
DTEND;TZID=America/New_York:20270511T200000
DTSTAMP:20260421T135706
CREATED:20211108T175914Z
LAST-MODIFIED:20260130T014621Z
UID:10010160-1810062000-1810065600@stmichaels-litchfield.org
SUMMARY:AA Meeting in Community House
DESCRIPTION:
URL:https://stmichaels-litchfield.org/event/aa-group-in-community-house-2/2027-05-11/
LOCATION:Community House in Library from April 9th forward
CATEGORIES:AA/NA Events
END:VEVENT
BEGIN:VEVENT
DTSTART;TZID=America/New_York:20270512T070000
DTEND;TZID=America/New_York:20270512T073000
DTSTAMP:20260421T135706
CREATED:20230606T184551Z
LAST-MODIFIED:20230619T142647Z
UID:10006284-1810105200-1810107000@stmichaels-litchfield.org
SUMMARY:AA Meeting in the Parish House Library
DESCRIPTION:
URL:https://stmichaels-litchfield.org/event/aa-meeting-in-the-library/2027-05-12/
LOCATION:Parish House Library\, 25 South Street\, Litchfield\, CT\, 06759\, United States
CATEGORIES:AA/NA Events
END:VEVENT
BEGIN:VEVENT
DTSTART;TZID=America/New_York:20270512T193000
DTEND;TZID=America/New_York:20270512T210000
DTSTAMP:20260421T135706
CREATED:20211108T180816Z
LAST-MODIFIED:20230714T003135Z
UID:10012514-1810150200-1810155600@stmichaels-litchfield.org
SUMMARY:NA meeting in Community House
DESCRIPTION:
URL:https://stmichaels-litchfield.org/event/narcotics-anonymous/2027-05-12/
LOCATION:Community House in Library from April 9th forward
CATEGORIES:AA/NA Events
END:VEVENT
BEGIN:VEVENT
DTSTART;TZID=America/New_York:20270514T070000
DTEND;TZID=America/New_York:20270514T073000
DTSTAMP:20260421T135706
CREATED:20230606T184551Z
LAST-MODIFIED:20230619T142647Z
UID:10006285-1810278000-1810279800@stmichaels-litchfield.org
SUMMARY:AA Meeting in the Parish House Library
DESCRIPTION:
URL:https://stmichaels-litchfield.org/event/aa-meeting-in-the-library/2027-05-14/
LOCATION:Parish House Library\, 25 South Street\, Litchfield\, CT\, 06759\, United States
CATEGORIES:AA/NA Events
END:VEVENT
BEGIN:VEVENT
DTSTART;TZID=America/New_York:20270515T083000
DTEND;TZID=America/New_York:20270515T093000
DTSTAMP:20260421T135706
CREATED:20230619T143626Z
LAST-MODIFIED:20230619T143720Z
UID:10010767-1810369800-1810373400@stmichaels-litchfield.org
SUMMARY:AA Meeting in Parish House Library
DESCRIPTION:
URL:https://stmichaels-litchfield.org/event/aa-meeting-in-community-house-2/2027-05-15/
LOCATION:Community House in Library from April 9th forward
CATEGORIES:AA/NA Events
END:VEVENT
BEGIN:VEVENT
DTSTART;TZID=America/New_York:20270517T070000
DTEND;TZID=America/New_York:20270517T073000
DTSTAMP:20260421T135706
CREATED:20230606T184551Z
LAST-MODIFIED:20230619T142647Z
UID:10006286-1810537200-1810539000@stmichaels-litchfield.org
SUMMARY:AA Meeting in the Parish House Library
DESCRIPTION:
URL:https://stmichaels-litchfield.org/event/aa-meeting-in-the-library/2027-05-17/
LOCATION:Parish House Library\, 25 South Street\, Litchfield\, CT\, 06759\, United States
CATEGORIES:AA/NA Events
END:VEVENT
BEGIN:VEVENT
DTSTART;TZID=America/New_York:20270518T190000
DTEND;TZID=America/New_York:20270518T200000
DTSTAMP:20260421T135706
CREATED:20211108T175914Z
LAST-MODIFIED:20260130T014621Z
UID:10010161-1810666800-1810670400@stmichaels-litchfield.org
SUMMARY:AA Meeting in Community House
DESCRIPTION:
URL:https://stmichaels-litchfield.org/event/aa-group-in-community-house-2/2027-05-18/
LOCATION:Community House in Library from April 9th forward
CATEGORIES:AA/NA Events
END:VEVENT
BEGIN:VEVENT
DTSTART;TZID=America/New_York:20270519T070000
DTEND;TZID=America/New_York:20270519T073000
DTSTAMP:20260421T135706
CREATED:20230606T184551Z
LAST-MODIFIED:20230619T142647Z
UID:10006287-1810710000-1810711800@stmichaels-litchfield.org
SUMMARY:AA Meeting in the Parish House Library
DESCRIPTION:
URL:https://stmichaels-litchfield.org/event/aa-meeting-in-the-library/2027-05-19/
LOCATION:Parish House Library\, 25 South Street\, Litchfield\, CT\, 06759\, United States
CATEGORIES:AA/NA Events
END:VEVENT
BEGIN:VEVENT
DTSTART;TZID=America/New_York:20270519T193000
DTEND;TZID=America/New_York:20270519T210000
DTSTAMP:20260421T135706
CREATED:20211108T180816Z
LAST-MODIFIED:20230714T003135Z
UID:10012515-1810755000-1810760400@stmichaels-litchfield.org
SUMMARY:NA meeting in Community House
DESCRIPTION:
URL:https://stmichaels-litchfield.org/event/narcotics-anonymous/2027-05-19/
LOCATION:Community House in Library from April 9th forward
CATEGORIES:AA/NA Events
END:VEVENT
BEGIN:VEVENT
DTSTART;TZID=America/New_York:20270521T070000
DTEND;TZID=America/New_York:20270521T073000
DTSTAMP:20260421T135706
CREATED:20230606T184551Z
LAST-MODIFIED:20230619T142647Z
UID:10006288-1810882800-1810884600@stmichaels-litchfield.org
SUMMARY:AA Meeting in the Parish House Library
DESCRIPTION:
URL:https://stmichaels-litchfield.org/event/aa-meeting-in-the-library/2027-05-21/
LOCATION:Parish House Library\, 25 South Street\, Litchfield\, CT\, 06759\, United States
CATEGORIES:AA/NA Events
END:VEVENT
BEGIN:VEVENT
DTSTART;TZID=America/New_York:20270522T083000
DTEND;TZID=America/New_York:20270522T093000
DTSTAMP:20260421T135706
CREATED:20230619T143626Z
LAST-MODIFIED:20230619T143720Z
UID:10010768-1810974600-1810978200@stmichaels-litchfield.org
SUMMARY:AA Meeting in Parish House Library
DESCRIPTION:
URL:https://stmichaels-litchfield.org/event/aa-meeting-in-community-house-2/2027-05-22/
LOCATION:Community House in Library from April 9th forward
CATEGORIES:AA/NA Events
END:VEVENT
END:VCALENDAR