BEGIN:VCALENDAR
VERSION:2.0
PRODID:-//St. Michael&#039;s Church - ECPv6.15.20//NONSGML v1.0//EN
CALSCALE:GREGORIAN
METHOD:PUBLISH
X-WR-CALNAME:St. Michael&#039;s Church
X-ORIGINAL-URL:https://stmichaels-litchfield.org
X-WR-CALDESC:Events for St. Michael&#039;s Church
REFRESH-INTERVAL;VALUE=DURATION:PT1H
X-Robots-Tag:noindex
X-PUBLISHED-TTL:PT1H
BEGIN:VTIMEZONE
TZID:America/New_York
BEGIN:DAYLIGHT
TZOFFSETFROM:-0500
TZOFFSETTO:-0400
TZNAME:EDT
DTSTART:20250309T070000
END:DAYLIGHT
BEGIN:STANDARD
TZOFFSETFROM:-0400
TZOFFSETTO:-0500
TZNAME:EST
DTSTART:20251102T060000
END:STANDARD
BEGIN:DAYLIGHT
TZOFFSETFROM:-0500
TZOFFSETTO:-0400
TZNAME:EDT
DTSTART:20260308T070000
END:DAYLIGHT
BEGIN:STANDARD
TZOFFSETFROM:-0400
TZOFFSETTO:-0500
TZNAME:EST
DTSTART:20261101T060000
END:STANDARD
BEGIN:DAYLIGHT
TZOFFSETFROM:-0500
TZOFFSETTO:-0400
TZNAME:EDT
DTSTART:20270314T070000
END:DAYLIGHT
BEGIN:STANDARD
TZOFFSETFROM:-0400
TZOFFSETTO:-0500
TZNAME:EST
DTSTART:20271107T060000
END:STANDARD
END:VTIMEZONE
BEGIN:VEVENT
DTSTART;TZID=America/New_York:20260209T070000
DTEND;TZID=America/New_York:20260209T073000
DTSTAMP:20260421T202401
CREATED:20230606T184551Z
LAST-MODIFIED:20230619T142647Z
UID:10006088-1770620400-1770622200@stmichaels-litchfield.org
SUMMARY:AA Meeting in the Parish House Library
DESCRIPTION:
URL:https://stmichaels-litchfield.org/event/aa-meeting-in-the-library/2026-02-09/
LOCATION:Parish House Library\, 25 South Street\, Litchfield\, CT\, 06759\, United States
CATEGORIES:AA/NA Events
END:VEVENT
BEGIN:VEVENT
DTSTART;TZID=America/New_York:20260210T190000
DTEND;TZID=America/New_York:20260210T200000
DTSTAMP:20260421T202401
CREATED:20211108T175914Z
LAST-MODIFIED:20260130T014621Z
UID:10010095-1770750000-1770753600@stmichaels-litchfield.org
SUMMARY:AA Meeting in Community House
DESCRIPTION:
URL:https://stmichaels-litchfield.org/event/aa-group-in-community-house-2/2026-02-10/
LOCATION:Community House in Library from April 9th forward
CATEGORIES:AA/NA Events
END:VEVENT
BEGIN:VEVENT
DTSTART;TZID=America/New_York:20260211T070000
DTEND;TZID=America/New_York:20260211T073000
DTSTAMP:20260421T202401
CREATED:20230606T184551Z
LAST-MODIFIED:20230619T142647Z
UID:10006089-1770793200-1770795000@stmichaels-litchfield.org
SUMMARY:AA Meeting in the Parish House Library
DESCRIPTION:
URL:https://stmichaels-litchfield.org/event/aa-meeting-in-the-library/2026-02-11/
LOCATION:Parish House Library\, 25 South Street\, Litchfield\, CT\, 06759\, United States
CATEGORIES:AA/NA Events
END:VEVENT
BEGIN:VEVENT
DTSTART;TZID=America/New_York:20260211T193000
DTEND;TZID=America/New_York:20260211T210000
DTSTAMP:20260421T202401
CREATED:20211108T180816Z
LAST-MODIFIED:20230714T003135Z
UID:10012449-1770838200-1770843600@stmichaels-litchfield.org
SUMMARY:NA meeting in Community House
DESCRIPTION:
URL:https://stmichaels-litchfield.org/event/narcotics-anonymous/2026-02-11/
LOCATION:Community House in Library from April 9th forward
CATEGORIES:AA/NA Events
END:VEVENT
BEGIN:VEVENT
DTSTART;TZID=America/New_York:20260213T070000
DTEND;TZID=America/New_York:20260213T073000
DTSTAMP:20260421T202401
CREATED:20230606T184551Z
LAST-MODIFIED:20230619T142647Z
UID:10006090-1770966000-1770967800@stmichaels-litchfield.org
SUMMARY:AA Meeting in the Parish House Library
DESCRIPTION:
URL:https://stmichaels-litchfield.org/event/aa-meeting-in-the-library/2026-02-13/
LOCATION:Parish House Library\, 25 South Street\, Litchfield\, CT\, 06759\, United States
CATEGORIES:AA/NA Events
END:VEVENT
BEGIN:VEVENT
DTSTART;TZID=America/New_York:20260214T083000
DTEND;TZID=America/New_York:20260214T093000
DTSTAMP:20260421T202401
CREATED:20230619T143626Z
LAST-MODIFIED:20230619T143720Z
UID:10010702-1771057800-1771061400@stmichaels-litchfield.org
SUMMARY:AA Meeting in Parish House Library
DESCRIPTION:
URL:https://stmichaels-litchfield.org/event/aa-meeting-in-community-house-2/2026-02-14/
LOCATION:Community House in Library from April 9th forward
CATEGORIES:AA/NA Events
END:VEVENT
BEGIN:VEVENT
DTSTART;TZID=America/New_York:20260216T070000
DTEND;TZID=America/New_York:20260216T073000
DTSTAMP:20260421T202401
CREATED:20230606T184551Z
LAST-MODIFIED:20230619T142647Z
UID:10006091-1771225200-1771227000@stmichaels-litchfield.org
SUMMARY:AA Meeting in the Parish House Library
DESCRIPTION:
URL:https://stmichaels-litchfield.org/event/aa-meeting-in-the-library/2026-02-16/
LOCATION:Parish House Library\, 25 South Street\, Litchfield\, CT\, 06759\, United States
CATEGORIES:AA/NA Events
END:VEVENT
BEGIN:VEVENT
DTSTART;TZID=America/New_York:20260218T070000
DTEND;TZID=America/New_York:20260218T073000
DTSTAMP:20260421T202402
CREATED:20230606T184551Z
LAST-MODIFIED:20230619T142647Z
UID:10006092-1771398000-1771399800@stmichaels-litchfield.org
SUMMARY:AA Meeting in the Parish House Library
DESCRIPTION:
URL:https://stmichaels-litchfield.org/event/aa-meeting-in-the-library/2026-02-18/
LOCATION:Parish House Library\, 25 South Street\, Litchfield\, CT\, 06759\, United States
CATEGORIES:AA/NA Events
END:VEVENT
BEGIN:VEVENT
DTSTART;TZID=America/New_York:20260218T193000
DTEND;TZID=America/New_York:20260218T210000
DTSTAMP:20260421T202402
CREATED:20211108T180816Z
LAST-MODIFIED:20230714T003135Z
UID:10012450-1771443000-1771448400@stmichaels-litchfield.org
SUMMARY:NA meeting in Community House
DESCRIPTION:
URL:https://stmichaels-litchfield.org/event/narcotics-anonymous/2026-02-18/
LOCATION:Community House in Library from April 9th forward
CATEGORIES:AA/NA Events
END:VEVENT
BEGIN:VEVENT
DTSTART;TZID=America/New_York:20260220T070000
DTEND;TZID=America/New_York:20260220T073000
DTSTAMP:20260421T202402
CREATED:20230606T184551Z
LAST-MODIFIED:20230619T142647Z
UID:10006093-1771570800-1771572600@stmichaels-litchfield.org
SUMMARY:AA Meeting in the Parish House Library
DESCRIPTION:
URL:https://stmichaels-litchfield.org/event/aa-meeting-in-the-library/2026-02-20/
LOCATION:Parish House Library\, 25 South Street\, Litchfield\, CT\, 06759\, United States
CATEGORIES:AA/NA Events
END:VEVENT
BEGIN:VEVENT
DTSTART;TZID=America/New_York:20260221T083000
DTEND;TZID=America/New_York:20260221T093000
DTSTAMP:20260421T202402
CREATED:20230619T143626Z
LAST-MODIFIED:20230619T143720Z
UID:10010703-1771662600-1771666200@stmichaels-litchfield.org
SUMMARY:AA Meeting in Parish House Library
DESCRIPTION:
URL:https://stmichaels-litchfield.org/event/aa-meeting-in-community-house-2/2026-02-21/
LOCATION:Community House in Library from April 9th forward
CATEGORIES:AA/NA Events
END:VEVENT
BEGIN:VEVENT
DTSTART;TZID=America/New_York:20260223T070000
DTEND;TZID=America/New_York:20260223T073000
DTSTAMP:20260421T202402
CREATED:20230606T184551Z
LAST-MODIFIED:20230619T142647Z
UID:10006094-1771830000-1771831800@stmichaels-litchfield.org
SUMMARY:AA Meeting in the Parish House Library
DESCRIPTION:
URL:https://stmichaels-litchfield.org/event/aa-meeting-in-the-library/2026-02-23/
LOCATION:Parish House Library\, 25 South Street\, Litchfield\, CT\, 06759\, United States
CATEGORIES:AA/NA Events
END:VEVENT
BEGIN:VEVENT
DTSTART;TZID=America/New_York:20260224T190000
DTEND;TZID=America/New_York:20260224T200000
DTSTAMP:20260421T202402
CREATED:20211108T175914Z
LAST-MODIFIED:20260130T014621Z
UID:10010097-1771959600-1771963200@stmichaels-litchfield.org
SUMMARY:AA Meeting in Community House
DESCRIPTION:
URL:https://stmichaels-litchfield.org/event/aa-group-in-community-house-2/2026-02-24/
LOCATION:Community House in Library from April 9th forward
CATEGORIES:AA/NA Events
END:VEVENT
BEGIN:VEVENT
DTSTART;TZID=America/New_York:20260225T070000
DTEND;TZID=America/New_York:20260225T073000
DTSTAMP:20260421T202402
CREATED:20230606T184551Z
LAST-MODIFIED:20230619T142647Z
UID:10006095-1772002800-1772004600@stmichaels-litchfield.org
SUMMARY:AA Meeting in the Parish House Library
DESCRIPTION:
URL:https://stmichaels-litchfield.org/event/aa-meeting-in-the-library/2026-02-25/
LOCATION:Parish House Library\, 25 South Street\, Litchfield\, CT\, 06759\, United States
CATEGORIES:AA/NA Events
END:VEVENT
BEGIN:VEVENT
DTSTART;TZID=America/New_York:20260225T193000
DTEND;TZID=America/New_York:20260225T210000
DTSTAMP:20260421T202402
CREATED:20211108T180816Z
LAST-MODIFIED:20230714T003135Z
UID:10012451-1772047800-1772053200@stmichaels-litchfield.org
SUMMARY:NA meeting in Community House
DESCRIPTION:
URL:https://stmichaels-litchfield.org/event/narcotics-anonymous/2026-02-25/
LOCATION:Community House in Library from April 9th forward
CATEGORIES:AA/NA Events
END:VEVENT
BEGIN:VEVENT
DTSTART;TZID=America/New_York:20260227T070000
DTEND;TZID=America/New_York:20260227T073000
DTSTAMP:20260421T202402
CREATED:20230606T184551Z
LAST-MODIFIED:20230619T142647Z
UID:10006096-1772175600-1772177400@stmichaels-litchfield.org
SUMMARY:AA Meeting in the Parish House Library
DESCRIPTION:
URL:https://stmichaels-litchfield.org/event/aa-meeting-in-the-library/2026-02-27/
LOCATION:Parish House Library\, 25 South Street\, Litchfield\, CT\, 06759\, United States
CATEGORIES:AA/NA Events
END:VEVENT
BEGIN:VEVENT
DTSTART;TZID=America/New_York:20260228T083000
DTEND;TZID=America/New_York:20260228T093000
DTSTAMP:20260421T202402
CREATED:20230619T143626Z
LAST-MODIFIED:20230619T143720Z
UID:10010704-1772267400-1772271000@stmichaels-litchfield.org
SUMMARY:AA Meeting in Parish House Library
DESCRIPTION:
URL:https://stmichaels-litchfield.org/event/aa-meeting-in-community-house-2/2026-02-28/
LOCATION:Community House in Library from April 9th forward
CATEGORIES:AA/NA Events
END:VEVENT
BEGIN:VEVENT
DTSTART;TZID=America/New_York:20260302T070000
DTEND;TZID=America/New_York:20260302T073000
DTSTAMP:20260421T202402
CREATED:20230606T184551Z
LAST-MODIFIED:20230619T142647Z
UID:10006097-1772434800-1772436600@stmichaels-litchfield.org
SUMMARY:AA Meeting in the Parish House Library
DESCRIPTION:
URL:https://stmichaels-litchfield.org/event/aa-meeting-in-the-library/2026-03-02/
LOCATION:Parish House Library\, 25 South Street\, Litchfield\, CT\, 06759\, United States
CATEGORIES:AA/NA Events
END:VEVENT
BEGIN:VEVENT
DTSTART;TZID=America/New_York:20260303T190000
DTEND;TZID=America/New_York:20260303T200000
DTSTAMP:20260421T202402
CREATED:20211108T175914Z
LAST-MODIFIED:20260130T014621Z
UID:10010098-1772564400-1772568000@stmichaels-litchfield.org
SUMMARY:AA Meeting in Community House
DESCRIPTION:
URL:https://stmichaels-litchfield.org/event/aa-group-in-community-house-2/2026-03-03/
LOCATION:Community House in Library from April 9th forward
CATEGORIES:AA/NA Events
END:VEVENT
BEGIN:VEVENT
DTSTART;TZID=America/New_York:20260304T070000
DTEND;TZID=America/New_York:20260304T073000
DTSTAMP:20260421T202402
CREATED:20230606T184551Z
LAST-MODIFIED:20230619T142647Z
UID:10006098-1772607600-1772609400@stmichaels-litchfield.org
SUMMARY:AA Meeting in the Parish House Library
DESCRIPTION:
URL:https://stmichaels-litchfield.org/event/aa-meeting-in-the-library/2026-03-04/
LOCATION:Parish House Library\, 25 South Street\, Litchfield\, CT\, 06759\, United States
CATEGORIES:AA/NA Events
END:VEVENT
BEGIN:VEVENT
DTSTART;TZID=America/New_York:20260304T193000
DTEND;TZID=America/New_York:20260304T210000
DTSTAMP:20260421T202402
CREATED:20211108T180816Z
LAST-MODIFIED:20230714T003135Z
UID:10012452-1772652600-1772658000@stmichaels-litchfield.org
SUMMARY:NA meeting in Community House
DESCRIPTION:
URL:https://stmichaels-litchfield.org/event/narcotics-anonymous/2026-03-04/
LOCATION:Community House in Library from April 9th forward
CATEGORIES:AA/NA Events
END:VEVENT
BEGIN:VEVENT
DTSTART;TZID=America/New_York:20260306T070000
DTEND;TZID=America/New_York:20260306T073000
DTSTAMP:20260421T202402
CREATED:20230606T184551Z
LAST-MODIFIED:20230619T142647Z
UID:10006099-1772780400-1772782200@stmichaels-litchfield.org
SUMMARY:AA Meeting in the Parish House Library
DESCRIPTION:
URL:https://stmichaels-litchfield.org/event/aa-meeting-in-the-library/2026-03-06/
LOCATION:Parish House Library\, 25 South Street\, Litchfield\, CT\, 06759\, United States
CATEGORIES:AA/NA Events
END:VEVENT
BEGIN:VEVENT
DTSTART;TZID=America/New_York:20260307T083000
DTEND;TZID=America/New_York:20260307T093000
DTSTAMP:20260421T202402
CREATED:20230619T143626Z
LAST-MODIFIED:20230619T143720Z
UID:10010705-1772872200-1772875800@stmichaels-litchfield.org
SUMMARY:AA Meeting in Parish House Library
DESCRIPTION:
URL:https://stmichaels-litchfield.org/event/aa-meeting-in-community-house-2/2026-03-07/
LOCATION:Community House in Library from April 9th forward
CATEGORIES:AA/NA Events
END:VEVENT
BEGIN:VEVENT
DTSTART;TZID=America/New_York:20260309T070000
DTEND;TZID=America/New_York:20260309T073000
DTSTAMP:20260421T202402
CREATED:20230606T184551Z
LAST-MODIFIED:20230619T142647Z
UID:10006100-1773039600-1773041400@stmichaels-litchfield.org
SUMMARY:AA Meeting in the Parish House Library
DESCRIPTION:
URL:https://stmichaels-litchfield.org/event/aa-meeting-in-the-library/2026-03-09/
LOCATION:Parish House Library\, 25 South Street\, Litchfield\, CT\, 06759\, United States
CATEGORIES:AA/NA Events
END:VEVENT
BEGIN:VEVENT
DTSTART;TZID=America/New_York:20260310T190000
DTEND;TZID=America/New_York:20260310T200000
DTSTAMP:20260421T202402
CREATED:20211108T175914Z
LAST-MODIFIED:20260130T014621Z
UID:10010099-1773169200-1773172800@stmichaels-litchfield.org
SUMMARY:AA Meeting in Community House
DESCRIPTION:
URL:https://stmichaels-litchfield.org/event/aa-group-in-community-house-2/2026-03-10/
LOCATION:Community House in Library from April 9th forward
CATEGORIES:AA/NA Events
END:VEVENT
BEGIN:VEVENT
DTSTART;TZID=America/New_York:20260311T070000
DTEND;TZID=America/New_York:20260311T073000
DTSTAMP:20260421T202402
CREATED:20230606T184551Z
LAST-MODIFIED:20230619T142647Z
UID:10006101-1773212400-1773214200@stmichaels-litchfield.org
SUMMARY:AA Meeting in the Parish House Library
DESCRIPTION:
URL:https://stmichaels-litchfield.org/event/aa-meeting-in-the-library/2026-03-11/
LOCATION:Parish House Library\, 25 South Street\, Litchfield\, CT\, 06759\, United States
CATEGORIES:AA/NA Events
END:VEVENT
BEGIN:VEVENT
DTSTART;TZID=America/New_York:20260311T193000
DTEND;TZID=America/New_York:20260311T210000
DTSTAMP:20260421T202402
CREATED:20211108T180816Z
LAST-MODIFIED:20230714T003135Z
UID:10012453-1773257400-1773262800@stmichaels-litchfield.org
SUMMARY:NA meeting in Community House
DESCRIPTION:
URL:https://stmichaels-litchfield.org/event/narcotics-anonymous/2026-03-11/
LOCATION:Community House in Library from April 9th forward
CATEGORIES:AA/NA Events
END:VEVENT
BEGIN:VEVENT
DTSTART;TZID=America/New_York:20260313T070000
DTEND;TZID=America/New_York:20260313T073000
DTSTAMP:20260421T202402
CREATED:20230606T184551Z
LAST-MODIFIED:20230619T142647Z
UID:10006102-1773385200-1773387000@stmichaels-litchfield.org
SUMMARY:AA Meeting in the Parish House Library
DESCRIPTION:
URL:https://stmichaels-litchfield.org/event/aa-meeting-in-the-library/2026-03-13/
LOCATION:Parish House Library\, 25 South Street\, Litchfield\, CT\, 06759\, United States
CATEGORIES:AA/NA Events
END:VEVENT
BEGIN:VEVENT
DTSTART;TZID=America/New_York:20260314T083000
DTEND;TZID=America/New_York:20260314T093000
DTSTAMP:20260421T202402
CREATED:20230619T143626Z
LAST-MODIFIED:20230619T143720Z
UID:10010706-1773477000-1773480600@stmichaels-litchfield.org
SUMMARY:AA Meeting in Parish House Library
DESCRIPTION:
URL:https://stmichaels-litchfield.org/event/aa-meeting-in-community-house-2/2026-03-14/
LOCATION:Community House in Library from April 9th forward
CATEGORIES:AA/NA Events
END:VEVENT
BEGIN:VEVENT
DTSTART;TZID=America/New_York:20260316T070000
DTEND;TZID=America/New_York:20260316T073000
DTSTAMP:20260421T202402
CREATED:20230606T184551Z
LAST-MODIFIED:20230619T142647Z
UID:10006103-1773644400-1773646200@stmichaels-litchfield.org
SUMMARY:AA Meeting in the Parish House Library
DESCRIPTION:
URL:https://stmichaels-litchfield.org/event/aa-meeting-in-the-library/2026-03-16/
LOCATION:Parish House Library\, 25 South Street\, Litchfield\, CT\, 06759\, United States
CATEGORIES:AA/NA Events
END:VEVENT
END:VCALENDAR