BEGIN:VCALENDAR
VERSION:2.0
PRODID:-//St. Michael&#039;s Church - ECPv6.15.20//NONSGML v1.0//EN
CALSCALE:GREGORIAN
METHOD:PUBLISH
X-WR-CALNAME:St. Michael&#039;s Church
X-ORIGINAL-URL:https://stmichaels-litchfield.org
X-WR-CALDESC:Events for St. Michael&#039;s Church
REFRESH-INTERVAL;VALUE=DURATION:PT1H
X-Robots-Tag:noindex
X-PUBLISHED-TTL:PT1H
BEGIN:VTIMEZONE
TZID:America/New_York
BEGIN:DAYLIGHT
TZOFFSETFROM:-0500
TZOFFSETTO:-0400
TZNAME:EDT
DTSTART:20260308T070000
END:DAYLIGHT
BEGIN:STANDARD
TZOFFSETFROM:-0400
TZOFFSETTO:-0500
TZNAME:EST
DTSTART:20261101T060000
END:STANDARD
BEGIN:DAYLIGHT
TZOFFSETFROM:-0500
TZOFFSETTO:-0400
TZNAME:EDT
DTSTART:20270314T070000
END:DAYLIGHT
BEGIN:STANDARD
TZOFFSETFROM:-0400
TZOFFSETTO:-0500
TZNAME:EST
DTSTART:20271107T060000
END:STANDARD
BEGIN:DAYLIGHT
TZOFFSETFROM:-0500
TZOFFSETTO:-0400
TZNAME:EDT
DTSTART:20280312T070000
END:DAYLIGHT
BEGIN:STANDARD
TZOFFSETFROM:-0400
TZOFFSETTO:-0500
TZNAME:EST
DTSTART:20281105T060000
END:STANDARD
END:VTIMEZONE
BEGIN:VEVENT
DTSTART;TZID=America/New_York:20270727T190000
DTEND;TZID=America/New_York:20270727T200000
DTSTAMP:20260422T022908
CREATED:20211108T175914Z
LAST-MODIFIED:20260130T014621Z
UID:10010171-1816714800-1816718400@stmichaels-litchfield.org
SUMMARY:AA Meeting in Community House
DESCRIPTION:
URL:https://stmichaels-litchfield.org/event/aa-group-in-community-house-2/2027-07-27/
LOCATION:Community House in Library from April 9th forward
CATEGORIES:AA/NA Events
END:VEVENT
BEGIN:VEVENT
DTSTART;TZID=America/New_York:20270728T070000
DTEND;TZID=America/New_York:20270728T073000
DTSTAMP:20260422T022908
CREATED:20230606T184551Z
LAST-MODIFIED:20230619T142647Z
UID:10006317-1816758000-1816759800@stmichaels-litchfield.org
SUMMARY:AA Meeting in the Parish House Library
DESCRIPTION:
URL:https://stmichaels-litchfield.org/event/aa-meeting-in-the-library/2027-07-28/
LOCATION:Parish House Library\, 25 South Street\, Litchfield\, CT\, 06759\, United States
CATEGORIES:AA/NA Events
END:VEVENT
BEGIN:VEVENT
DTSTART;TZID=America/New_York:20270728T193000
DTEND;TZID=America/New_York:20270728T210000
DTSTAMP:20260422T022908
CREATED:20211108T180816Z
LAST-MODIFIED:20230714T003135Z
UID:10012525-1816803000-1816808400@stmichaels-litchfield.org
SUMMARY:NA meeting in Community House
DESCRIPTION:
URL:https://stmichaels-litchfield.org/event/narcotics-anonymous/2027-07-28/
LOCATION:Community House in Library from April 9th forward
CATEGORIES:AA/NA Events
END:VEVENT
BEGIN:VEVENT
DTSTART;TZID=America/New_York:20270730T070000
DTEND;TZID=America/New_York:20270730T073000
DTSTAMP:20260422T022908
CREATED:20230606T184551Z
LAST-MODIFIED:20230619T142647Z
UID:10006318-1816930800-1816932600@stmichaels-litchfield.org
SUMMARY:AA Meeting in the Parish House Library
DESCRIPTION:
URL:https://stmichaels-litchfield.org/event/aa-meeting-in-the-library/2027-07-30/
LOCATION:Parish House Library\, 25 South Street\, Litchfield\, CT\, 06759\, United States
CATEGORIES:AA/NA Events
END:VEVENT
BEGIN:VEVENT
DTSTART;TZID=America/New_York:20270731T083000
DTEND;TZID=America/New_York:20270731T093000
DTSTAMP:20260422T022908
CREATED:20230619T143626Z
LAST-MODIFIED:20230619T143720Z
UID:10010778-1817022600-1817026200@stmichaels-litchfield.org
SUMMARY:AA Meeting in Parish House Library
DESCRIPTION:
URL:https://stmichaels-litchfield.org/event/aa-meeting-in-community-house-2/2027-07-31/
LOCATION:Community House in Library from April 9th forward
CATEGORIES:AA/NA Events
END:VEVENT
BEGIN:VEVENT
DTSTART;TZID=America/New_York:20270802T070000
DTEND;TZID=America/New_York:20270802T073000
DTSTAMP:20260422T022908
CREATED:20230606T184551Z
LAST-MODIFIED:20230619T142647Z
UID:10006319-1817190000-1817191800@stmichaels-litchfield.org
SUMMARY:AA Meeting in the Parish House Library
DESCRIPTION:
URL:https://stmichaels-litchfield.org/event/aa-meeting-in-the-library/2027-08-02/
LOCATION:Parish House Library\, 25 South Street\, Litchfield\, CT\, 06759\, United States
CATEGORIES:AA/NA Events
END:VEVENT
BEGIN:VEVENT
DTSTART;TZID=America/New_York:20270803T190000
DTEND;TZID=America/New_York:20270803T200000
DTSTAMP:20260422T022908
CREATED:20211108T175914Z
LAST-MODIFIED:20260130T014621Z
UID:10010172-1817319600-1817323200@stmichaels-litchfield.org
SUMMARY:AA Meeting in Community House
DESCRIPTION:
URL:https://stmichaels-litchfield.org/event/aa-group-in-community-house-2/2027-08-03/
LOCATION:Community House in Library from April 9th forward
CATEGORIES:AA/NA Events
END:VEVENT
BEGIN:VEVENT
DTSTART;TZID=America/New_York:20270804T070000
DTEND;TZID=America/New_York:20270804T073000
DTSTAMP:20260422T022908
CREATED:20230606T184551Z
LAST-MODIFIED:20230619T142647Z
UID:10006320-1817362800-1817364600@stmichaels-litchfield.org
SUMMARY:AA Meeting in the Parish House Library
DESCRIPTION:
URL:https://stmichaels-litchfield.org/event/aa-meeting-in-the-library/2027-08-04/
LOCATION:Parish House Library\, 25 South Street\, Litchfield\, CT\, 06759\, United States
CATEGORIES:AA/NA Events
END:VEVENT
BEGIN:VEVENT
DTSTART;TZID=America/New_York:20270804T193000
DTEND;TZID=America/New_York:20270804T210000
DTSTAMP:20260422T022908
CREATED:20211108T180816Z
LAST-MODIFIED:20230714T003135Z
UID:10012526-1817407800-1817413200@stmichaels-litchfield.org
SUMMARY:NA meeting in Community House
DESCRIPTION:
URL:https://stmichaels-litchfield.org/event/narcotics-anonymous/2027-08-04/
LOCATION:Community House in Library from April 9th forward
CATEGORIES:AA/NA Events
END:VEVENT
BEGIN:VEVENT
DTSTART;TZID=America/New_York:20270806T070000
DTEND;TZID=America/New_York:20270806T073000
DTSTAMP:20260422T022908
CREATED:20230606T184551Z
LAST-MODIFIED:20230619T142647Z
UID:10006321-1817535600-1817537400@stmichaels-litchfield.org
SUMMARY:AA Meeting in the Parish House Library
DESCRIPTION:
URL:https://stmichaels-litchfield.org/event/aa-meeting-in-the-library/2027-08-06/
LOCATION:Parish House Library\, 25 South Street\, Litchfield\, CT\, 06759\, United States
CATEGORIES:AA/NA Events
END:VEVENT
BEGIN:VEVENT
DTSTART;TZID=America/New_York:20270807T083000
DTEND;TZID=America/New_York:20270807T093000
DTSTAMP:20260422T022908
CREATED:20230619T143626Z
LAST-MODIFIED:20230619T143720Z
UID:10010779-1817627400-1817631000@stmichaels-litchfield.org
SUMMARY:AA Meeting in Parish House Library
DESCRIPTION:
URL:https://stmichaels-litchfield.org/event/aa-meeting-in-community-house-2/2027-08-07/
LOCATION:Community House in Library from April 9th forward
CATEGORIES:AA/NA Events
END:VEVENT
BEGIN:VEVENT
DTSTART;TZID=America/New_York:20270809T070000
DTEND;TZID=America/New_York:20270809T073000
DTSTAMP:20260422T022908
CREATED:20230606T184551Z
LAST-MODIFIED:20230619T142647Z
UID:10006322-1817794800-1817796600@stmichaels-litchfield.org
SUMMARY:AA Meeting in the Parish House Library
DESCRIPTION:
URL:https://stmichaels-litchfield.org/event/aa-meeting-in-the-library/2027-08-09/
LOCATION:Parish House Library\, 25 South Street\, Litchfield\, CT\, 06759\, United States
CATEGORIES:AA/NA Events
END:VEVENT
BEGIN:VEVENT
DTSTART;TZID=America/New_York:20270810T190000
DTEND;TZID=America/New_York:20270810T200000
DTSTAMP:20260422T022908
CREATED:20211108T175914Z
LAST-MODIFIED:20260130T014621Z
UID:10010173-1817924400-1817928000@stmichaels-litchfield.org
SUMMARY:AA Meeting in Community House
DESCRIPTION:
URL:https://stmichaels-litchfield.org/event/aa-group-in-community-house-2/2027-08-10/
LOCATION:Community House in Library from April 9th forward
CATEGORIES:AA/NA Events
END:VEVENT
BEGIN:VEVENT
DTSTART;TZID=America/New_York:20270811T070000
DTEND;TZID=America/New_York:20270811T073000
DTSTAMP:20260422T022908
CREATED:20230606T184551Z
LAST-MODIFIED:20230619T142647Z
UID:10006323-1817967600-1817969400@stmichaels-litchfield.org
SUMMARY:AA Meeting in the Parish House Library
DESCRIPTION:
URL:https://stmichaels-litchfield.org/event/aa-meeting-in-the-library/2027-08-11/
LOCATION:Parish House Library\, 25 South Street\, Litchfield\, CT\, 06759\, United States
CATEGORIES:AA/NA Events
END:VEVENT
BEGIN:VEVENT
DTSTART;TZID=America/New_York:20270811T193000
DTEND;TZID=America/New_York:20270811T210000
DTSTAMP:20260422T022908
CREATED:20211108T180816Z
LAST-MODIFIED:20230714T003135Z
UID:10012527-1818012600-1818018000@stmichaels-litchfield.org
SUMMARY:NA meeting in Community House
DESCRIPTION:
URL:https://stmichaels-litchfield.org/event/narcotics-anonymous/2027-08-11/
LOCATION:Community House in Library from April 9th forward
CATEGORIES:AA/NA Events
END:VEVENT
BEGIN:VEVENT
DTSTART;TZID=America/New_York:20270813T070000
DTEND;TZID=America/New_York:20270813T073000
DTSTAMP:20260422T022908
CREATED:20230606T184551Z
LAST-MODIFIED:20230619T142647Z
UID:10006324-1818140400-1818142200@stmichaels-litchfield.org
SUMMARY:AA Meeting in the Parish House Library
DESCRIPTION:
URL:https://stmichaels-litchfield.org/event/aa-meeting-in-the-library/2027-08-13/
LOCATION:Parish House Library\, 25 South Street\, Litchfield\, CT\, 06759\, United States
CATEGORIES:AA/NA Events
END:VEVENT
BEGIN:VEVENT
DTSTART;TZID=America/New_York:20270814T083000
DTEND;TZID=America/New_York:20270814T093000
DTSTAMP:20260422T022908
CREATED:20230619T143626Z
LAST-MODIFIED:20230619T143720Z
UID:10010780-1818232200-1818235800@stmichaels-litchfield.org
SUMMARY:AA Meeting in Parish House Library
DESCRIPTION:
URL:https://stmichaels-litchfield.org/event/aa-meeting-in-community-house-2/2027-08-14/
LOCATION:Community House in Library from April 9th forward
CATEGORIES:AA/NA Events
END:VEVENT
BEGIN:VEVENT
DTSTART;TZID=America/New_York:20270816T070000
DTEND;TZID=America/New_York:20270816T073000
DTSTAMP:20260422T022908
CREATED:20230606T184551Z
LAST-MODIFIED:20230619T142647Z
UID:10006325-1818399600-1818401400@stmichaels-litchfield.org
SUMMARY:AA Meeting in the Parish House Library
DESCRIPTION:
URL:https://stmichaels-litchfield.org/event/aa-meeting-in-the-library/2027-08-16/
LOCATION:Parish House Library\, 25 South Street\, Litchfield\, CT\, 06759\, United States
CATEGORIES:AA/NA Events
END:VEVENT
BEGIN:VEVENT
DTSTART;TZID=America/New_York:20270817T190000
DTEND;TZID=America/New_York:20270817T200000
DTSTAMP:20260422T022908
CREATED:20211108T175914Z
LAST-MODIFIED:20260130T014621Z
UID:10010174-1818529200-1818532800@stmichaels-litchfield.org
SUMMARY:AA Meeting in Community House
DESCRIPTION:
URL:https://stmichaels-litchfield.org/event/aa-group-in-community-house-2/2027-08-17/
LOCATION:Community House in Library from April 9th forward
CATEGORIES:AA/NA Events
END:VEVENT
BEGIN:VEVENT
DTSTART;TZID=America/New_York:20270818T070000
DTEND;TZID=America/New_York:20270818T073000
DTSTAMP:20260422T022909
CREATED:20230606T184551Z
LAST-MODIFIED:20230619T142647Z
UID:10006326-1818572400-1818574200@stmichaels-litchfield.org
SUMMARY:AA Meeting in the Parish House Library
DESCRIPTION:
URL:https://stmichaels-litchfield.org/event/aa-meeting-in-the-library/2027-08-18/
LOCATION:Parish House Library\, 25 South Street\, Litchfield\, CT\, 06759\, United States
CATEGORIES:AA/NA Events
END:VEVENT
BEGIN:VEVENT
DTSTART;TZID=America/New_York:20270818T193000
DTEND;TZID=America/New_York:20270818T210000
DTSTAMP:20260422T022909
CREATED:20211108T180816Z
LAST-MODIFIED:20230714T003135Z
UID:10012528-1818617400-1818622800@stmichaels-litchfield.org
SUMMARY:NA meeting in Community House
DESCRIPTION:
URL:https://stmichaels-litchfield.org/event/narcotics-anonymous/2027-08-18/
LOCATION:Community House in Library from April 9th forward
CATEGORIES:AA/NA Events
END:VEVENT
BEGIN:VEVENT
DTSTART;TZID=America/New_York:20270820T070000
DTEND;TZID=America/New_York:20270820T073000
DTSTAMP:20260422T022909
CREATED:20230606T184551Z
LAST-MODIFIED:20230619T142647Z
UID:10006327-1818745200-1818747000@stmichaels-litchfield.org
SUMMARY:AA Meeting in the Parish House Library
DESCRIPTION:
URL:https://stmichaels-litchfield.org/event/aa-meeting-in-the-library/2027-08-20/
LOCATION:Parish House Library\, 25 South Street\, Litchfield\, CT\, 06759\, United States
CATEGORIES:AA/NA Events
END:VEVENT
BEGIN:VEVENT
DTSTART;TZID=America/New_York:20270821T083000
DTEND;TZID=America/New_York:20270821T093000
DTSTAMP:20260422T022909
CREATED:20230619T143626Z
LAST-MODIFIED:20230619T143720Z
UID:10010781-1818837000-1818840600@stmichaels-litchfield.org
SUMMARY:AA Meeting in Parish House Library
DESCRIPTION:
URL:https://stmichaels-litchfield.org/event/aa-meeting-in-community-house-2/2027-08-21/
LOCATION:Community House in Library from April 9th forward
CATEGORIES:AA/NA Events
END:VEVENT
BEGIN:VEVENT
DTSTART;TZID=America/New_York:20270823T070000
DTEND;TZID=America/New_York:20270823T073000
DTSTAMP:20260422T022909
CREATED:20230606T184551Z
LAST-MODIFIED:20230619T142647Z
UID:10006328-1819004400-1819006200@stmichaels-litchfield.org
SUMMARY:AA Meeting in the Parish House Library
DESCRIPTION:
URL:https://stmichaels-litchfield.org/event/aa-meeting-in-the-library/2027-08-23/
LOCATION:Parish House Library\, 25 South Street\, Litchfield\, CT\, 06759\, United States
CATEGORIES:AA/NA Events
END:VEVENT
BEGIN:VEVENT
DTSTART;TZID=America/New_York:20270824T190000
DTEND;TZID=America/New_York:20270824T200000
DTSTAMP:20260422T022909
CREATED:20211108T175914Z
LAST-MODIFIED:20260130T014621Z
UID:10010175-1819134000-1819137600@stmichaels-litchfield.org
SUMMARY:AA Meeting in Community House
DESCRIPTION:
URL:https://stmichaels-litchfield.org/event/aa-group-in-community-house-2/2027-08-24/
LOCATION:Community House in Library from April 9th forward
CATEGORIES:AA/NA Events
END:VEVENT
BEGIN:VEVENT
DTSTART;TZID=America/New_York:20270825T070000
DTEND;TZID=America/New_York:20270825T073000
DTSTAMP:20260422T022909
CREATED:20230606T184551Z
LAST-MODIFIED:20230619T142647Z
UID:10006329-1819177200-1819179000@stmichaels-litchfield.org
SUMMARY:AA Meeting in the Parish House Library
DESCRIPTION:
URL:https://stmichaels-litchfield.org/event/aa-meeting-in-the-library/2027-08-25/
LOCATION:Parish House Library\, 25 South Street\, Litchfield\, CT\, 06759\, United States
CATEGORIES:AA/NA Events
END:VEVENT
BEGIN:VEVENT
DTSTART;TZID=America/New_York:20270825T193000
DTEND;TZID=America/New_York:20270825T210000
DTSTAMP:20260422T022909
CREATED:20211108T180816Z
LAST-MODIFIED:20230714T003135Z
UID:10012529-1819222200-1819227600@stmichaels-litchfield.org
SUMMARY:NA meeting in Community House
DESCRIPTION:
URL:https://stmichaels-litchfield.org/event/narcotics-anonymous/2027-08-25/
LOCATION:Community House in Library from April 9th forward
CATEGORIES:AA/NA Events
END:VEVENT
BEGIN:VEVENT
DTSTART;TZID=America/New_York:20270827T070000
DTEND;TZID=America/New_York:20270827T073000
DTSTAMP:20260422T022909
CREATED:20230606T184551Z
LAST-MODIFIED:20230619T142647Z
UID:10006330-1819350000-1819351800@stmichaels-litchfield.org
SUMMARY:AA Meeting in the Parish House Library
DESCRIPTION:
URL:https://stmichaels-litchfield.org/event/aa-meeting-in-the-library/2027-08-27/
LOCATION:Parish House Library\, 25 South Street\, Litchfield\, CT\, 06759\, United States
CATEGORIES:AA/NA Events
END:VEVENT
BEGIN:VEVENT
DTSTART;TZID=America/New_York:20270828T083000
DTEND;TZID=America/New_York:20270828T093000
DTSTAMP:20260422T022909
CREATED:20230619T143626Z
LAST-MODIFIED:20230619T143720Z
UID:10010782-1819441800-1819445400@stmichaels-litchfield.org
SUMMARY:AA Meeting in Parish House Library
DESCRIPTION:
URL:https://stmichaels-litchfield.org/event/aa-meeting-in-community-house-2/2027-08-28/
LOCATION:Community House in Library from April 9th forward
CATEGORIES:AA/NA Events
END:VEVENT
BEGIN:VEVENT
DTSTART;TZID=America/New_York:20270830T070000
DTEND;TZID=America/New_York:20270830T073000
DTSTAMP:20260422T022909
CREATED:20230606T184551Z
LAST-MODIFIED:20230619T142647Z
UID:10006331-1819609200-1819611000@stmichaels-litchfield.org
SUMMARY:AA Meeting in the Parish House Library
DESCRIPTION:
URL:https://stmichaels-litchfield.org/event/aa-meeting-in-the-library/2027-08-30/
LOCATION:Parish House Library\, 25 South Street\, Litchfield\, CT\, 06759\, United States
CATEGORIES:AA/NA Events
END:VEVENT
END:VCALENDAR