BEGIN:VCALENDAR
VERSION:2.0
PRODID:-//St. Michael&#039;s Church - ECPv6.15.20//NONSGML v1.0//EN
CALSCALE:GREGORIAN
METHOD:PUBLISH
X-ORIGINAL-URL:https://stmichaels-litchfield.org
X-WR-CALDESC:Events for St. Michael&#039;s Church
REFRESH-INTERVAL;VALUE=DURATION:PT1H
X-Robots-Tag:noindex
X-PUBLISHED-TTL:PT1H
BEGIN:VTIMEZONE
TZID:America/New_York
BEGIN:DAYLIGHT
TZOFFSETFROM:-0500
TZOFFSETTO:-0400
TZNAME:EDT
DTSTART:20260308T070000
END:DAYLIGHT
BEGIN:STANDARD
TZOFFSETFROM:-0400
TZOFFSETTO:-0500
TZNAME:EST
DTSTART:20261101T060000
END:STANDARD
BEGIN:DAYLIGHT
TZOFFSETFROM:-0500
TZOFFSETTO:-0400
TZNAME:EDT
DTSTART:20270314T070000
END:DAYLIGHT
BEGIN:STANDARD
TZOFFSETFROM:-0400
TZOFFSETTO:-0500
TZNAME:EST
DTSTART:20271107T060000
END:STANDARD
BEGIN:DAYLIGHT
TZOFFSETFROM:-0500
TZOFFSETTO:-0400
TZNAME:EDT
DTSTART:20280312T070000
END:DAYLIGHT
BEGIN:STANDARD
TZOFFSETFROM:-0400
TZOFFSETTO:-0500
TZNAME:EST
DTSTART:20281105T060000
END:STANDARD
END:VTIMEZONE
BEGIN:VEVENT
DTSTART;TZID=America/New_York:20271020T070000
DTEND;TZID=America/New_York:20271020T073000
DTSTAMP:20260422T114511
CREATED:20230606T184551Z
LAST-MODIFIED:20230619T142647Z
UID:10006353-1824015600-1824017400@stmichaels-litchfield.org
SUMMARY:AA Meeting in the Parish House Library
DESCRIPTION:
URL:https://stmichaels-litchfield.org/event/aa-meeting-in-the-library/2027-10-20/
LOCATION:Parish House Library\, 25 South Street\, Litchfield\, CT\, 06759\, United States
CATEGORIES:AA/NA Events
END:VEVENT
BEGIN:VEVENT
DTSTART;TZID=America/New_York:20271020T193000
DTEND;TZID=America/New_York:20271020T210000
DTSTAMP:20260422T114511
CREATED:20211108T180816Z
LAST-MODIFIED:20230714T003135Z
UID:10012537-1824060600-1824066000@stmichaels-litchfield.org
SUMMARY:NA meeting in Community House
DESCRIPTION:
URL:https://stmichaels-litchfield.org/event/narcotics-anonymous/2027-10-20/
LOCATION:Community House in Library from April 9th forward
CATEGORIES:AA/NA Events
END:VEVENT
BEGIN:VEVENT
DTSTART;TZID=America/New_York:20271022T070000
DTEND;TZID=America/New_York:20271022T073000
DTSTAMP:20260422T114511
CREATED:20230606T184551Z
LAST-MODIFIED:20230619T142647Z
UID:10006354-1824188400-1824190200@stmichaels-litchfield.org
SUMMARY:AA Meeting in the Parish House Library
DESCRIPTION:
URL:https://stmichaels-litchfield.org/event/aa-meeting-in-the-library/2027-10-22/
LOCATION:Parish House Library\, 25 South Street\, Litchfield\, CT\, 06759\, United States
CATEGORIES:AA/NA Events
END:VEVENT
BEGIN:VEVENT
DTSTART;TZID=America/New_York:20271023T083000
DTEND;TZID=America/New_York:20271023T093000
DTSTAMP:20260422T114511
CREATED:20230619T143626Z
LAST-MODIFIED:20230619T143720Z
UID:10010790-1824280200-1824283800@stmichaels-litchfield.org
SUMMARY:AA Meeting in Parish House Library
DESCRIPTION:
URL:https://stmichaels-litchfield.org/event/aa-meeting-in-community-house-2/2027-10-23/
LOCATION:Community House in Library from April 9th forward
CATEGORIES:AA/NA Events
END:VEVENT
BEGIN:VEVENT
DTSTART;TZID=America/New_York:20271025T070000
DTEND;TZID=America/New_York:20271025T073000
DTSTAMP:20260422T114511
CREATED:20230606T184551Z
LAST-MODIFIED:20230619T142647Z
UID:10006355-1824447600-1824449400@stmichaels-litchfield.org
SUMMARY:AA Meeting in the Parish House Library
DESCRIPTION:
URL:https://stmichaels-litchfield.org/event/aa-meeting-in-the-library/2027-10-25/
LOCATION:Parish House Library\, 25 South Street\, Litchfield\, CT\, 06759\, United States
CATEGORIES:AA/NA Events
END:VEVENT
BEGIN:VEVENT
DTSTART;TZID=America/New_York:20271026T190000
DTEND;TZID=America/New_York:20271026T200000
DTSTAMP:20260422T114511
CREATED:20211108T175914Z
LAST-MODIFIED:20260130T014621Z
UID:10010184-1824577200-1824580800@stmichaels-litchfield.org
SUMMARY:AA Meeting in Community House
DESCRIPTION:
URL:https://stmichaels-litchfield.org/event/aa-group-in-community-house-2/2027-10-26/
LOCATION:Community House in Library from April 9th forward
CATEGORIES:AA/NA Events
END:VEVENT
BEGIN:VEVENT
DTSTART;TZID=America/New_York:20271027T070000
DTEND;TZID=America/New_York:20271027T073000
DTSTAMP:20260422T114511
CREATED:20230606T184551Z
LAST-MODIFIED:20230619T142647Z
UID:10006356-1824620400-1824622200@stmichaels-litchfield.org
SUMMARY:AA Meeting in the Parish House Library
DESCRIPTION:
URL:https://stmichaels-litchfield.org/event/aa-meeting-in-the-library/2027-10-27/
LOCATION:Parish House Library\, 25 South Street\, Litchfield\, CT\, 06759\, United States
CATEGORIES:AA/NA Events
END:VEVENT
BEGIN:VEVENT
DTSTART;TZID=America/New_York:20271027T193000
DTEND;TZID=America/New_York:20271027T210000
DTSTAMP:20260422T114511
CREATED:20211108T180816Z
LAST-MODIFIED:20230714T003135Z
UID:10012538-1824665400-1824670800@stmichaels-litchfield.org
SUMMARY:NA meeting in Community House
DESCRIPTION:
URL:https://stmichaels-litchfield.org/event/narcotics-anonymous/2027-10-27/
LOCATION:Community House in Library from April 9th forward
CATEGORIES:AA/NA Events
END:VEVENT
BEGIN:VEVENT
DTSTART;TZID=America/New_York:20271029T070000
DTEND;TZID=America/New_York:20271029T073000
DTSTAMP:20260422T114511
CREATED:20230606T184551Z
LAST-MODIFIED:20230619T142647Z
UID:10006357-1824793200-1824795000@stmichaels-litchfield.org
SUMMARY:AA Meeting in the Parish House Library
DESCRIPTION:
URL:https://stmichaels-litchfield.org/event/aa-meeting-in-the-library/2027-10-29/
LOCATION:Parish House Library\, 25 South Street\, Litchfield\, CT\, 06759\, United States
CATEGORIES:AA/NA Events
END:VEVENT
BEGIN:VEVENT
DTSTART;TZID=America/New_York:20271030T083000
DTEND;TZID=America/New_York:20271030T093000
DTSTAMP:20260422T114511
CREATED:20230619T143626Z
LAST-MODIFIED:20230619T143720Z
UID:10010791-1824885000-1824888600@stmichaels-litchfield.org
SUMMARY:AA Meeting in Parish House Library
DESCRIPTION:
URL:https://stmichaels-litchfield.org/event/aa-meeting-in-community-house-2/2027-10-30/
LOCATION:Community House in Library from April 9th forward
CATEGORIES:AA/NA Events
END:VEVENT
BEGIN:VEVENT
DTSTART;TZID=America/New_York:20271101T070000
DTEND;TZID=America/New_York:20271101T073000
DTSTAMP:20260422T114511
CREATED:20230606T184551Z
LAST-MODIFIED:20230619T142647Z
UID:10006358-1825052400-1825054200@stmichaels-litchfield.org
SUMMARY:AA Meeting in the Parish House Library
DESCRIPTION:
URL:https://stmichaels-litchfield.org/event/aa-meeting-in-the-library/2027-11-01/
LOCATION:Parish House Library\, 25 South Street\, Litchfield\, CT\, 06759\, United States
CATEGORIES:AA/NA Events
END:VEVENT
BEGIN:VEVENT
DTSTART;TZID=America/New_York:20271102T190000
DTEND;TZID=America/New_York:20271102T200000
DTSTAMP:20260422T114511
CREATED:20211108T175914Z
LAST-MODIFIED:20260130T014621Z
UID:10010185-1825182000-1825185600@stmichaels-litchfield.org
SUMMARY:AA Meeting in Community House
DESCRIPTION:
URL:https://stmichaels-litchfield.org/event/aa-group-in-community-house-2/2027-11-02/
LOCATION:Community House in Library from April 9th forward
CATEGORIES:AA/NA Events
END:VEVENT
BEGIN:VEVENT
DTSTART;TZID=America/New_York:20271103T070000
DTEND;TZID=America/New_York:20271103T073000
DTSTAMP:20260422T114511
CREATED:20230606T184551Z
LAST-MODIFIED:20230619T142647Z
UID:10006359-1825225200-1825227000@stmichaels-litchfield.org
SUMMARY:AA Meeting in the Parish House Library
DESCRIPTION:
URL:https://stmichaels-litchfield.org/event/aa-meeting-in-the-library/2027-11-03/
LOCATION:Parish House Library\, 25 South Street\, Litchfield\, CT\, 06759\, United States
CATEGORIES:AA/NA Events
END:VEVENT
BEGIN:VEVENT
DTSTART;TZID=America/New_York:20271103T193000
DTEND;TZID=America/New_York:20271103T210000
DTSTAMP:20260422T114511
CREATED:20211108T180816Z
LAST-MODIFIED:20230714T003135Z
UID:10012539-1825270200-1825275600@stmichaels-litchfield.org
SUMMARY:NA meeting in Community House
DESCRIPTION:
URL:https://stmichaels-litchfield.org/event/narcotics-anonymous/2027-11-03/
LOCATION:Community House in Library from April 9th forward
CATEGORIES:AA/NA Events
END:VEVENT
BEGIN:VEVENT
DTSTART;TZID=America/New_York:20271105T070000
DTEND;TZID=America/New_York:20271105T073000
DTSTAMP:20260422T114511
CREATED:20230606T184551Z
LAST-MODIFIED:20230619T142647Z
UID:10006360-1825398000-1825399800@stmichaels-litchfield.org
SUMMARY:AA Meeting in the Parish House Library
DESCRIPTION:
URL:https://stmichaels-litchfield.org/event/aa-meeting-in-the-library/2027-11-05/
LOCATION:Parish House Library\, 25 South Street\, Litchfield\, CT\, 06759\, United States
CATEGORIES:AA/NA Events
END:VEVENT
BEGIN:VEVENT
DTSTART;TZID=America/New_York:20271106T083000
DTEND;TZID=America/New_York:20271106T093000
DTSTAMP:20260422T114511
CREATED:20230619T143626Z
LAST-MODIFIED:20230619T143720Z
UID:10010792-1825489800-1825493400@stmichaels-litchfield.org
SUMMARY:AA Meeting in Parish House Library
DESCRIPTION:
URL:https://stmichaels-litchfield.org/event/aa-meeting-in-community-house-2/2027-11-06/
LOCATION:Community House in Library from April 9th forward
CATEGORIES:AA/NA Events
END:VEVENT
BEGIN:VEVENT
DTSTART;TZID=America/New_York:20271108T070000
DTEND;TZID=America/New_York:20271108T073000
DTSTAMP:20260422T114511
CREATED:20230606T184551Z
LAST-MODIFIED:20230619T142647Z
UID:10006361-1825657200-1825659000@stmichaels-litchfield.org
SUMMARY:AA Meeting in the Parish House Library
DESCRIPTION:
URL:https://stmichaels-litchfield.org/event/aa-meeting-in-the-library/2027-11-08/
LOCATION:Parish House Library\, 25 South Street\, Litchfield\, CT\, 06759\, United States
CATEGORIES:AA/NA Events
END:VEVENT
BEGIN:VEVENT
DTSTART;TZID=America/New_York:20271109T190000
DTEND;TZID=America/New_York:20271109T200000
DTSTAMP:20260422T114511
CREATED:20211108T175914Z
LAST-MODIFIED:20260130T014621Z
UID:10010186-1825786800-1825790400@stmichaels-litchfield.org
SUMMARY:AA Meeting in Community House
DESCRIPTION:
URL:https://stmichaels-litchfield.org/event/aa-group-in-community-house-2/2027-11-09/
LOCATION:Community House in Library from April 9th forward
CATEGORIES:AA/NA Events
END:VEVENT
BEGIN:VEVENT
DTSTART;TZID=America/New_York:20271110T070000
DTEND;TZID=America/New_York:20271110T073000
DTSTAMP:20260422T114511
CREATED:20230606T184551Z
LAST-MODIFIED:20230619T142647Z
UID:10006362-1825830000-1825831800@stmichaels-litchfield.org
SUMMARY:AA Meeting in the Parish House Library
DESCRIPTION:
URL:https://stmichaels-litchfield.org/event/aa-meeting-in-the-library/2027-11-10/
LOCATION:Parish House Library\, 25 South Street\, Litchfield\, CT\, 06759\, United States
CATEGORIES:AA/NA Events
END:VEVENT
BEGIN:VEVENT
DTSTART;TZID=America/New_York:20271110T193000
DTEND;TZID=America/New_York:20271110T210000
DTSTAMP:20260422T114511
CREATED:20211108T180816Z
LAST-MODIFIED:20230714T003135Z
UID:10012540-1825875000-1825880400@stmichaels-litchfield.org
SUMMARY:NA meeting in Community House
DESCRIPTION:
URL:https://stmichaels-litchfield.org/event/narcotics-anonymous/2027-11-10/
LOCATION:Community House in Library from April 9th forward
CATEGORIES:AA/NA Events
END:VEVENT
BEGIN:VEVENT
DTSTART;TZID=America/New_York:20271112T070000
DTEND;TZID=America/New_York:20271112T073000
DTSTAMP:20260422T114511
CREATED:20230606T184551Z
LAST-MODIFIED:20230619T142647Z
UID:10006363-1826002800-1826004600@stmichaels-litchfield.org
SUMMARY:AA Meeting in the Parish House Library
DESCRIPTION:
URL:https://stmichaels-litchfield.org/event/aa-meeting-in-the-library/2027-11-12/
LOCATION:Parish House Library\, 25 South Street\, Litchfield\, CT\, 06759\, United States
CATEGORIES:AA/NA Events
END:VEVENT
BEGIN:VEVENT
DTSTART;TZID=America/New_York:20271113T083000
DTEND;TZID=America/New_York:20271113T093000
DTSTAMP:20260422T114511
CREATED:20230619T143626Z
LAST-MODIFIED:20230619T143720Z
UID:10010793-1826094600-1826098200@stmichaels-litchfield.org
SUMMARY:AA Meeting in Parish House Library
DESCRIPTION:
URL:https://stmichaels-litchfield.org/event/aa-meeting-in-community-house-2/2027-11-13/
LOCATION:Community House in Library from April 9th forward
CATEGORIES:AA/NA Events
END:VEVENT
BEGIN:VEVENT
DTSTART;TZID=America/New_York:20271115T070000
DTEND;TZID=America/New_York:20271115T073000
DTSTAMP:20260422T114511
CREATED:20230606T184551Z
LAST-MODIFIED:20230619T142647Z
UID:10006364-1826262000-1826263800@stmichaels-litchfield.org
SUMMARY:AA Meeting in the Parish House Library
DESCRIPTION:
URL:https://stmichaels-litchfield.org/event/aa-meeting-in-the-library/2027-11-15/
LOCATION:Parish House Library\, 25 South Street\, Litchfield\, CT\, 06759\, United States
CATEGORIES:AA/NA Events
END:VEVENT
BEGIN:VEVENT
DTSTART;TZID=America/New_York:20271116T190000
DTEND;TZID=America/New_York:20271116T200000
DTSTAMP:20260422T114511
CREATED:20211108T175914Z
LAST-MODIFIED:20260130T014621Z
UID:10010187-1826391600-1826395200@stmichaels-litchfield.org
SUMMARY:AA Meeting in Community House
DESCRIPTION:
URL:https://stmichaels-litchfield.org/event/aa-group-in-community-house-2/2027-11-16/
LOCATION:Community House in Library from April 9th forward
CATEGORIES:AA/NA Events
END:VEVENT
BEGIN:VEVENT
DTSTART;TZID=America/New_York:20271117T070000
DTEND;TZID=America/New_York:20271117T073000
DTSTAMP:20260422T114511
CREATED:20230606T184551Z
LAST-MODIFIED:20230619T142647Z
UID:10006365-1826434800-1826436600@stmichaels-litchfield.org
SUMMARY:AA Meeting in the Parish House Library
DESCRIPTION:
URL:https://stmichaels-litchfield.org/event/aa-meeting-in-the-library/2027-11-17/
LOCATION:Parish House Library\, 25 South Street\, Litchfield\, CT\, 06759\, United States
CATEGORIES:AA/NA Events
END:VEVENT
BEGIN:VEVENT
DTSTART;TZID=America/New_York:20271117T193000
DTEND;TZID=America/New_York:20271117T210000
DTSTAMP:20260422T114511
CREATED:20211108T180816Z
LAST-MODIFIED:20230714T003135Z
UID:10012541-1826479800-1826485200@stmichaels-litchfield.org
SUMMARY:NA meeting in Community House
DESCRIPTION:
URL:https://stmichaels-litchfield.org/event/narcotics-anonymous/2027-11-17/
LOCATION:Community House in Library from April 9th forward
CATEGORIES:AA/NA Events
END:VEVENT
BEGIN:VEVENT
DTSTART;TZID=America/New_York:20271119T070000
DTEND;TZID=America/New_York:20271119T073000
DTSTAMP:20260422T114511
CREATED:20230606T184551Z
LAST-MODIFIED:20230619T142647Z
UID:10006366-1826607600-1826609400@stmichaels-litchfield.org
SUMMARY:AA Meeting in the Parish House Library
DESCRIPTION:
URL:https://stmichaels-litchfield.org/event/aa-meeting-in-the-library/2027-11-19/
LOCATION:Parish House Library\, 25 South Street\, Litchfield\, CT\, 06759\, United States
CATEGORIES:AA/NA Events
END:VEVENT
BEGIN:VEVENT
DTSTART;TZID=America/New_York:20271120T083000
DTEND;TZID=America/New_York:20271120T093000
DTSTAMP:20260422T114511
CREATED:20230619T143626Z
LAST-MODIFIED:20230619T143720Z
UID:10010794-1826699400-1826703000@stmichaels-litchfield.org
SUMMARY:AA Meeting in Parish House Library
DESCRIPTION:
URL:https://stmichaels-litchfield.org/event/aa-meeting-in-community-house-2/2027-11-20/
LOCATION:Community House in Library from April 9th forward
CATEGORIES:AA/NA Events
END:VEVENT
BEGIN:VEVENT
DTSTART;TZID=America/New_York:20271122T070000
DTEND;TZID=America/New_York:20271122T073000
DTSTAMP:20260422T114511
CREATED:20230606T184551Z
LAST-MODIFIED:20230619T142647Z
UID:10006367-1826866800-1826868600@stmichaels-litchfield.org
SUMMARY:AA Meeting in the Parish House Library
DESCRIPTION:
URL:https://stmichaels-litchfield.org/event/aa-meeting-in-the-library/2027-11-22/
LOCATION:Parish House Library\, 25 South Street\, Litchfield\, CT\, 06759\, United States
CATEGORIES:AA/NA Events
END:VEVENT
BEGIN:VEVENT
DTSTART;TZID=America/New_York:20271123T190000
DTEND;TZID=America/New_York:20271123T200000
DTSTAMP:20260422T114511
CREATED:20211108T175914Z
LAST-MODIFIED:20260130T014621Z
UID:10010188-1826996400-1827000000@stmichaels-litchfield.org
SUMMARY:AA Meeting in Community House
DESCRIPTION:
URL:https://stmichaels-litchfield.org/event/aa-group-in-community-house-2/2027-11-23/
LOCATION:Community House in Library from April 9th forward
CATEGORIES:AA/NA Events
END:VEVENT
END:VCALENDAR