BEGIN:VCALENDAR
VERSION:2.0
PRODID:-//St. Michael&#039;s Church - ECPv6.15.20//NONSGML v1.0//EN
CALSCALE:GREGORIAN
METHOD:PUBLISH
X-WR-CALNAME:St. Michael&#039;s Church
X-ORIGINAL-URL:https://stmichaels-litchfield.org
X-WR-CALDESC:Events for St. Michael&#039;s Church
REFRESH-INTERVAL;VALUE=DURATION:PT1H
X-Robots-Tag:noindex
X-PUBLISHED-TTL:PT1H
BEGIN:VTIMEZONE
TZID:America/New_York
BEGIN:DAYLIGHT
TZOFFSETFROM:-0500
TZOFFSETTO:-0400
TZNAME:EDT
DTSTART:20240310T070000
END:DAYLIGHT
BEGIN:STANDARD
TZOFFSETFROM:-0400
TZOFFSETTO:-0500
TZNAME:EST
DTSTART:20241103T060000
END:STANDARD
BEGIN:DAYLIGHT
TZOFFSETFROM:-0500
TZOFFSETTO:-0400
TZNAME:EDT
DTSTART:20250309T070000
END:DAYLIGHT
BEGIN:STANDARD
TZOFFSETFROM:-0400
TZOFFSETTO:-0500
TZNAME:EST
DTSTART:20251102T060000
END:STANDARD
BEGIN:DAYLIGHT
TZOFFSETFROM:-0500
TZOFFSETTO:-0400
TZNAME:EDT
DTSTART:20260308T070000
END:DAYLIGHT
BEGIN:STANDARD
TZOFFSETFROM:-0400
TZOFFSETTO:-0500
TZNAME:EST
DTSTART:20261101T060000
END:STANDARD
END:VTIMEZONE
BEGIN:VEVENT
DTSTART;TZID=America/New_York:20250210T070000
DTEND;TZID=America/New_York:20250210T073000
DTSTAMP:20260419T232431
CREATED:20230606T184551Z
LAST-MODIFIED:20230619T142647Z
UID:10005932-1739170800-1739172600@stmichaels-litchfield.org
SUMMARY:AA Meeting in the Parish House Library
DESCRIPTION:
URL:https://stmichaels-litchfield.org/event/aa-meeting-in-the-library/2025-02-10/
LOCATION:Parish House Library\, 25 South Street\, Litchfield\, CT\, 06759\, United States
CATEGORIES:AA/NA Events
END:VEVENT
BEGIN:VEVENT
DTSTART;TZID=America/New_York:20250211T190000
DTEND;TZID=America/New_York:20250211T200000
DTSTAMP:20260419T232431
CREATED:20211108T175914Z
LAST-MODIFIED:20260130T014621Z
UID:10010043-1739300400-1739304000@stmichaels-litchfield.org
SUMMARY:AA Meeting in Community House
DESCRIPTION:
URL:https://stmichaels-litchfield.org/event/aa-group-in-community-house-2/2025-02-11/
LOCATION:Community House in Library from April 9th forward
CATEGORIES:AA/NA Events
END:VEVENT
BEGIN:VEVENT
DTSTART;TZID=America/New_York:20250212T070000
DTEND;TZID=America/New_York:20250212T073000
DTSTAMP:20260419T232431
CREATED:20230606T184551Z
LAST-MODIFIED:20230619T142647Z
UID:10005933-1739343600-1739345400@stmichaels-litchfield.org
SUMMARY:AA Meeting in the Parish House Library
DESCRIPTION:
URL:https://stmichaels-litchfield.org/event/aa-meeting-in-the-library/2025-02-12/
LOCATION:Parish House Library\, 25 South Street\, Litchfield\, CT\, 06759\, United States
CATEGORIES:AA/NA Events
END:VEVENT
BEGIN:VEVENT
DTSTART;TZID=America/New_York:20250212T193000
DTEND;TZID=America/New_York:20250212T210000
DTSTAMP:20260419T232431
CREATED:20211108T180816Z
LAST-MODIFIED:20230714T003135Z
UID:10012397-1739388600-1739394000@stmichaels-litchfield.org
SUMMARY:NA meeting in Community House
DESCRIPTION:
URL:https://stmichaels-litchfield.org/event/narcotics-anonymous/2025-02-12/
LOCATION:Community House in Library from April 9th forward
CATEGORIES:AA/NA Events
END:VEVENT
BEGIN:VEVENT
DTSTART;TZID=America/New_York:20250214T070000
DTEND;TZID=America/New_York:20250214T073000
DTSTAMP:20260419T232431
CREATED:20230606T184551Z
LAST-MODIFIED:20230619T142647Z
UID:10005934-1739516400-1739518200@stmichaels-litchfield.org
SUMMARY:AA Meeting in the Parish House Library
DESCRIPTION:
URL:https://stmichaels-litchfield.org/event/aa-meeting-in-the-library/2025-02-14/
LOCATION:Parish House Library\, 25 South Street\, Litchfield\, CT\, 06759\, United States
CATEGORIES:AA/NA Events
END:VEVENT
BEGIN:VEVENT
DTSTART;TZID=America/New_York:20250215T083000
DTEND;TZID=America/New_York:20250215T093000
DTSTAMP:20260419T232431
CREATED:20230619T143626Z
LAST-MODIFIED:20230619T143720Z
UID:10010650-1739608200-1739611800@stmichaels-litchfield.org
SUMMARY:AA Meeting in Parish House Library
DESCRIPTION:
URL:https://stmichaels-litchfield.org/event/aa-meeting-in-community-house-2/2025-02-15/
LOCATION:Community House in Library from April 9th forward
CATEGORIES:AA/NA Events
END:VEVENT
BEGIN:VEVENT
DTSTART;TZID=America/New_York:20250217T070000
DTEND;TZID=America/New_York:20250217T073000
DTSTAMP:20260419T232431
CREATED:20230606T184551Z
LAST-MODIFIED:20230619T142647Z
UID:10005935-1739775600-1739777400@stmichaels-litchfield.org
SUMMARY:AA Meeting in the Parish House Library
DESCRIPTION:
URL:https://stmichaels-litchfield.org/event/aa-meeting-in-the-library/2025-02-17/
LOCATION:Parish House Library\, 25 South Street\, Litchfield\, CT\, 06759\, United States
CATEGORIES:AA/NA Events
END:VEVENT
BEGIN:VEVENT
DTSTART;TZID=America/New_York:20250218T190000
DTEND;TZID=America/New_York:20250218T200000
DTSTAMP:20260419T232431
CREATED:20211108T175914Z
LAST-MODIFIED:20260130T014621Z
UID:10010044-1739905200-1739908800@stmichaels-litchfield.org
SUMMARY:AA Meeting in Community House
DESCRIPTION:
URL:https://stmichaels-litchfield.org/event/aa-group-in-community-house-2/2025-02-18/
LOCATION:Community House in Library from April 9th forward
CATEGORIES:AA/NA Events
END:VEVENT
BEGIN:VEVENT
DTSTART;TZID=America/New_York:20250219T070000
DTEND;TZID=America/New_York:20250219T073000
DTSTAMP:20260419T232431
CREATED:20230606T184551Z
LAST-MODIFIED:20230619T142647Z
UID:10005936-1739948400-1739950200@stmichaels-litchfield.org
SUMMARY:AA Meeting in the Parish House Library
DESCRIPTION:
URL:https://stmichaels-litchfield.org/event/aa-meeting-in-the-library/2025-02-19/
LOCATION:Parish House Library\, 25 South Street\, Litchfield\, CT\, 06759\, United States
CATEGORIES:AA/NA Events
END:VEVENT
BEGIN:VEVENT
DTSTART;TZID=America/New_York:20250219T193000
DTEND;TZID=America/New_York:20250219T210000
DTSTAMP:20260419T232431
CREATED:20211108T180816Z
LAST-MODIFIED:20230714T003135Z
UID:10012398-1739993400-1739998800@stmichaels-litchfield.org
SUMMARY:NA meeting in Community House
DESCRIPTION:
URL:https://stmichaels-litchfield.org/event/narcotics-anonymous/2025-02-19/
LOCATION:Community House in Library from April 9th forward
CATEGORIES:AA/NA Events
END:VEVENT
BEGIN:VEVENT
DTSTART;TZID=America/New_York:20250221T070000
DTEND;TZID=America/New_York:20250221T073000
DTSTAMP:20260419T232431
CREATED:20230606T184551Z
LAST-MODIFIED:20230619T142647Z
UID:10005937-1740121200-1740123000@stmichaels-litchfield.org
SUMMARY:AA Meeting in the Parish House Library
DESCRIPTION:
URL:https://stmichaels-litchfield.org/event/aa-meeting-in-the-library/2025-02-21/
LOCATION:Parish House Library\, 25 South Street\, Litchfield\, CT\, 06759\, United States
CATEGORIES:AA/NA Events
END:VEVENT
BEGIN:VEVENT
DTSTART;TZID=America/New_York:20250222T083000
DTEND;TZID=America/New_York:20250222T093000
DTSTAMP:20260419T232431
CREATED:20230619T143626Z
LAST-MODIFIED:20230619T143720Z
UID:10010651-1740213000-1740216600@stmichaels-litchfield.org
SUMMARY:AA Meeting in Parish House Library
DESCRIPTION:
URL:https://stmichaels-litchfield.org/event/aa-meeting-in-community-house-2/2025-02-22/
LOCATION:Community House in Library from April 9th forward
CATEGORIES:AA/NA Events
END:VEVENT
BEGIN:VEVENT
DTSTART;TZID=America/New_York:20250224T070000
DTEND;TZID=America/New_York:20250224T073000
DTSTAMP:20260419T232431
CREATED:20230606T184551Z
LAST-MODIFIED:20230619T142647Z
UID:10005938-1740380400-1740382200@stmichaels-litchfield.org
SUMMARY:AA Meeting in the Parish House Library
DESCRIPTION:
URL:https://stmichaels-litchfield.org/event/aa-meeting-in-the-library/2025-02-24/
LOCATION:Parish House Library\, 25 South Street\, Litchfield\, CT\, 06759\, United States
CATEGORIES:AA/NA Events
END:VEVENT
BEGIN:VEVENT
DTSTART;TZID=America/New_York:20250225T190000
DTEND;TZID=America/New_York:20250225T200000
DTSTAMP:20260419T232431
CREATED:20211108T175914Z
LAST-MODIFIED:20260130T014621Z
UID:10010045-1740510000-1740513600@stmichaels-litchfield.org
SUMMARY:AA Meeting in Community House
DESCRIPTION:
URL:https://stmichaels-litchfield.org/event/aa-group-in-community-house-2/2025-02-25/
LOCATION:Community House in Library from April 9th forward
CATEGORIES:AA/NA Events
END:VEVENT
BEGIN:VEVENT
DTSTART;TZID=America/New_York:20250226T070000
DTEND;TZID=America/New_York:20250226T073000
DTSTAMP:20260419T232431
CREATED:20230606T184551Z
LAST-MODIFIED:20230619T142647Z
UID:10005939-1740553200-1740555000@stmichaels-litchfield.org
SUMMARY:AA Meeting in the Parish House Library
DESCRIPTION:
URL:https://stmichaels-litchfield.org/event/aa-meeting-in-the-library/2025-02-26/
LOCATION:Parish House Library\, 25 South Street\, Litchfield\, CT\, 06759\, United States
CATEGORIES:AA/NA Events
END:VEVENT
BEGIN:VEVENT
DTSTART;TZID=America/New_York:20250226T193000
DTEND;TZID=America/New_York:20250226T210000
DTSTAMP:20260419T232431
CREATED:20211108T180816Z
LAST-MODIFIED:20230714T003135Z
UID:10012399-1740598200-1740603600@stmichaels-litchfield.org
SUMMARY:NA meeting in Community House
DESCRIPTION:
URL:https://stmichaels-litchfield.org/event/narcotics-anonymous/2025-02-26/
LOCATION:Community House in Library from April 9th forward
CATEGORIES:AA/NA Events
END:VEVENT
BEGIN:VEVENT
DTSTART;TZID=America/New_York:20250228T070000
DTEND;TZID=America/New_York:20250228T073000
DTSTAMP:20260419T232431
CREATED:20230606T184551Z
LAST-MODIFIED:20230619T142647Z
UID:10005940-1740726000-1740727800@stmichaels-litchfield.org
SUMMARY:AA Meeting in the Parish House Library
DESCRIPTION:
URL:https://stmichaels-litchfield.org/event/aa-meeting-in-the-library/2025-02-28/
LOCATION:Parish House Library\, 25 South Street\, Litchfield\, CT\, 06759\, United States
CATEGORIES:AA/NA Events
END:VEVENT
BEGIN:VEVENT
DTSTART;TZID=America/New_York:20250301T083000
DTEND;TZID=America/New_York:20250301T093000
DTSTAMP:20260419T232431
CREATED:20230619T143626Z
LAST-MODIFIED:20230619T143720Z
UID:10010652-1740817800-1740821400@stmichaels-litchfield.org
SUMMARY:AA Meeting in Parish House Library
DESCRIPTION:
URL:https://stmichaels-litchfield.org/event/aa-meeting-in-community-house-2/2025-03-01/
LOCATION:Community House in Library from April 9th forward
CATEGORIES:AA/NA Events
END:VEVENT
BEGIN:VEVENT
DTSTART;TZID=America/New_York:20250303T070000
DTEND;TZID=America/New_York:20250303T073000
DTSTAMP:20260419T232431
CREATED:20230606T184551Z
LAST-MODIFIED:20230619T142647Z
UID:10005941-1740985200-1740987000@stmichaels-litchfield.org
SUMMARY:AA Meeting in the Parish House Library
DESCRIPTION:
URL:https://stmichaels-litchfield.org/event/aa-meeting-in-the-library/2025-03-03/
LOCATION:Parish House Library\, 25 South Street\, Litchfield\, CT\, 06759\, United States
CATEGORIES:AA/NA Events
END:VEVENT
BEGIN:VEVENT
DTSTART;TZID=America/New_York:20250304T190000
DTEND;TZID=America/New_York:20250304T200000
DTSTAMP:20260419T232431
CREATED:20211108T175914Z
LAST-MODIFIED:20260130T014621Z
UID:10010046-1741114800-1741118400@stmichaels-litchfield.org
SUMMARY:AA Meeting in Community House
DESCRIPTION:
URL:https://stmichaels-litchfield.org/event/aa-group-in-community-house-2/2025-03-04/
LOCATION:Community House in Library from April 9th forward
CATEGORIES:AA/NA Events
END:VEVENT
BEGIN:VEVENT
DTSTART;TZID=America/New_York:20250305T070000
DTEND;TZID=America/New_York:20250305T073000
DTSTAMP:20260419T232431
CREATED:20230606T184551Z
LAST-MODIFIED:20230619T142647Z
UID:10005942-1741158000-1741159800@stmichaels-litchfield.org
SUMMARY:AA Meeting in the Parish House Library
DESCRIPTION:
URL:https://stmichaels-litchfield.org/event/aa-meeting-in-the-library/2025-03-05/
LOCATION:Parish House Library\, 25 South Street\, Litchfield\, CT\, 06759\, United States
CATEGORIES:AA/NA Events
END:VEVENT
BEGIN:VEVENT
DTSTART;TZID=America/New_York:20250305T193000
DTEND;TZID=America/New_York:20250305T210000
DTSTAMP:20260419T232431
CREATED:20211108T180816Z
LAST-MODIFIED:20230714T003135Z
UID:10012400-1741203000-1741208400@stmichaels-litchfield.org
SUMMARY:NA meeting in Community House
DESCRIPTION:
URL:https://stmichaels-litchfield.org/event/narcotics-anonymous/2025-03-05/
LOCATION:Community House in Library from April 9th forward
CATEGORIES:AA/NA Events
END:VEVENT
BEGIN:VEVENT
DTSTART;TZID=America/New_York:20250307T070000
DTEND;TZID=America/New_York:20250307T073000
DTSTAMP:20260419T232431
CREATED:20230606T184551Z
LAST-MODIFIED:20230619T142647Z
UID:10005943-1741330800-1741332600@stmichaels-litchfield.org
SUMMARY:AA Meeting in the Parish House Library
DESCRIPTION:
URL:https://stmichaels-litchfield.org/event/aa-meeting-in-the-library/2025-03-07/
LOCATION:Parish House Library\, 25 South Street\, Litchfield\, CT\, 06759\, United States
CATEGORIES:AA/NA Events
END:VEVENT
BEGIN:VEVENT
DTSTART;TZID=America/New_York:20250308T083000
DTEND;TZID=America/New_York:20250308T093000
DTSTAMP:20260419T232431
CREATED:20230619T143626Z
LAST-MODIFIED:20230619T143720Z
UID:10010653-1741422600-1741426200@stmichaels-litchfield.org
SUMMARY:AA Meeting in Parish House Library
DESCRIPTION:
URL:https://stmichaels-litchfield.org/event/aa-meeting-in-community-house-2/2025-03-08/
LOCATION:Community House in Library from April 9th forward
CATEGORIES:AA/NA Events
END:VEVENT
BEGIN:VEVENT
DTSTART;TZID=America/New_York:20250310T070000
DTEND;TZID=America/New_York:20250310T073000
DTSTAMP:20260419T232431
CREATED:20230606T184551Z
LAST-MODIFIED:20230619T142647Z
UID:10005944-1741590000-1741591800@stmichaels-litchfield.org
SUMMARY:AA Meeting in the Parish House Library
DESCRIPTION:
URL:https://stmichaels-litchfield.org/event/aa-meeting-in-the-library/2025-03-10/
LOCATION:Parish House Library\, 25 South Street\, Litchfield\, CT\, 06759\, United States
CATEGORIES:AA/NA Events
END:VEVENT
BEGIN:VEVENT
DTSTART;TZID=America/New_York:20250311T190000
DTEND;TZID=America/New_York:20250311T200000
DTSTAMP:20260419T232431
CREATED:20211108T175914Z
LAST-MODIFIED:20260130T014621Z
UID:10010047-1741719600-1741723200@stmichaels-litchfield.org
SUMMARY:AA Meeting in Community House
DESCRIPTION:
URL:https://stmichaels-litchfield.org/event/aa-group-in-community-house-2/2025-03-11/
LOCATION:Community House in Library from April 9th forward
CATEGORIES:AA/NA Events
END:VEVENT
BEGIN:VEVENT
DTSTART;TZID=America/New_York:20250312T070000
DTEND;TZID=America/New_York:20250312T073000
DTSTAMP:20260419T232431
CREATED:20230606T184551Z
LAST-MODIFIED:20230619T142647Z
UID:10005945-1741762800-1741764600@stmichaels-litchfield.org
SUMMARY:AA Meeting in the Parish House Library
DESCRIPTION:
URL:https://stmichaels-litchfield.org/event/aa-meeting-in-the-library/2025-03-12/
LOCATION:Parish House Library\, 25 South Street\, Litchfield\, CT\, 06759\, United States
CATEGORIES:AA/NA Events
END:VEVENT
BEGIN:VEVENT
DTSTART;TZID=America/New_York:20250312T193000
DTEND;TZID=America/New_York:20250312T210000
DTSTAMP:20260419T232431
CREATED:20211108T180816Z
LAST-MODIFIED:20230714T003135Z
UID:10012401-1741807800-1741813200@stmichaels-litchfield.org
SUMMARY:NA meeting in Community House
DESCRIPTION:
URL:https://stmichaels-litchfield.org/event/narcotics-anonymous/2025-03-12/
LOCATION:Community House in Library from April 9th forward
CATEGORIES:AA/NA Events
END:VEVENT
BEGIN:VEVENT
DTSTART;TZID=America/New_York:20250314T070000
DTEND;TZID=America/New_York:20250314T073000
DTSTAMP:20260419T232431
CREATED:20230606T184551Z
LAST-MODIFIED:20230619T142647Z
UID:10005946-1741935600-1741937400@stmichaels-litchfield.org
SUMMARY:AA Meeting in the Parish House Library
DESCRIPTION:
URL:https://stmichaels-litchfield.org/event/aa-meeting-in-the-library/2025-03-14/
LOCATION:Parish House Library\, 25 South Street\, Litchfield\, CT\, 06759\, United States
CATEGORIES:AA/NA Events
END:VEVENT
BEGIN:VEVENT
DTSTART;TZID=America/New_York:20250315T083000
DTEND;TZID=America/New_York:20250315T093000
DTSTAMP:20260419T232431
CREATED:20230619T143626Z
LAST-MODIFIED:20230619T143720Z
UID:10010654-1742027400-1742031000@stmichaels-litchfield.org
SUMMARY:AA Meeting in Parish House Library
DESCRIPTION:
URL:https://stmichaels-litchfield.org/event/aa-meeting-in-community-house-2/2025-03-15/
LOCATION:Community House in Library from April 9th forward
CATEGORIES:AA/NA Events
END:VEVENT
END:VCALENDAR