BEGIN:VCALENDAR
VERSION:2.0
PRODID:-//St. Michael&#039;s Church - ECPv6.15.20//NONSGML v1.0//EN
CALSCALE:GREGORIAN
METHOD:PUBLISH
X-WR-CALNAME:St. Michael&#039;s Church
X-ORIGINAL-URL:https://stmichaels-litchfield.org
X-WR-CALDESC:Events for St. Michael&#039;s Church
REFRESH-INTERVAL;VALUE=DURATION:PT1H
X-Robots-Tag:noindex
X-PUBLISHED-TTL:PT1H
BEGIN:VTIMEZONE
TZID:America/New_York
BEGIN:DAYLIGHT
TZOFFSETFROM:-0500
TZOFFSETTO:-0400
TZNAME:EDT
DTSTART:20220313T070000
END:DAYLIGHT
BEGIN:STANDARD
TZOFFSETFROM:-0400
TZOFFSETTO:-0500
TZNAME:EST
DTSTART:20221106T060000
END:STANDARD
BEGIN:DAYLIGHT
TZOFFSETFROM:-0500
TZOFFSETTO:-0400
TZNAME:EDT
DTSTART:20230312T070000
END:DAYLIGHT
BEGIN:STANDARD
TZOFFSETFROM:-0400
TZOFFSETTO:-0500
TZNAME:EST
DTSTART:20231105T060000
END:STANDARD
BEGIN:DAYLIGHT
TZOFFSETFROM:-0500
TZOFFSETTO:-0400
TZNAME:EDT
DTSTART:20240310T070000
END:DAYLIGHT
BEGIN:STANDARD
TZOFFSETFROM:-0400
TZOFFSETTO:-0500
TZNAME:EST
DTSTART:20241103T060000
END:STANDARD
END:VTIMEZONE
BEGIN:VEVENT
DTSTART;TZID=America/New_York:20230923T083000
DTEND;TZID=America/New_York:20230923T093000
DTSTAMP:20260421T063237
CREATED:20230619T143626Z
LAST-MODIFIED:20230619T143720Z
UID:10010577-1695457800-1695461400@stmichaels-litchfield.org
SUMMARY:AA Meeting in Parish House Library
DESCRIPTION:
URL:https://stmichaels-litchfield.org/event/aa-meeting-in-community-house-2/2023-09-23/
LOCATION:Community House in Library from April 9th forward
CATEGORIES:AA/NA Events
END:VEVENT
BEGIN:VEVENT
DTSTART;TZID=America/New_York:20230922T133000
DTEND;TZID=America/New_York:20230922T153000
DTSTAMP:20260421T063237
CREATED:20230807T145754Z
LAST-MODIFIED:20230807T145754Z
UID:10012628-1695389400-1695396600@stmichaels-litchfield.org
SUMMARY:Intermediate Italian in Parish House Library
DESCRIPTION:
URL:https://stmichaels-litchfield.org/event/intermediate-italian-in-parish-house-library/2023-09-22/
LOCATION:Parish House Library\, 25 South Street\, Litchfield\, CT\, 06759\, United States
CATEGORIES:Other Groups
END:VEVENT
BEGIN:VEVENT
DTSTART;TZID=America/New_York:20230922T080000
DTEND;TZID=America/New_York:20230922T170000
DTSTAMP:20260421T063237
CREATED:20230831T005121Z
LAST-MODIFIED:20230831T005956Z
UID:10013569-1695369600-1695402000@stmichaels-litchfield.org
SUMMARY:Church Office Closed on Fridays
DESCRIPTION:
URL:https://stmichaels-litchfield.org/event/summer-schedule-church-office-closed-2/2023-09-22/
LOCATION:Church Office\, 25 South Street\, Litchfield\, CT\, 06759\, United States
CATEGORIES:Church Office Event
END:VEVENT
BEGIN:VEVENT
DTSTART;TZID=America/New_York:20230922T070000
DTEND;TZID=America/New_York:20230922T073000
DTSTAMP:20260421T063237
CREATED:20230606T184551Z
LAST-MODIFIED:20230619T142647Z
UID:10005715-1695366000-1695367800@stmichaels-litchfield.org
SUMMARY:AA Meeting in the Parish House Library
DESCRIPTION:
URL:https://stmichaels-litchfield.org/event/aa-meeting-in-the-library/2023-09-22/
LOCATION:Parish House Library\, 25 South Street\, Litchfield\, CT\, 06759\, United States
CATEGORIES:AA/NA Events
END:VEVENT
BEGIN:VEVENT
DTSTART;TZID=America/New_York:20230921T143000
DTEND;TZID=America/New_York:20230921T163000
DTSTAMP:20260421T063237
CREATED:20230919T124644Z
LAST-MODIFIED:20230919T124645Z
UID:10012616-1695306600-1695313800@stmichaels-litchfield.org
SUMMARY:Advanced Beginner Italian in Church Chapel\, this week only
DESCRIPTION:
URL:https://stmichaels-litchfield.org/event/advanced-beginner-italian-in-parish-house-library-2/
LOCATION:Parish House Library\, 25 South Street\, Litchfield\, CT\, 06759\, United States
CATEGORIES:Other Groups
END:VEVENT
BEGIN:VEVENT
DTSTART;TZID=America/New_York:20230921T100000
DTEND;TZID=America/New_York:20230921T170000
DTSTAMP:20260421T063237
CREATED:20230914T144811Z
LAST-MODIFIED:20230919T125113Z
UID:10013845-1695290400-1695315600@stmichaels-litchfield.org
SUMMARY:Greenwoods Counselling Meeting in Support of National Training in Parish House Rectors Office
DESCRIPTION:
URL:https://stmichaels-litchfield.org/event/greenwoods-counselling-meeting-in-support-of-national-training-in-parish-house-flower-room/2023-09-21/
LOCATION:Parish House Rectors Office
CATEGORIES:Greenwoods Counseling
END:VEVENT
BEGIN:VEVENT
DTSTART;TZID=America/New_York:20230921T100000
DTEND;TZID=America/New_York:20230921T170000
DTSTAMP:20260421T063237
CREATED:20230914T143923Z
LAST-MODIFIED:20230919T125019Z
UID:10013841-1695290400-1695315600@stmichaels-litchfield.org
SUMMARY:Greenwoods Training in Support of National Class in Parish House Music Room
DESCRIPTION:
URL:https://stmichaels-litchfield.org/event/greenwoods-training-in-support-of-national-class-in-parish-house-music-room/2023-09-21/
LOCATION:Parish House Music Room
CATEGORIES:Greenwoods Counseling
END:VEVENT
BEGIN:VEVENT
DTSTART;TZID=America/New_York:20230921T100000
DTEND;TZID=America/New_York:20230921T170000
DTSTAMP:20260421T063237
CREATED:20230913T155041Z
LAST-MODIFIED:20230919T124922Z
UID:10013837-1695290400-1695315600@stmichaels-litchfield.org
SUMMARY:Greenwoods Meetings in Support of Training in the Parish House Library
DESCRIPTION:
URL:https://stmichaels-litchfield.org/event/greenwoods-meetings-in-support-of-training-in-the-parish-house-library/2023-09-21/
LOCATION:Parish House Library\, 25 South Street\, Litchfield\, CT\, 06759\, United States
CATEGORIES:Greenwoods Counseling
END:VEVENT
BEGIN:VEVENT
DTSTART;TZID=America/New_York:20230921T100000
DTEND;TZID=America/New_York:20230921T110000
DTSTAMP:20260421T063237
CREATED:20230919T124506Z
LAST-MODIFIED:20230919T124525Z
UID:10010862-1695290400-1695294000@stmichaels-litchfield.org
SUMMARY:Bible Study in Church for this week only
DESCRIPTION:
URL:https://stmichaels-litchfield.org/event/bible-study-in-parish-house-library-3/
LOCATION:CT
CATEGORIES:Church Event
END:VEVENT
BEGIN:VEVENT
DTSTART;TZID=America/New_York:20230921T090000
DTEND;TZID=America/New_York:20230921T130000
DTSTAMP:20260421T063237
CREATED:20230619T134952Z
LAST-MODIFIED:20230619T134952Z
UID:10009388-1695286800-1695301200@stmichaels-litchfield.org
SUMMARY:Church Office Open
DESCRIPTION:
URL:https://stmichaels-litchfield.org/event/church-office-open-4/2023-09-21/
LOCATION:Church Office\, 25 South Street\, Litchfield\, CT\, 06759\, United States
END:VEVENT
BEGIN:VEVENT
DTSTART;TZID=America/New_York:20230921T080000
DTEND;TZID=America/New_York:20230921T093000
DTSTAMP:20260421T063237
CREATED:20230919T124404Z
LAST-MODIFIED:20230919T124425Z
UID:10012953-1695283200-1695288600@stmichaels-litchfield.org
SUMMARY:Adult Faith Formation Class in Parish House Library - Cancelled for this week only
DESCRIPTION:
URL:https://stmichaels-litchfield.org/event/adult-faith-formation-class-in-parish-house-library/
LOCATION:Parish House Library\, 25 South Street\, Litchfield\, CT\, 06759\, United States
CATEGORIES:Parish Events
END:VEVENT
BEGIN:VEVENT
DTSTART;TZID=America/New_York:20230921T070000
DTEND;TZID=America/New_York:20230921T180000
DTSTAMP:20260421T063237
CREATED:20230619T154233Z
LAST-MODIFIED:20230627T172645Z
UID:10011642-1695279600-1695319200@stmichaels-litchfield.org
SUMMARY:Greenwoods Training in the Community House
DESCRIPTION:
URL:https://stmichaels-litchfield.org/event/greenwoods-training-in-community-house/2023-09-21/
LOCATION:Community House in Library from April 9th forward
CATEGORIES:Greenwoods Counseling
ORGANIZER;CN="Michelle Sonnati":MAILTO:msonnati@greenwoodsreferrals.org
END:VEVENT
BEGIN:VEVENT
DTSTART;TZID=America/New_York:20230920T100000
DTEND;TZID=America/New_York:20230920T170000
DTSTAMP:20260421T063237
CREATED:20230914T144811Z
LAST-MODIFIED:20230919T125113Z
UID:10013844-1695204000-1695229200@stmichaels-litchfield.org
SUMMARY:Greenwoods Counselling Meeting in Support of National Training in Parish House Rectors Office
DESCRIPTION:
URL:https://stmichaels-litchfield.org/event/greenwoods-counselling-meeting-in-support-of-national-training-in-parish-house-flower-room/2023-09-20/
LOCATION:Parish House Rectors Office
CATEGORIES:Greenwoods Counseling
END:VEVENT
BEGIN:VEVENT
DTSTART;TZID=America/New_York:20230920T100000
DTEND;TZID=America/New_York:20230920T170000
DTSTAMP:20260421T063237
CREATED:20230914T143923Z
LAST-MODIFIED:20230919T125019Z
UID:10013840-1695204000-1695229200@stmichaels-litchfield.org
SUMMARY:Greenwoods Training in Support of National Class in Parish House Music Room
DESCRIPTION:
URL:https://stmichaels-litchfield.org/event/greenwoods-training-in-support-of-national-class-in-parish-house-music-room/2023-09-20/
LOCATION:Parish House Music Room
CATEGORIES:Greenwoods Counseling
END:VEVENT
BEGIN:VEVENT
DTSTART;TZID=America/New_York:20230920T100000
DTEND;TZID=America/New_York:20230920T170000
DTSTAMP:20260421T063237
CREATED:20230913T155041Z
LAST-MODIFIED:20230919T124922Z
UID:10013836-1695204000-1695229200@stmichaels-litchfield.org
SUMMARY:Greenwoods Meetings in Support of Training in the Parish House Library
DESCRIPTION:
URL:https://stmichaels-litchfield.org/event/greenwoods-meetings-in-support-of-training-in-the-parish-house-library/2023-09-20/
LOCATION:Parish House Library\, 25 South Street\, Litchfield\, CT\, 06759\, United States
CATEGORIES:Greenwoods Counseling
END:VEVENT
BEGIN:VEVENT
DTSTART;TZID=America/New_York:20230920T090000
DTEND;TZID=America/New_York:20230920T130000
DTSTAMP:20260421T063237
CREATED:20230619T134727Z
LAST-MODIFIED:20230619T134727Z
UID:10009127-1695200400-1695214800@stmichaels-litchfield.org
SUMMARY:Church Office Open
DESCRIPTION:
URL:https://stmichaels-litchfield.org/event/church-office-open-3/2023-09-20/
LOCATION:Church Office\, 25 South Street\, Litchfield\, CT\, 06759\, United States
END:VEVENT
BEGIN:VEVENT
DTSTART;TZID=America/New_York:20230920T070000
DTEND;TZID=America/New_York:20230920T180000
DTSTAMP:20260421T063237
CREATED:20230619T154233Z
LAST-MODIFIED:20230627T172645Z
UID:10011641-1695193200-1695232800@stmichaels-litchfield.org
SUMMARY:Greenwoods Training in the Community House
DESCRIPTION:
URL:https://stmichaels-litchfield.org/event/greenwoods-training-in-community-house/2023-09-20/
LOCATION:Community House in Library from April 9th forward
CATEGORIES:Greenwoods Counseling
ORGANIZER;CN="Michelle Sonnati":MAILTO:msonnati@greenwoodsreferrals.org
END:VEVENT
BEGIN:VEVENT
DTSTART;TZID=America/New_York:20230920T070000
DTEND;TZID=America/New_York:20230920T073000
DTSTAMP:20260421T063237
CREATED:20230606T184551Z
LAST-MODIFIED:20230619T142647Z
UID:10005714-1695193200-1695195000@stmichaels-litchfield.org
SUMMARY:AA Meeting in the Parish House Library
DESCRIPTION:
URL:https://stmichaels-litchfield.org/event/aa-meeting-in-the-library/2023-09-20/
LOCATION:Parish House Library\, 25 South Street\, Litchfield\, CT\, 06759\, United States
CATEGORIES:AA/NA Events
END:VEVENT
BEGIN:VEVENT
DTSTART;TZID=America/New_York:20230919T190000
DTEND;TZID=America/New_York:20230919T200000
DTSTAMP:20260421T063237
CREATED:20211108T175914Z
LAST-MODIFIED:20260130T014621Z
UID:10001248-1695150000-1695153600@stmichaels-litchfield.org
SUMMARY:AA Meeting in Community House
DESCRIPTION:
URL:https://stmichaels-litchfield.org/event/aa-group-in-community-house-2/2023-09-19/
LOCATION:Community House in Library from April 9th forward
CATEGORIES:AA/NA Events
END:VEVENT
BEGIN:VEVENT
DTSTART;TZID=America/New_York:20230919T100000
DTEND;TZID=America/New_York:20230919T170000
DTSTAMP:20260421T063237
CREATED:20230914T144811Z
LAST-MODIFIED:20230919T125113Z
UID:10013843-1695117600-1695142800@stmichaels-litchfield.org
SUMMARY:Greenwoods Counselling Meeting in Support of National Training in Parish House Rectors Office
DESCRIPTION:
URL:https://stmichaels-litchfield.org/event/greenwoods-counselling-meeting-in-support-of-national-training-in-parish-house-flower-room/2023-09-19/
LOCATION:Parish House Rectors Office
CATEGORIES:Greenwoods Counseling
END:VEVENT
BEGIN:VEVENT
DTSTART;TZID=America/New_York:20230919T100000
DTEND;TZID=America/New_York:20230919T170000
DTSTAMP:20260421T063237
CREATED:20230914T143923Z
LAST-MODIFIED:20230919T125019Z
UID:10013839-1695117600-1695142800@stmichaels-litchfield.org
SUMMARY:Greenwoods Training in Support of National Class in Parish House Music Room
DESCRIPTION:
URL:https://stmichaels-litchfield.org/event/greenwoods-training-in-support-of-national-class-in-parish-house-music-room/2023-09-19/
LOCATION:Parish House Music Room
CATEGORIES:Greenwoods Counseling
END:VEVENT
BEGIN:VEVENT
DTSTART;TZID=America/New_York:20230919T100000
DTEND;TZID=America/New_York:20230919T170000
DTSTAMP:20260421T063237
CREATED:20230913T155041Z
LAST-MODIFIED:20230919T124922Z
UID:10013835-1695117600-1695142800@stmichaels-litchfield.org
SUMMARY:Greenwoods Meetings in Support of Training in the Parish House Library
DESCRIPTION:
URL:https://stmichaels-litchfield.org/event/greenwoods-meetings-in-support-of-training-in-the-parish-house-library/2023-09-19/
LOCATION:Parish House Library\, 25 South Street\, Litchfield\, CT\, 06759\, United States
CATEGORIES:Greenwoods Counseling
END:VEVENT
BEGIN:VEVENT
DTSTART;TZID=America/New_York:20230919T100000
DTEND;TZID=America/New_York:20230919T140000
DTSTAMP:20260421T063237
CREATED:20230831T010204Z
LAST-MODIFIED:20230831T010205Z
UID:10013290-1695117600-1695132000@stmichaels-litchfield.org
SUMMARY:Church Office Open
DESCRIPTION:
URL:https://stmichaels-litchfield.org/event/church-office-open-2-2-2/2023-09-19/
LOCATION:Church Office\, 25 South Street\, Litchfield\, CT\, 06759\, United States
CATEGORIES:Church Office Event
END:VEVENT
BEGIN:VEVENT
DTSTART;TZID=America/New_York:20230919T070000
DTEND;TZID=America/New_York:20230919T180000
DTSTAMP:20260421T063237
CREATED:20230619T154233Z
LAST-MODIFIED:20230627T172645Z
UID:10011640-1695106800-1695146400@stmichaels-litchfield.org
SUMMARY:Greenwoods Training in the Community House
DESCRIPTION:
URL:https://stmichaels-litchfield.org/event/greenwoods-training-in-community-house/2023-09-19/
LOCATION:Community House in Library from April 9th forward
CATEGORIES:Greenwoods Counseling
ORGANIZER;CN="Michelle Sonnati":MAILTO:msonnati@greenwoodsreferrals.org
END:VEVENT
BEGIN:VEVENT
DTSTART;TZID=America/New_York:20230918T090000
DTEND;TZID=America/New_York:20230918T130000
DTSTAMP:20260421T063237
CREATED:20230711T185140Z
LAST-MODIFIED:20230711T185250Z
UID:10011123-1695027600-1695042000@stmichaels-litchfield.org
SUMMARY:Church Office Open
DESCRIPTION:
URL:https://stmichaels-litchfield.org/event/church-office-open-7/2023-09-18/
LOCATION:Church Office\, 25 South Street\, Litchfield\, CT\, 06759\, United States
END:VEVENT
BEGIN:VEVENT
DTSTART;TZID=America/New_York:20230918T070000
DTEND;TZID=America/New_York:20230918T073000
DTSTAMP:20260421T063237
CREATED:20230606T184551Z
LAST-MODIFIED:20230619T142647Z
UID:10005713-1695020400-1695022200@stmichaels-litchfield.org
SUMMARY:AA Meeting in the Parish House Library
DESCRIPTION:
URL:https://stmichaels-litchfield.org/event/aa-meeting-in-the-library/2023-09-18/
LOCATION:Parish House Library\, 25 South Street\, Litchfield\, CT\, 06759\, United States
CATEGORIES:AA/NA Events
END:VEVENT
BEGIN:VEVENT
DTSTART;TZID=America/New_York:20230917T190000
DTEND;TZID=America/New_York:20230917T200000
DTSTAMP:20260421T063237
CREATED:20230619T142544Z
LAST-MODIFIED:20260416T160049Z
UID:10009766-1694977200-1694980800@stmichaels-litchfield.org
SUMMARY:AA Meeting in Community House
DESCRIPTION:
URL:https://stmichaels-litchfield.org/event/aa-meeting-in-community-house/2023-09-17/
LOCATION:Community House in Library from April 9th forward
END:VEVENT
BEGIN:VEVENT
DTSTART;TZID=America/New_York:20230917T160000
DTEND;TZID=America/New_York:20230917T173000
DTSTAMP:20260421T063237
CREATED:20230822T161655Z
LAST-MODIFIED:20230822T161655Z
UID:10013265-1694966400-1694971800@stmichaels-litchfield.org
SUMMARY:Youth Confirmation Class in Parish House Library
DESCRIPTION:
URL:https://stmichaels-litchfield.org/event/youth-confirmation-class-in-parish-house-library/2023-09-17/
LOCATION:Parish House Library\, 25 South Street\, Litchfield\, CT\, 06759\, United States
CATEGORIES:Church Event
END:VEVENT
BEGIN:VEVENT
DTSTART;TZID=America/New_York:20230917T110000
DTEND;TZID=America/New_York:20230917T140000
DTSTAMP:20260421T063238
CREATED:20230711T182541Z
LAST-MODIFIED:20250806T192214Z
UID:10011921-1694948400-1694959200@stmichaels-litchfield.org
SUMMARY:Coffee and Fellowship in the Community House
DESCRIPTION:
URL:https://stmichaels-litchfield.org/event/coffee-and-congregation-in-the-community-house/2023-09-17/
LOCATION:Community House in Library from April 9th forward
CATEGORIES:Church Event
END:VEVENT
BEGIN:VEVENT
DTSTART;TZID=America/New_York:20230917T100000
DTEND;TZID=America/New_York:20230917T110000
DTSTAMP:20260421T063238
CREATED:20211108T181948Z
LAST-MODIFIED:20250403T150318Z
UID:10002375-1694944800-1694948400@stmichaels-litchfield.org
SUMMARY:Sunday Eucharist\, Rite II
DESCRIPTION:Rite II with Choir \nFollowed by Coffee Hour in the Community House
URL:https://stmichaels-litchfield.org/event/sunday-eucharist-2/2023-09-17/
LOCATION:CT
CATEGORIES:Parish Events
END:VEVENT
END:VCALENDAR