BEGIN:VCALENDAR
VERSION:2.0
PRODID:-//St. Michael&#039;s Church - ECPv6.15.20//NONSGML v1.0//EN
CALSCALE:GREGORIAN
METHOD:PUBLISH
X-WR-CALNAME:St. Michael&#039;s Church
X-ORIGINAL-URL:https://stmichaels-litchfield.org
X-WR-CALDESC:Events for St. Michael&#039;s Church
REFRESH-INTERVAL;VALUE=DURATION:PT1H
X-Robots-Tag:noindex
X-PUBLISHED-TTL:PT1H
BEGIN:VTIMEZONE
TZID:America/New_York
BEGIN:DAYLIGHT
TZOFFSETFROM:-0500
TZOFFSETTO:-0400
TZNAME:EDT
DTSTART:20230312T070000
END:DAYLIGHT
BEGIN:STANDARD
TZOFFSETFROM:-0400
TZOFFSETTO:-0500
TZNAME:EST
DTSTART:20231105T060000
END:STANDARD
BEGIN:DAYLIGHT
TZOFFSETFROM:-0500
TZOFFSETTO:-0400
TZNAME:EDT
DTSTART:20240310T070000
END:DAYLIGHT
BEGIN:STANDARD
TZOFFSETFROM:-0400
TZOFFSETTO:-0500
TZNAME:EST
DTSTART:20241103T060000
END:STANDARD
BEGIN:DAYLIGHT
TZOFFSETFROM:-0500
TZOFFSETTO:-0400
TZNAME:EDT
DTSTART:20250309T070000
END:DAYLIGHT
BEGIN:STANDARD
TZOFFSETFROM:-0400
TZOFFSETTO:-0500
TZNAME:EST
DTSTART:20251102T060000
END:STANDARD
END:VTIMEZONE
BEGIN:VEVENT
DTSTART;TZID=America/New_York:20241120T193000
DTEND;TZID=America/New_York:20241120T210000
DTSTAMP:20260422T180656
CREATED:20211108T180816Z
LAST-MODIFIED:20230714T003135Z
UID:10012385-1732131000-1732136400@stmichaels-litchfield.org
SUMMARY:NA meeting in Community House
DESCRIPTION:
URL:https://stmichaels-litchfield.org/event/narcotics-anonymous/2024-11-20/
LOCATION:Community House in Library from April 9th forward
CATEGORIES:AA/NA Events
END:VEVENT
BEGIN:VEVENT
DTSTART;TZID=America/New_York:20241120T190000
DTEND;TZID=America/New_York:20241120T203000
DTSTAMP:20260422T180656
CREATED:20230817T183342Z
LAST-MODIFIED:20230817T183342Z
UID:10013061-1732129200-1732134600@stmichaels-litchfield.org
SUMMARY:Choir Rehearsal in Parish House Music Room
DESCRIPTION:
URL:https://stmichaels-litchfield.org/event/choir-rehearsal-in-parish-house-music-room/2024-11-20/
LOCATION:Parish House Music Room
CATEGORIES:Church Event
END:VEVENT
BEGIN:VEVENT
DTSTART;TZID=America/New_York:20241120T100000
DTEND;TZID=America/New_York:20241120T130000
DTSTAMP:20260422T180656
CREATED:20240206T174237Z
LAST-MODIFIED:20240223T173652Z
UID:10017057-1732096800-1732107600@stmichaels-litchfield.org
SUMMARY:Church Office Open
DESCRIPTION:
URL:https://stmichaels-litchfield.org/event/church-office-open-3-4-2/2024-11-20/
LOCATION:Church Office\, 25 South Street\, Litchfield\, CT\, 06759\, United States
END:VEVENT
BEGIN:VEVENT
DTSTART;TZID=America/New_York:20241120T090000
DTEND;TZID=America/New_York:20241120T130000
DTSTAMP:20260422T180656
CREATED:20240206T174110Z
LAST-MODIFIED:20260107T171415Z
UID:10288669-1732093200-1732107600@stmichaels-litchfield.org
SUMMARY:Church Office Open
DESCRIPTION:
URL:https://stmichaels-litchfield.org/event/church-office-open-2-2-2-2/2024-11-20/
LOCATION:Church Office\, 25 South Street\, Litchfield\, CT\, 06759\, United States
CATEGORIES:Church Office Event
END:VEVENT
BEGIN:VEVENT
DTSTART;TZID=America/New_York:20241120T090000
DTEND;TZID=America/New_York:20241120T110000
DTSTAMP:20260422T180656
CREATED:20240103T135757Z
LAST-MODIFIED:20240103T135757Z
UID:10015044-1732093200-1732100400@stmichaels-litchfield.org
SUMMARY:Greenwoods Clinical Meeting in Community House
DESCRIPTION:
URL:https://stmichaels-litchfield.org/event/greenwoods-clinical-meeting-in-community-house/2024-11-20/
LOCATION:Community House in Library from April 9th forward
CATEGORIES:Greenwoods Counseling
ORGANIZER;CN="Michelle Sonnati":MAILTO:msonnati@greenwoodsreferrals.org
END:VEVENT
BEGIN:VEVENT
DTSTART;TZID=America/New_York:20241120T070000
DTEND;TZID=America/New_York:20241120T073000
DTSTAMP:20260422T180656
CREATED:20230606T184551Z
LAST-MODIFIED:20230619T142647Z
UID:10005897-1732086000-1732087800@stmichaels-litchfield.org
SUMMARY:AA Meeting in the Parish House Library
DESCRIPTION:
URL:https://stmichaels-litchfield.org/event/aa-meeting-in-the-library/2024-11-20/
LOCATION:Parish House Library\, 25 South Street\, Litchfield\, CT\, 06759\, United States
CATEGORIES:AA/NA Events
END:VEVENT
BEGIN:VEVENT
DTSTART;TZID=America/New_York:20241119T190000
DTEND;TZID=America/New_York:20241119T200000
DTSTAMP:20260422T180656
CREATED:20211108T175914Z
LAST-MODIFIED:20260130T014621Z
UID:10010031-1732042800-1732046400@stmichaels-litchfield.org
SUMMARY:AA Meeting in Community House
DESCRIPTION:
URL:https://stmichaels-litchfield.org/event/aa-group-in-community-house-2/2024-11-19/
LOCATION:Community House in Library from April 9th forward
CATEGORIES:AA/NA Events
END:VEVENT
BEGIN:VEVENT
DTSTART;TZID=America/New_York:20241119T090000
DTEND;TZID=America/New_York:20241119T130000
DTSTAMP:20260422T180656
CREATED:20240206T174110Z
LAST-MODIFIED:20260107T171415Z
UID:10020734-1732006800-1732021200@stmichaels-litchfield.org
SUMMARY:Church Office Open
DESCRIPTION:
URL:https://stmichaels-litchfield.org/event/church-office-open-2-2-2-2/2024-11-19/
LOCATION:Church Office\, 25 South Street\, Litchfield\, CT\, 06759\, United States
CATEGORIES:Church Office Event
END:VEVENT
BEGIN:VEVENT
DTSTART;TZID=America/New_York:20241118T100000
DTEND;TZID=America/New_York:20241118T130000
DTSTAMP:20260422T180656
CREATED:20240206T173900Z
LAST-MODIFIED:20240223T172212Z
UID:10016535-1731924000-1731934800@stmichaels-litchfield.org
SUMMARY:Church Office Open
DESCRIPTION:
URL:https://stmichaels-litchfield.org/event/church-office-open-7-5-2/2024-11-18/
LOCATION:Church Office\, 25 South Street\, Litchfield\, CT\, 06759\, United States
END:VEVENT
BEGIN:VEVENT
DTSTART;TZID=America/New_York:20241118T090000
DTEND;TZID=America/New_York:20241118T130000
DTSTAMP:20260422T180656
CREATED:20240206T174110Z
LAST-MODIFIED:20260107T171415Z
UID:10288668-1731920400-1731934800@stmichaels-litchfield.org
SUMMARY:Church Office Open
DESCRIPTION:
URL:https://stmichaels-litchfield.org/event/church-office-open-2-2-2-2/2024-11-18/
LOCATION:Church Office\, 25 South Street\, Litchfield\, CT\, 06759\, United States
CATEGORIES:Church Office Event
END:VEVENT
BEGIN:VEVENT
DTSTART;TZID=America/New_York:20241118T070000
DTEND;TZID=America/New_York:20241118T073000
DTSTAMP:20260422T180656
CREATED:20230606T184551Z
LAST-MODIFIED:20230619T142647Z
UID:10005896-1731913200-1731915000@stmichaels-litchfield.org
SUMMARY:AA Meeting in the Parish House Library
DESCRIPTION:
URL:https://stmichaels-litchfield.org/event/aa-meeting-in-the-library/2024-11-18/
LOCATION:Parish House Library\, 25 South Street\, Litchfield\, CT\, 06759\, United States
CATEGORIES:AA/NA Events
END:VEVENT
BEGIN:VEVENT
DTSTART;TZID=America/New_York:20241117T190000
DTEND;TZID=America/New_York:20241117T200000
DTSTAMP:20260422T180656
CREATED:20230619T142544Z
LAST-MODIFIED:20260416T160049Z
UID:10009827-1731870000-1731873600@stmichaels-litchfield.org
SUMMARY:AA Meeting in Community House
DESCRIPTION:
URL:https://stmichaels-litchfield.org/event/aa-meeting-in-community-house/2024-11-17/
LOCATION:Community House in Library from April 9th forward
END:VEVENT
BEGIN:VEVENT
DTSTART;TZID=America/New_York:20241117T110000
DTEND;TZID=America/New_York:20241117T140000
DTSTAMP:20260422T180656
CREATED:20230711T182541Z
LAST-MODIFIED:20250806T192214Z
UID:10011982-1731841200-1731852000@stmichaels-litchfield.org
SUMMARY:Coffee and Fellowship in the Community House
DESCRIPTION:
URL:https://stmichaels-litchfield.org/event/coffee-and-congregation-in-the-community-house/2024-11-17/
LOCATION:Community House in Library from April 9th forward
CATEGORIES:Church Event
END:VEVENT
BEGIN:VEVENT
DTSTART;TZID=America/New_York:20241117T100000
DTEND;TZID=America/New_York:20241117T110000
DTSTAMP:20260422T180656
CREATED:20211108T181948Z
LAST-MODIFIED:20250403T150318Z
UID:10012643-1731837600-1731841200@stmichaels-litchfield.org
SUMMARY:Sunday Eucharist\, Rite II
DESCRIPTION:Rite II with Choir \nFollowed by Coffee Hour in the Community House
URL:https://stmichaels-litchfield.org/event/sunday-eucharist-2/2024-11-17/
LOCATION:CT
CATEGORIES:Parish Events
END:VEVENT
BEGIN:VEVENT
DTSTART;TZID=America/New_York:20241117T080000
DTEND;TZID=America/New_York:20241117T090000
DTSTAMP:20260422T180656
CREATED:20211108T181651Z
LAST-MODIFIED:20260327T134504Z
UID:10003425-1731830400-1731834000@stmichaels-litchfield.org
SUMMARY:Eucharist\, Rite I
DESCRIPTION:Spoken\, no music
URL:https://stmichaels-litchfield.org/event/sunday-eucharist/2024-11-17/
LOCATION:Chapel\, 25 South Street\, Litchfield\, CT\, 06759\, United States
CATEGORIES:Church Event,Parish Events
END:VEVENT
BEGIN:VEVENT
DTSTART;TZID=America/New_York:20241116T083000
DTEND;TZID=America/New_York:20241116T093000
DTSTAMP:20260422T180656
CREATED:20230619T143626Z
LAST-MODIFIED:20230619T143720Z
UID:10010637-1731745800-1731749400@stmichaels-litchfield.org
SUMMARY:AA Meeting in Parish House Library
DESCRIPTION:
URL:https://stmichaels-litchfield.org/event/aa-meeting-in-community-house-2/2024-11-16/
LOCATION:Community House in Library from April 9th forward
CATEGORIES:AA/NA Events
END:VEVENT
BEGIN:VEVENT
DTSTART;TZID=America/New_York:20241115T100000
DTEND;TZID=America/New_York:20241115T130000
DTSTAMP:20260422T180656
CREATED:20240223T172033Z
LAST-MODIFIED:20240223T172034Z
UID:10016273-1731664800-1731675600@stmichaels-litchfield.org
SUMMARY:Church Office Open
DESCRIPTION:
URL:https://stmichaels-litchfield.org/event/summer-schedule-church-office-closed-2-2/2024-11-15/
LOCATION:Church Office\, 25 South Street\, Litchfield\, CT\, 06759\, United States
CATEGORIES:Church Office Event
END:VEVENT
BEGIN:VEVENT
DTSTART;TZID=America/New_York:20241115T070000
DTEND;TZID=America/New_York:20241115T073000
DTSTAMP:20260422T180656
CREATED:20230606T184551Z
LAST-MODIFIED:20230619T142647Z
UID:10005895-1731654000-1731655800@stmichaels-litchfield.org
SUMMARY:AA Meeting in the Parish House Library
DESCRIPTION:
URL:https://stmichaels-litchfield.org/event/aa-meeting-in-the-library/2024-11-15/
LOCATION:Parish House Library\, 25 South Street\, Litchfield\, CT\, 06759\, United States
CATEGORIES:AA/NA Events
END:VEVENT
BEGIN:VEVENT
DTSTART;TZID=America/New_York:20241114T190000
DTEND;TZID=America/New_York:20241114T210000
DTSTAMP:20260422T180656
CREATED:20240131T162838Z
LAST-MODIFIED:20240131T162838Z
UID:10015147-1731610800-1731618000@stmichaels-litchfield.org
SUMMARY:Tentative - Vestry Meeting in Parish House Library
DESCRIPTION:
URL:https://stmichaels-litchfield.org/event/tentative-vestry-meeting-in-parish-house-library/2024-11-14/
LOCATION:Parish House Library\, 25 South Street\, Litchfield\, CT\, 06759\, United States
CATEGORIES:Church Event
END:VEVENT
BEGIN:VEVENT
DTSTART;TZID=America/New_York:20241114T100000
DTEND;TZID=America/New_York:20241114T130000
DTSTAMP:20260422T180656
CREATED:20240206T174423Z
LAST-MODIFIED:20240223T173813Z
UID:10017317-1731578400-1731589200@stmichaels-litchfield.org
SUMMARY:Church Office Open
DESCRIPTION:
URL:https://stmichaels-litchfield.org/event/church-office-open-4-5-2/2024-11-14/
LOCATION:Church Office\, 25 South Street\, Litchfield\, CT\, 06759\, United States
END:VEVENT
BEGIN:VEVENT
DTSTART;TZID=America/New_York:20241114T090000
DTEND;TZID=America/New_York:20241114T130000
DTSTAMP:20260422T180656
CREATED:20240206T174110Z
LAST-MODIFIED:20260107T171415Z
UID:10288667-1731574800-1731589200@stmichaels-litchfield.org
SUMMARY:Church Office Open
DESCRIPTION:
URL:https://stmichaels-litchfield.org/event/church-office-open-2-2-2-2/2024-11-14/
LOCATION:Church Office\, 25 South Street\, Litchfield\, CT\, 06759\, United States
CATEGORIES:Church Office Event
END:VEVENT
BEGIN:VEVENT
DTSTART;TZID=America/New_York:20241113T193000
DTEND;TZID=America/New_York:20241113T210000
DTSTAMP:20260422T180656
CREATED:20211108T180816Z
LAST-MODIFIED:20230714T003135Z
UID:10012384-1731526200-1731531600@stmichaels-litchfield.org
SUMMARY:NA meeting in Community House
DESCRIPTION:
URL:https://stmichaels-litchfield.org/event/narcotics-anonymous/2024-11-13/
LOCATION:Community House in Library from April 9th forward
CATEGORIES:AA/NA Events
END:VEVENT
BEGIN:VEVENT
DTSTART;TZID=America/New_York:20241113T190000
DTEND;TZID=America/New_York:20241113T203000
DTSTAMP:20260422T180656
CREATED:20230817T183342Z
LAST-MODIFIED:20230817T183342Z
UID:10013060-1731524400-1731529800@stmichaels-litchfield.org
SUMMARY:Choir Rehearsal in Parish House Music Room
DESCRIPTION:
URL:https://stmichaels-litchfield.org/event/choir-rehearsal-in-parish-house-music-room/2024-11-13/
LOCATION:Parish House Music Room
CATEGORIES:Church Event
END:VEVENT
BEGIN:VEVENT
DTSTART;TZID=America/New_York:20241113T100000
DTEND;TZID=America/New_York:20241113T130000
DTSTAMP:20260422T180656
CREATED:20240206T174237Z
LAST-MODIFIED:20240223T173652Z
UID:10017056-1731492000-1731502800@stmichaels-litchfield.org
SUMMARY:Church Office Open
DESCRIPTION:
URL:https://stmichaels-litchfield.org/event/church-office-open-3-4-2/2024-11-13/
LOCATION:Church Office\, 25 South Street\, Litchfield\, CT\, 06759\, United States
END:VEVENT
BEGIN:VEVENT
DTSTART;TZID=America/New_York:20241113T090000
DTEND;TZID=America/New_York:20241113T130000
DTSTAMP:20260422T180656
CREATED:20240206T174110Z
LAST-MODIFIED:20260107T171415Z
UID:10288666-1731488400-1731502800@stmichaels-litchfield.org
SUMMARY:Church Office Open
DESCRIPTION:
URL:https://stmichaels-litchfield.org/event/church-office-open-2-2-2-2/2024-11-13/
LOCATION:Church Office\, 25 South Street\, Litchfield\, CT\, 06759\, United States
CATEGORIES:Church Office Event
END:VEVENT
BEGIN:VEVENT
DTSTART;TZID=America/New_York:20241113T090000
DTEND;TZID=America/New_York:20241113T110000
DTSTAMP:20260422T180657
CREATED:20240103T135757Z
LAST-MODIFIED:20240103T135757Z
UID:10015043-1731488400-1731495600@stmichaels-litchfield.org
SUMMARY:Greenwoods Clinical Meeting in Community House
DESCRIPTION:
URL:https://stmichaels-litchfield.org/event/greenwoods-clinical-meeting-in-community-house/2024-11-13/
LOCATION:Community House in Library from April 9th forward
CATEGORIES:Greenwoods Counseling
ORGANIZER;CN="Michelle Sonnati":MAILTO:msonnati@greenwoodsreferrals.org
END:VEVENT
BEGIN:VEVENT
DTSTART;TZID=America/New_York:20241113T070000
DTEND;TZID=America/New_York:20241113T073000
DTSTAMP:20260422T180657
CREATED:20230606T184551Z
LAST-MODIFIED:20230619T142647Z
UID:10005894-1731481200-1731483000@stmichaels-litchfield.org
SUMMARY:AA Meeting in the Parish House Library
DESCRIPTION:
URL:https://stmichaels-litchfield.org/event/aa-meeting-in-the-library/2024-11-13/
LOCATION:Parish House Library\, 25 South Street\, Litchfield\, CT\, 06759\, United States
CATEGORIES:AA/NA Events
END:VEVENT
BEGIN:VEVENT
DTSTART;TZID=America/New_York:20241112T190000
DTEND;TZID=America/New_York:20241112T200000
DTSTAMP:20260422T180657
CREATED:20211108T175914Z
LAST-MODIFIED:20260130T014621Z
UID:10010030-1731438000-1731441600@stmichaels-litchfield.org
SUMMARY:AA Meeting in Community House
DESCRIPTION:
URL:https://stmichaels-litchfield.org/event/aa-group-in-community-house-2/2024-11-12/
LOCATION:Community House in Library from April 9th forward
CATEGORIES:AA/NA Events
END:VEVENT
BEGIN:VEVENT
DTSTART;TZID=America/New_York:20241112T090000
DTEND;TZID=America/New_York:20241112T130000
DTSTAMP:20260422T180657
CREATED:20240206T174110Z
LAST-MODIFIED:20260107T171415Z
UID:10020733-1731402000-1731416400@stmichaels-litchfield.org
SUMMARY:Church Office Open
DESCRIPTION:
URL:https://stmichaels-litchfield.org/event/church-office-open-2-2-2-2/2024-11-12/
LOCATION:Church Office\, 25 South Street\, Litchfield\, CT\, 06759\, United States
CATEGORIES:Church Office Event
END:VEVENT
BEGIN:VEVENT
DTSTART;TZID=America/New_York:20241111T100000
DTEND;TZID=America/New_York:20241111T130000
DTSTAMP:20260422T180657
CREATED:20240206T173900Z
LAST-MODIFIED:20240223T172212Z
UID:10016534-1731319200-1731330000@stmichaels-litchfield.org
SUMMARY:Church Office Open
DESCRIPTION:
URL:https://stmichaels-litchfield.org/event/church-office-open-7-5-2/2024-11-11/
LOCATION:Church Office\, 25 South Street\, Litchfield\, CT\, 06759\, United States
END:VEVENT
END:VCALENDAR