BEGIN:VCALENDAR
VERSION:2.0
PRODID:-//St. Michael&#039;s Church - ECPv6.15.20//NONSGML v1.0//EN
CALSCALE:GREGORIAN
METHOD:PUBLISH
X-WR-CALNAME:St. Michael&#039;s Church
X-ORIGINAL-URL:https://stmichaels-litchfield.org
X-WR-CALDESC:Events for St. Michael&#039;s Church
REFRESH-INTERVAL;VALUE=DURATION:PT1H
X-Robots-Tag:noindex
X-PUBLISHED-TTL:PT1H
BEGIN:VTIMEZONE
TZID:America/New_York
BEGIN:DAYLIGHT
TZOFFSETFROM:-0500
TZOFFSETTO:-0400
TZNAME:EDT
DTSTART:20240310T070000
END:DAYLIGHT
BEGIN:STANDARD
TZOFFSETFROM:-0400
TZOFFSETTO:-0500
TZNAME:EST
DTSTART:20241103T060000
END:STANDARD
BEGIN:DAYLIGHT
TZOFFSETFROM:-0500
TZOFFSETTO:-0400
TZNAME:EDT
DTSTART:20250309T070000
END:DAYLIGHT
BEGIN:STANDARD
TZOFFSETFROM:-0400
TZOFFSETTO:-0500
TZNAME:EST
DTSTART:20251102T060000
END:STANDARD
BEGIN:DAYLIGHT
TZOFFSETFROM:-0500
TZOFFSETTO:-0400
TZNAME:EDT
DTSTART:20260308T070000
END:DAYLIGHT
BEGIN:STANDARD
TZOFFSETFROM:-0400
TZOFFSETTO:-0500
TZNAME:EST
DTSTART:20261101T060000
END:STANDARD
END:VTIMEZONE
BEGIN:VEVENT
DTSTART;TZID=America/New_York:20251106T190000
DTEND;TZID=America/New_York:20251106T220000
DTSTAMP:20260419T221137
CREATED:20230810T152445Z
LAST-MODIFIED:20230823T141209Z
UID:10012916-1762455600-1762466400@stmichaels-litchfield.org
SUMMARY:SOTG Board meeting in the Parish House Library
DESCRIPTION:
URL:https://stmichaels-litchfield.org/event/sotg-board-meeting-2/2025-11-06/
LOCATION:Parish House Library\, 25 South Street\, Litchfield\, CT\, 06759\, United States
CATEGORIES:School on the Green Event
END:VEVENT
BEGIN:VEVENT
DTSTART;TZID=America/New_York:20251106T190000
DTEND;TZID=America/New_York:20251106T210000
DTSTAMP:20260419T221137
CREATED:20250804T152800Z
LAST-MODIFIED:20250804T152800Z
UID:10287219-1762455600-1762462800@stmichaels-litchfield.org
SUMMARY:School on the Green Brd Mtg
DESCRIPTION:
URL:https://stmichaels-litchfield.org/event/school-on-the-green-brd-mtg/
LOCATION:Parish House Library\, 25 South Street\, Litchfield\, CT\, 06759\, United States
CATEGORIES:School on the Green Event
END:VEVENT
BEGIN:VEVENT
DTSTART;TZID=America/New_York:20251106T143000
DTEND;TZID=America/New_York:20251106T163000
DTSTAMP:20260419T221137
CREATED:20250115T162847Z
LAST-MODIFIED:20250115T162847Z
UID:10019686-1762439400-1762446600@stmichaels-litchfield.org
SUMMARY:Italian Club
DESCRIPTION:
URL:https://stmichaels-litchfield.org/event/italian-club-2/2025-11-06/
LOCATION:Community House in Library from April 9th forward
END:VEVENT
BEGIN:VEVENT
DTSTART;TZID=America/New_York:20251106T090000
DTEND;TZID=America/New_York:20251106T130000
DTSTAMP:20260419T221137
CREATED:20251002T175510Z
LAST-MODIFIED:20251120T150618Z
UID:10287876-1762419600-1762434000@stmichaels-litchfield.org
SUMMARY:Church Office Closed
DESCRIPTION:
URL:https://stmichaels-litchfield.org/event/church-office-open-4-5-2-2/2025-11-06/
LOCATION:Church Office\, 25 South Street\, Litchfield\, CT\, 06759\, United States
END:VEVENT
BEGIN:VEVENT
DTSTART;TZID=America/New_York:20251106T090000
DTEND;TZID=America/New_York:20251106T130000
DTSTAMP:20260419T221137
CREATED:20240206T174110Z
LAST-MODIFIED:20260107T171415Z
UID:10288820-1762419600-1762434000@stmichaels-litchfield.org
SUMMARY:Church Office Open
DESCRIPTION:
URL:https://stmichaels-litchfield.org/event/church-office-open-2-2-2-2/2025-11-06/
LOCATION:Church Office\, 25 South Street\, Litchfield\, CT\, 06759\, United States
CATEGORIES:Church Office Event
END:VEVENT
BEGIN:VEVENT
DTSTART;TZID=America/New_York:20251105T193000
DTEND;TZID=America/New_York:20251105T210000
DTSTAMP:20260419T221137
CREATED:20211108T180816Z
LAST-MODIFIED:20230714T003135Z
UID:10012435-1762371000-1762376400@stmichaels-litchfield.org
SUMMARY:NA meeting in Community House
DESCRIPTION:
URL:https://stmichaels-litchfield.org/event/narcotics-anonymous/2025-11-05/
LOCATION:Community House in Library from April 9th forward
CATEGORIES:AA/NA Events
END:VEVENT
BEGIN:VEVENT
DTSTART;TZID=America/New_York:20251105T190000
DTEND;TZID=America/New_York:20251105T203000
DTSTAMP:20260419T221137
CREATED:20230817T183342Z
LAST-MODIFIED:20230817T183342Z
UID:10013111-1762369200-1762374600@stmichaels-litchfield.org
SUMMARY:Choir Rehearsal in Parish House Music Room
DESCRIPTION:
URL:https://stmichaels-litchfield.org/event/choir-rehearsal-in-parish-house-music-room/2025-11-05/
LOCATION:Parish House Music Room
CATEGORIES:Church Event
END:VEVENT
BEGIN:VEVENT
DTSTART;TZID=America/New_York:20251105T090000
DTEND;TZID=America/New_York:20251105T130000
DTSTAMP:20260419T221137
CREATED:20240206T174110Z
LAST-MODIFIED:20260107T171415Z
UID:10288819-1762333200-1762347600@stmichaels-litchfield.org
SUMMARY:Church Office Open
DESCRIPTION:
URL:https://stmichaels-litchfield.org/event/church-office-open-2-2-2-2/2025-11-05/
LOCATION:Church Office\, 25 South Street\, Litchfield\, CT\, 06759\, United States
CATEGORIES:Church Office Event
END:VEVENT
BEGIN:VEVENT
DTSTART;TZID=America/New_York:20251105T083000
DTEND;TZID=America/New_York:20251105T110000
DTSTAMP:20260419T221137
CREATED:20250109T152013Z
LAST-MODIFIED:20250109T152013Z
UID:10019419-1762331400-1762340400@stmichaels-litchfield.org
SUMMARY:Greenwoods Counseling
DESCRIPTION:
URL:https://stmichaels-litchfield.org/event/greenwoods-counseling-7/2025-11-05/
LOCATION:CT
CATEGORIES:Greenwoods Counseling
END:VEVENT
BEGIN:VEVENT
DTSTART;TZID=America/New_York:20251105T070000
DTEND;TZID=America/New_York:20251105T073000
DTSTAMP:20260419T221137
CREATED:20230606T184551Z
LAST-MODIFIED:20230619T142647Z
UID:10006047-1762326000-1762327800@stmichaels-litchfield.org
SUMMARY:AA Meeting in the Parish House Library
DESCRIPTION:
URL:https://stmichaels-litchfield.org/event/aa-meeting-in-the-library/2025-11-05/
LOCATION:Parish House Library\, 25 South Street\, Litchfield\, CT\, 06759\, United States
CATEGORIES:AA/NA Events
END:VEVENT
BEGIN:VEVENT
DTSTART;TZID=America/New_York:20251104T191500
DTEND;TZID=America/New_York:20251104T210000
DTSTAMP:20260419T221137
CREATED:20231205T151748Z
LAST-MODIFIED:20231205T151808Z
UID:10014055-1762283700-1762290000@stmichaels-litchfield.org
SUMMARY:Property Committee meeting in Parish House Library
DESCRIPTION:
URL:https://stmichaels-litchfield.org/event/property-committee-meeting-in-parish-house-library/2025-11-04/
LOCATION:Parish House Library\, 25 South Street\, Litchfield\, CT\, 06759\, United States
CATEGORIES:Church Event
END:VEVENT
BEGIN:VEVENT
DTSTART;TZID=America/New_York:20251104T190000
DTEND;TZID=America/New_York:20251104T200000
DTSTAMP:20260419T221137
CREATED:20250623T132417Z
LAST-MODIFIED:20250623T132417Z
UID:10288470-1762282800-1762286400@stmichaels-litchfield.org
SUMMARY:Property Commission Mtg - Library
DESCRIPTION:
URL:https://stmichaels-litchfield.org/event/property-commission-mtg-library/
LOCATION:CT
CATEGORIES:Church Office Event
END:VEVENT
BEGIN:VEVENT
DTSTART;TZID=America/New_York:20251104T190000
DTEND;TZID=America/New_York:20251104T200000
DTSTAMP:20260419T221137
CREATED:20211108T175914Z
LAST-MODIFIED:20260130T014621Z
UID:10010081-1762282800-1762286400@stmichaels-litchfield.org
SUMMARY:AA Meeting in Community House
DESCRIPTION:
URL:https://stmichaels-litchfield.org/event/aa-group-in-community-house-2/2025-11-04/
LOCATION:Community House in Library from April 9th forward
CATEGORIES:AA/NA Events
END:VEVENT
BEGIN:VEVENT
DTSTART;TZID=America/New_York:20251104T171500
DTEND;TZID=America/New_York:20251104T183000
DTSTAMP:20260419T221137
CREATED:20231227T151453Z
LAST-MODIFIED:20260317T155826Z
UID:10293632-1762276500-1762281000@stmichaels-litchfield.org
SUMMARY:Property Committee Meeting in Parish House Library
DESCRIPTION:
URL:https://stmichaels-litchfield.org/event/property-committee-meeting-in-parish-house-library-3/2025-11-04/
LOCATION:Parish House Library\, 25 South Street\, Litchfield\, CT\, 06759\, United States
CATEGORIES:Church Event
END:VEVENT
BEGIN:VEVENT
DTSTART;TZID=America/New_York:20251104T090000
DTEND;TZID=America/New_York:20251104T130000
DTSTAMP:20260419T221137
CREATED:20240206T174110Z
LAST-MODIFIED:20260107T171415Z
UID:10020784-1762246800-1762261200@stmichaels-litchfield.org
SUMMARY:Church Office Open
DESCRIPTION:
URL:https://stmichaels-litchfield.org/event/church-office-open-2-2-2-2/2025-11-04/
LOCATION:Church Office\, 25 South Street\, Litchfield\, CT\, 06759\, United States
CATEGORIES:Church Office Event
END:VEVENT
BEGIN:VEVENT
DTSTART;TZID=America/New_York:20251103T160000
DTEND;TZID=America/New_York:20251103T170000
DTSTAMP:20260419T221137
CREATED:20251026T203245Z
LAST-MODIFIED:20251026T203418Z
UID:10288435-1762185600-1762189200@stmichaels-litchfield.org
SUMMARY:Priest Search Committee
DESCRIPTION:
URL:https://stmichaels-litchfield.org/event/priest-search-committee-2/2025-11-03/
LOCATION:Parish House Library\, 25 South Street\, Litchfield\, CT\, 06759\, United States
END:VEVENT
BEGIN:VEVENT
DTSTART;TZID=America/New_York:20251103T090000
DTEND;TZID=America/New_York:20251103T130000
DTSTAMP:20260419T221137
CREATED:20251002T175211Z
LAST-MODIFIED:20251002T175242Z
UID:10287355-1762160400-1762174800@stmichaels-litchfield.org
SUMMARY:Church Office Open
DESCRIPTION:
URL:https://stmichaels-litchfield.org/event/church-office-open-7-5-2-2/2025-11-03/
LOCATION:Church Office\, 25 South Street\, Litchfield\, CT\, 06759\, United States
END:VEVENT
BEGIN:VEVENT
DTSTART;TZID=America/New_York:20251103T090000
DTEND;TZID=America/New_York:20251103T130000
DTSTAMP:20260419T221137
CREATED:20240206T174110Z
LAST-MODIFIED:20260107T171415Z
UID:10288818-1762160400-1762174800@stmichaels-litchfield.org
SUMMARY:Church Office Open
DESCRIPTION:
URL:https://stmichaels-litchfield.org/event/church-office-open-2-2-2-2/2025-11-03/
LOCATION:Church Office\, 25 South Street\, Litchfield\, CT\, 06759\, United States
CATEGORIES:Church Office Event
END:VEVENT
BEGIN:VEVENT
DTSTART;TZID=America/New_York:20251103T070000
DTEND;TZID=America/New_York:20251103T073000
DTSTAMP:20260419T221137
CREATED:20230606T184551Z
LAST-MODIFIED:20230619T142647Z
UID:10006046-1762153200-1762155000@stmichaels-litchfield.org
SUMMARY:AA Meeting in the Parish House Library
DESCRIPTION:
URL:https://stmichaels-litchfield.org/event/aa-meeting-in-the-library/2025-11-03/
LOCATION:Parish House Library\, 25 South Street\, Litchfield\, CT\, 06759\, United States
CATEGORIES:AA/NA Events
END:VEVENT
BEGIN:VEVENT
DTSTART;TZID=America/New_York:20251102T190000
DTEND;TZID=America/New_York:20251102T200000
DTSTAMP:20260419T221137
CREATED:20230619T142544Z
LAST-MODIFIED:20260416T160049Z
UID:10009877-1762110000-1762113600@stmichaels-litchfield.org
SUMMARY:AA Meeting in Community House
DESCRIPTION:
URL:https://stmichaels-litchfield.org/event/aa-meeting-in-community-house/2025-11-02/
LOCATION:Community House in Library from April 9th forward
END:VEVENT
BEGIN:VEVENT
DTSTART;TZID=America/New_York:20251102T110000
DTEND;TZID=America/New_York:20251102T140000
DTSTAMP:20260419T221137
CREATED:20230711T182541Z
LAST-MODIFIED:20250806T192214Z
UID:10012032-1762081200-1762092000@stmichaels-litchfield.org
SUMMARY:Coffee and Fellowship in the Community House
DESCRIPTION:
URL:https://stmichaels-litchfield.org/event/coffee-and-congregation-in-the-community-house/2025-11-02/
LOCATION:Community House in Library from April 9th forward
CATEGORIES:Church Event
END:VEVENT
BEGIN:VEVENT
DTSTART;TZID=America/New_York:20251102T100000
DTEND;TZID=America/New_York:20251102T110000
DTSTAMP:20260419T221137
CREATED:20250403T150154Z
LAST-MODIFIED:20250806T192031Z
UID:10012693-1762077600-1762081200@stmichaels-litchfield.org
SUMMARY:Sunday Eucharist\, Rite II
DESCRIPTION:Rite II with music \nFollowed by Coffee Hour in the Community House
URL:https://stmichaels-litchfield.org/event/sunday-eucharist-2-3/2025-11-02/
LOCATION:Church and Community House
CATEGORIES:Church Event,Parish Events
END:VEVENT
BEGIN:VEVENT
DTSTART;TZID=America/New_York:20251102T080000
DTEND;TZID=America/New_York:20251102T090000
DTSTAMP:20260419T221137
CREATED:20211108T181651Z
LAST-MODIFIED:20260327T134504Z
UID:10020378-1762070400-1762074000@stmichaels-litchfield.org
SUMMARY:Eucharist\, Rite I
DESCRIPTION:Spoken\, no music
URL:https://stmichaels-litchfield.org/event/sunday-eucharist/2025-11-02/
LOCATION:Chapel\, 25 South Street\, Litchfield\, CT\, 06759\, United States
CATEGORIES:Church Event,Parish Events
END:VEVENT
BEGIN:VEVENT
DTSTART;TZID=America/New_York:20251101T133000
DTEND;TZID=America/New_York:20251101T170000
DTSTAMP:20260419T221137
CREATED:20251021T134330Z
LAST-MODIFIED:20251021T134330Z
UID:10288431-1762003800-1762016400@stmichaels-litchfield.org
SUMMARY:A Gathering of Truth and Healing - Amy Fitterer
DESCRIPTION:
URL:https://stmichaels-litchfield.org/event/a-gathering-of-truth-and-healing-amy-fitterer/
LOCATION:Community House in Library from April 9th forward
CATEGORIES:Other Groups
END:VEVENT
BEGIN:VEVENT
DTSTART;TZID=America/New_York:20251101T083000
DTEND;TZID=America/New_York:20251101T093000
DTSTAMP:20260419T221137
CREATED:20230619T143626Z
LAST-MODIFIED:20230619T143720Z
UID:10010687-1761985800-1761989400@stmichaels-litchfield.org
SUMMARY:AA Meeting in Parish House Library
DESCRIPTION:
URL:https://stmichaels-litchfield.org/event/aa-meeting-in-community-house-2/2025-11-01/
LOCATION:Community House in Library from April 9th forward
CATEGORIES:AA/NA Events
END:VEVENT
BEGIN:VEVENT
DTSTART;TZID=America/New_York:20251031T133000
DTEND;TZID=America/New_York:20251031T153000
DTSTAMP:20260419T221137
CREATED:20250115T163522Z
LAST-MODIFIED:20250115T163522Z
UID:10019734-1761917400-1761924600@stmichaels-litchfield.org
SUMMARY:Italian Club
DESCRIPTION:
URL:https://stmichaels-litchfield.org/event/italian-club-3/2025-10-31/
LOCATION:Community House in Library from April 9th forward
CATEGORIES:Other Groups
END:VEVENT
BEGIN:VEVENT
DTSTART;TZID=America/New_York:20251031T070000
DTEND;TZID=America/New_York:20251031T073000
DTSTAMP:20260419T221137
CREATED:20230606T184551Z
LAST-MODIFIED:20230619T142647Z
UID:10006045-1761894000-1761895800@stmichaels-litchfield.org
SUMMARY:AA Meeting in the Parish House Library
DESCRIPTION:
URL:https://stmichaels-litchfield.org/event/aa-meeting-in-the-library/2025-10-31/
LOCATION:Parish House Library\, 25 South Street\, Litchfield\, CT\, 06759\, United States
CATEGORIES:AA/NA Events
END:VEVENT
BEGIN:VEVENT
DTSTART;VALUE=DATE:20251031
DTEND;VALUE=DATE:20251101
DTSTAMP:20260419T221137
CREATED:20251002T175611Z
LAST-MODIFIED:20251002T175611Z
UID:10288134-1761868800-1761955199@stmichaels-litchfield.org
SUMMARY:Church Office Closed
DESCRIPTION:
URL:https://stmichaels-litchfield.org/event/summer-schedule-church-office-closed-2-2-2/2025-10-31/
LOCATION:Church Office\, 25 South Street\, Litchfield\, CT\, 06759\, United States
CATEGORIES:Church Office Event
END:VEVENT
BEGIN:VEVENT
DTSTART;TZID=America/New_York:20251030T143000
DTEND;TZID=America/New_York:20251030T163000
DTSTAMP:20260419T221137
CREATED:20250115T162847Z
LAST-MODIFIED:20250115T162847Z
UID:10019685-1761834600-1761841800@stmichaels-litchfield.org
SUMMARY:Italian Club
DESCRIPTION:
URL:https://stmichaels-litchfield.org/event/italian-club-2/2025-10-30/
LOCATION:Community House in Library from April 9th forward
END:VEVENT
BEGIN:VEVENT
DTSTART;TZID=America/New_York:20251030T090000
DTEND;TZID=America/New_York:20251030T130000
DTSTAMP:20260419T221137
CREATED:20251002T175510Z
LAST-MODIFIED:20251120T150618Z
UID:10287875-1761814800-1761829200@stmichaels-litchfield.org
SUMMARY:Church Office Closed
DESCRIPTION:
URL:https://stmichaels-litchfield.org/event/church-office-open-4-5-2-2/2025-10-30/
LOCATION:Church Office\, 25 South Street\, Litchfield\, CT\, 06759\, United States
END:VEVENT
END:VCALENDAR