BEGIN:VCALENDAR
VERSION:2.0
PRODID:-//St. Michael&#039;s Church - ECPv6.15.20//NONSGML v1.0//EN
CALSCALE:GREGORIAN
METHOD:PUBLISH
X-WR-CALNAME:St. Michael&#039;s Church
X-ORIGINAL-URL:https://stmichaels-litchfield.org
X-WR-CALDESC:Events for St. Michael&#039;s Church
REFRESH-INTERVAL;VALUE=DURATION:PT1H
X-Robots-Tag:noindex
X-PUBLISHED-TTL:PT1H
BEGIN:VTIMEZONE
TZID:America/New_York
BEGIN:DAYLIGHT
TZOFFSETFROM:-0500
TZOFFSETTO:-0400
TZNAME:EDT
DTSTART:20250309T070000
END:DAYLIGHT
BEGIN:STANDARD
TZOFFSETFROM:-0400
TZOFFSETTO:-0500
TZNAME:EST
DTSTART:20251102T060000
END:STANDARD
BEGIN:DAYLIGHT
TZOFFSETFROM:-0500
TZOFFSETTO:-0400
TZNAME:EDT
DTSTART:20260308T070000
END:DAYLIGHT
BEGIN:STANDARD
TZOFFSETFROM:-0400
TZOFFSETTO:-0500
TZNAME:EST
DTSTART:20261101T060000
END:STANDARD
BEGIN:DAYLIGHT
TZOFFSETFROM:-0500
TZOFFSETTO:-0400
TZNAME:EDT
DTSTART:20270314T070000
END:DAYLIGHT
BEGIN:STANDARD
TZOFFSETFROM:-0400
TZOFFSETTO:-0500
TZNAME:EST
DTSTART:20271107T060000
END:STANDARD
END:VTIMEZONE
BEGIN:VEVENT
DTSTART;TZID=America/New_York:20260814T093000
DTEND;TZID=America/New_York:20260814T143000
DTSTAMP:20260419T204007
CREATED:20260128T181432Z
LAST-MODIFIED:20260128T181726Z
UID:10291538-1786699800-1786717800@stmichaels-litchfield.org
SUMMARY:Church Office Open
DESCRIPTION:
URL:https://stmichaels-litchfield.org/event/church-office-open-14/2026-08-14/
LOCATION:Church Office\, 25 South Street\, Litchfield\, CT\, 06759\, United States
CATEGORIES:Church Office Event
END:VEVENT
BEGIN:VEVENT
DTSTART;TZID=America/New_York:20260814T070000
DTEND;TZID=America/New_York:20260814T073000
DTSTAMP:20260419T204007
CREATED:20230606T184551Z
LAST-MODIFIED:20230619T142647Z
UID:10006168-1786690800-1786692600@stmichaels-litchfield.org
SUMMARY:AA Meeting in the Parish House Library
DESCRIPTION:
URL:https://stmichaels-litchfield.org/event/aa-meeting-in-the-library/2026-08-14/
LOCATION:Parish House Library\, 25 South Street\, Litchfield\, CT\, 06759\, United States
CATEGORIES:AA/NA Events
END:VEVENT
BEGIN:VEVENT
DTSTART;TZID=America/New_York:20260813T093000
DTEND;TZID=America/New_York:20260813T143000
DTSTAMP:20260419T204007
CREATED:20260128T181432Z
LAST-MODIFIED:20260128T181726Z
UID:10291537-1786613400-1786631400@stmichaels-litchfield.org
SUMMARY:Church Office Open
DESCRIPTION:
URL:https://stmichaels-litchfield.org/event/church-office-open-14/2026-08-13/
LOCATION:Church Office\, 25 South Street\, Litchfield\, CT\, 06759\, United States
CATEGORIES:Church Office Event
END:VEVENT
BEGIN:VEVENT
DTSTART;TZID=America/New_York:20260812T193000
DTEND;TZID=America/New_York:20260812T210000
DTSTAMP:20260419T204007
CREATED:20211108T180816Z
LAST-MODIFIED:20230714T003135Z
UID:10012475-1786563000-1786568400@stmichaels-litchfield.org
SUMMARY:NA meeting in Community House
DESCRIPTION:
URL:https://stmichaels-litchfield.org/event/narcotics-anonymous/2026-08-12/
LOCATION:Community House in Library from April 9th forward
CATEGORIES:AA/NA Events
END:VEVENT
BEGIN:VEVENT
DTSTART;TZID=America/New_York:20260812T190000
DTEND;TZID=America/New_York:20260812T203000
DTSTAMP:20260419T204007
CREATED:20230817T183342Z
LAST-MODIFIED:20230817T183342Z
UID:10013151-1786561200-1786566600@stmichaels-litchfield.org
SUMMARY:Choir Rehearsal in Parish House Music Room
DESCRIPTION:
URL:https://stmichaels-litchfield.org/event/choir-rehearsal-in-parish-house-music-room/2026-08-12/
LOCATION:Parish House Music Room
CATEGORIES:Church Event
END:VEVENT
BEGIN:VEVENT
DTSTART;TZID=America/New_York:20260812T173000
DTEND;TZID=America/New_York:20260812T180000
DTSTAMP:20260419T204007
CREATED:20260327T155546Z
LAST-MODIFIED:20260327T155546Z
UID:10294456-1786555800-1786557600@stmichaels-litchfield.org
SUMMARY:Chanted Evening Prayer
DESCRIPTION:
URL:https://stmichaels-litchfield.org/event/chanted-evening-prayer-3/2026-08-12/
LOCATION:Chapel\, 25 South Street\, Litchfield\, CT\, 06759\, United States
CATEGORIES:Church Event
END:VEVENT
BEGIN:VEVENT
DTSTART;TZID=America/New_York:20260812T093000
DTEND;TZID=America/New_York:20260812T143000
DTSTAMP:20260419T204007
CREATED:20260128T181432Z
LAST-MODIFIED:20260128T181726Z
UID:10291536-1786527000-1786545000@stmichaels-litchfield.org
SUMMARY:Church Office Open
DESCRIPTION:
URL:https://stmichaels-litchfield.org/event/church-office-open-14/2026-08-12/
LOCATION:Church Office\, 25 South Street\, Litchfield\, CT\, 06759\, United States
CATEGORIES:Church Office Event
END:VEVENT
BEGIN:VEVENT
DTSTART;TZID=America/New_York:20260812T083000
DTEND;TZID=America/New_York:20260812T110000
DTSTAMP:20260419T204007
CREATED:20250109T152013Z
LAST-MODIFIED:20250109T152013Z
UID:10019459-1786523400-1786532400@stmichaels-litchfield.org
SUMMARY:Greenwoods Counseling
DESCRIPTION:
URL:https://stmichaels-litchfield.org/event/greenwoods-counseling-7/2026-08-12/
LOCATION:CT
CATEGORIES:Greenwoods Counseling
END:VEVENT
BEGIN:VEVENT
DTSTART;TZID=America/New_York:20260812T070000
DTEND;TZID=America/New_York:20260812T073000
DTSTAMP:20260419T204007
CREATED:20230606T184551Z
LAST-MODIFIED:20230619T142647Z
UID:10006167-1786518000-1786519800@stmichaels-litchfield.org
SUMMARY:AA Meeting in the Parish House Library
DESCRIPTION:
URL:https://stmichaels-litchfield.org/event/aa-meeting-in-the-library/2026-08-12/
LOCATION:Parish House Library\, 25 South Street\, Litchfield\, CT\, 06759\, United States
CATEGORIES:AA/NA Events
END:VEVENT
BEGIN:VEVENT
DTSTART;TZID=America/New_York:20260811T190000
DTEND;TZID=America/New_York:20260811T200000
DTSTAMP:20260419T204007
CREATED:20211108T175914Z
LAST-MODIFIED:20260130T014621Z
UID:10010121-1786474800-1786478400@stmichaels-litchfield.org
SUMMARY:AA Meeting in Community House
DESCRIPTION:
URL:https://stmichaels-litchfield.org/event/aa-group-in-community-house-2/2026-08-11/
LOCATION:Community House in Library from April 9th forward
CATEGORIES:AA/NA Events
END:VEVENT
BEGIN:VEVENT
DTSTART;TZID=America/New_York:20260811T160000
DTEND;TZID=America/New_York:20260811T173000
DTSTAMP:20260419T204007
CREATED:20260331T205128Z
LAST-MODIFIED:20260331T205254Z
UID:10294715-1786464000-1786469400@stmichaels-litchfield.org
SUMMARY:Priest Search Committee
DESCRIPTION:
URL:https://stmichaels-litchfield.org/event/priest-search-committee-3-2-5/2026-08-11/
LOCATION:Parish House Library\, 25 South Street\, Litchfield\, CT\, 06759\, United States
END:VEVENT
BEGIN:VEVENT
DTSTART;TZID=America/New_York:20260811T151500
DTEND;TZID=America/New_York:20260811T163000
DTSTAMP:20260419T204007
CREATED:20260223T204456Z
LAST-MODIFIED:20260304T185946Z
UID:10293558-1786461300-1786465800@stmichaels-litchfield.org
SUMMARY:Property Committee meeting in Parish House Library
DESCRIPTION:
URL:https://stmichaels-litchfield.org/event/property-committee-meeting-in-parish-house-library-4/2026-08-11/
LOCATION:Parish House Library\, 25 South Street\, Litchfield\, CT\, 06759\, United States
CATEGORIES:Church Event
END:VEVENT
BEGIN:VEVENT
DTSTART;TZID=America/New_York:20260811T120000
DTEND;TZID=America/New_York:20260811T130000
DTSTAMP:20260419T204007
CREATED:20260223T205039Z
LAST-MODIFIED:20260223T205039Z
UID:10293170-1786449600-1786453200@stmichaels-litchfield.org
SUMMARY:Lunch with Meredith
DESCRIPTION:
URL:https://stmichaels-litchfield.org/event/lunch-with-meredith-2/2026-08-11/
LOCATION:Community House in Library from April 9th forward
CATEGORIES:Church Event,Parish Events
END:VEVENT
BEGIN:VEVENT
DTSTART;TZID=America/New_York:20260811T093000
DTEND;TZID=America/New_York:20260811T143000
DTSTAMP:20260419T204007
CREATED:20260128T181432Z
LAST-MODIFIED:20260128T181726Z
UID:10291535-1786440600-1786458600@stmichaels-litchfield.org
SUMMARY:Church Office Open
DESCRIPTION:
URL:https://stmichaels-litchfield.org/event/church-office-open-14/2026-08-11/
LOCATION:Church Office\, 25 South Street\, Litchfield\, CT\, 06759\, United States
CATEGORIES:Church Office Event
END:VEVENT
BEGIN:VEVENT
DTSTART;TZID=America/New_York:20260810T200000
DTEND;TZID=America/New_York:20260810T213000
DTSTAMP:20260419T204007
CREATED:20260218T173517Z
LAST-MODIFIED:20260218T173517Z
UID:10292591-1786392000-1786397400@stmichaels-litchfield.org
SUMMARY:AA meeting in the Community House
DESCRIPTION:
URL:https://stmichaels-litchfield.org/event/aa-meeting-in-the-community-house-2/2026-08-10/
LOCATION:CT
END:VEVENT
BEGIN:VEVENT
DTSTART;TZID=America/New_York:20260810T070000
DTEND;TZID=America/New_York:20260810T073000
DTSTAMP:20260419T204007
CREATED:20230606T184551Z
LAST-MODIFIED:20230619T142647Z
UID:10006166-1786345200-1786347000@stmichaels-litchfield.org
SUMMARY:AA Meeting in the Parish House Library
DESCRIPTION:
URL:https://stmichaels-litchfield.org/event/aa-meeting-in-the-library/2026-08-10/
LOCATION:Parish House Library\, 25 South Street\, Litchfield\, CT\, 06759\, United States
CATEGORIES:AA/NA Events
END:VEVENT
BEGIN:VEVENT
DTSTART;VALUE=DATE:20260810
DTEND;VALUE=DATE:20260811
DTSTAMP:20260419T204007
CREATED:20260128T181321Z
LAST-MODIFIED:20260128T181322Z
UID:10291168-1786320000-1786406399@stmichaels-litchfield.org
SUMMARY:Church Office Closed
DESCRIPTION:
URL:https://stmichaels-litchfield.org/event/summer-schedule-church-office-closed-2-2-2-3/2026-08-10/
LOCATION:Church Office\, 25 South Street\, Litchfield\, CT\, 06759\, United States
CATEGORIES:Church Office Event
END:VEVENT
BEGIN:VEVENT
DTSTART;TZID=America/New_York:20260809T190000
DTEND;TZID=America/New_York:20260809T200000
DTSTAMP:20260419T204007
CREATED:20230619T142544Z
LAST-MODIFIED:20260416T160049Z
UID:10009917-1786302000-1786305600@stmichaels-litchfield.org
SUMMARY:AA Meeting in Community House
DESCRIPTION:
URL:https://stmichaels-litchfield.org/event/aa-meeting-in-community-house/2026-08-09/
LOCATION:Community House in Library from April 9th forward
END:VEVENT
BEGIN:VEVENT
DTSTART;TZID=America/New_York:20260809T112000
DTEND;TZID=America/New_York:20260809T123000
DTSTAMP:20260419T204007
CREATED:20260408T170910Z
LAST-MODIFIED:20260408T170910Z
UID:10296047-1786274400-1786278600@stmichaels-litchfield.org
SUMMARY:Vestry Meeting
DESCRIPTION:
URL:https://stmichaels-litchfield.org/event/vestry-meeting-4/2026-08-09/
LOCATION:CT
CATEGORIES:Church Event,Parish Events
END:VEVENT
BEGIN:VEVENT
DTSTART;TZID=America/New_York:20260809T110000
DTEND;TZID=America/New_York:20260809T140000
DTSTAMP:20260419T204007
CREATED:20230711T182541Z
LAST-MODIFIED:20250806T192214Z
UID:10012072-1786273200-1786284000@stmichaels-litchfield.org
SUMMARY:Coffee and Fellowship in the Community House
DESCRIPTION:
URL:https://stmichaels-litchfield.org/event/coffee-and-congregation-in-the-community-house/2026-08-09/
LOCATION:Community House in Library from April 9th forward
CATEGORIES:Church Event
END:VEVENT
BEGIN:VEVENT
DTSTART;TZID=America/New_York:20260809T100000
DTEND;TZID=America/New_York:20260809T110000
DTSTAMP:20260419T204007
CREATED:20250403T150154Z
LAST-MODIFIED:20250806T192031Z
UID:10012733-1786269600-1786273200@stmichaels-litchfield.org
SUMMARY:Sunday Eucharist\, Rite II
DESCRIPTION:Rite II with music \nFollowed by Coffee Hour in the Community House
URL:https://stmichaels-litchfield.org/event/sunday-eucharist-2-3/2026-08-09/
LOCATION:Church and Community House
CATEGORIES:Church Event,Parish Events
END:VEVENT
BEGIN:VEVENT
DTSTART;TZID=America/New_York:20260809T080000
DTEND;TZID=America/New_York:20260809T090000
DTSTAMP:20260419T204007
CREATED:20211108T181651Z
LAST-MODIFIED:20260327T134504Z
UID:10020418-1786262400-1786266000@stmichaels-litchfield.org
SUMMARY:Eucharist\, Rite I
DESCRIPTION:Spoken\, no music
URL:https://stmichaels-litchfield.org/event/sunday-eucharist/2026-08-09/
LOCATION:Chapel\, 25 South Street\, Litchfield\, CT\, 06759\, United States
CATEGORIES:Church Event,Parish Events
END:VEVENT
BEGIN:VEVENT
DTSTART;TZID=America/New_York:20260808T083000
DTEND;TZID=America/New_York:20260808T093000
DTSTAMP:20260419T204007
CREATED:20230619T143626Z
LAST-MODIFIED:20230619T143720Z
UID:10010727-1786177800-1786181400@stmichaels-litchfield.org
SUMMARY:AA Meeting in Parish House Library
DESCRIPTION:
URL:https://stmichaels-litchfield.org/event/aa-meeting-in-community-house-2/2026-08-08/
LOCATION:Community House in Library from April 9th forward
CATEGORIES:AA/NA Events
END:VEVENT
BEGIN:VEVENT
DTSTART;TZID=America/New_York:20260807T093000
DTEND;TZID=America/New_York:20260807T143000
DTSTAMP:20260419T204007
CREATED:20260128T181432Z
LAST-MODIFIED:20260128T181726Z
UID:10291534-1786095000-1786113000@stmichaels-litchfield.org
SUMMARY:Church Office Open
DESCRIPTION:
URL:https://stmichaels-litchfield.org/event/church-office-open-14/2026-08-07/
LOCATION:Church Office\, 25 South Street\, Litchfield\, CT\, 06759\, United States
CATEGORIES:Church Office Event
END:VEVENT
BEGIN:VEVENT
DTSTART;TZID=America/New_York:20260807T070000
DTEND;TZID=America/New_York:20260807T073000
DTSTAMP:20260419T204007
CREATED:20230606T184551Z
LAST-MODIFIED:20230619T142647Z
UID:10006165-1786086000-1786087800@stmichaels-litchfield.org
SUMMARY:AA Meeting in the Parish House Library
DESCRIPTION:
URL:https://stmichaels-litchfield.org/event/aa-meeting-in-the-library/2026-08-07/
LOCATION:Parish House Library\, 25 South Street\, Litchfield\, CT\, 06759\, United States
CATEGORIES:AA/NA Events
END:VEVENT
BEGIN:VEVENT
DTSTART;TZID=America/New_York:20260806T190000
DTEND;TZID=America/New_York:20260806T220000
DTSTAMP:20260419T204007
CREATED:20230810T152445Z
LAST-MODIFIED:20230823T141209Z
UID:10012924-1786042800-1786053600@stmichaels-litchfield.org
SUMMARY:SOTG Board meeting in the Parish House Library
DESCRIPTION:
URL:https://stmichaels-litchfield.org/event/sotg-board-meeting-2/2026-08-06/
LOCATION:Parish House Library\, 25 South Street\, Litchfield\, CT\, 06759\, United States
CATEGORIES:School on the Green Event
END:VEVENT
BEGIN:VEVENT
DTSTART;TZID=America/New_York:20260806T093000
DTEND;TZID=America/New_York:20260806T143000
DTSTAMP:20260419T204007
CREATED:20260128T181432Z
LAST-MODIFIED:20260128T181726Z
UID:10291533-1786008600-1786026600@stmichaels-litchfield.org
SUMMARY:Church Office Open
DESCRIPTION:
URL:https://stmichaels-litchfield.org/event/church-office-open-14/2026-08-06/
LOCATION:Church Office\, 25 South Street\, Litchfield\, CT\, 06759\, United States
CATEGORIES:Church Office Event
END:VEVENT
BEGIN:VEVENT
DTSTART;TZID=America/New_York:20260805T193000
DTEND;TZID=America/New_York:20260805T210000
DTSTAMP:20260419T204007
CREATED:20211108T180816Z
LAST-MODIFIED:20230714T003135Z
UID:10012474-1785958200-1785963600@stmichaels-litchfield.org
SUMMARY:NA meeting in Community House
DESCRIPTION:
URL:https://stmichaels-litchfield.org/event/narcotics-anonymous/2026-08-05/
LOCATION:Community House in Library from April 9th forward
CATEGORIES:AA/NA Events
END:VEVENT
BEGIN:VEVENT
DTSTART;TZID=America/New_York:20260805T190000
DTEND;TZID=America/New_York:20260805T203000
DTSTAMP:20260419T204007
CREATED:20230817T183342Z
LAST-MODIFIED:20230817T183342Z
UID:10013150-1785956400-1785961800@stmichaels-litchfield.org
SUMMARY:Choir Rehearsal in Parish House Music Room
DESCRIPTION:
URL:https://stmichaels-litchfield.org/event/choir-rehearsal-in-parish-house-music-room/2026-08-05/
LOCATION:Parish House Music Room
CATEGORIES:Church Event
END:VEVENT
BEGIN:VEVENT
DTSTART;TZID=America/New_York:20260805T173000
DTEND;TZID=America/New_York:20260805T180000
DTSTAMP:20260419T204007
CREATED:20260327T155546Z
LAST-MODIFIED:20260327T155546Z
UID:10294455-1785951000-1785952800@stmichaels-litchfield.org
SUMMARY:Chanted Evening Prayer
DESCRIPTION:
URL:https://stmichaels-litchfield.org/event/chanted-evening-prayer-3/2026-08-05/
LOCATION:Chapel\, 25 South Street\, Litchfield\, CT\, 06759\, United States
CATEGORIES:Church Event
END:VEVENT
END:VCALENDAR