BEGIN:VCALENDAR
VERSION:2.0
PRODID:-//St. Michael&#039;s Church - ECPv6.15.20//NONSGML v1.0//EN
CALSCALE:GREGORIAN
METHOD:PUBLISH
X-WR-CALNAME:St. Michael&#039;s Church
X-ORIGINAL-URL:https://stmichaels-litchfield.org
X-WR-CALDESC:Events for St. Michael&#039;s Church
REFRESH-INTERVAL;VALUE=DURATION:PT1H
X-Robots-Tag:noindex
X-PUBLISHED-TTL:PT1H
BEGIN:VTIMEZONE
TZID:America/New_York
BEGIN:DAYLIGHT
TZOFFSETFROM:-0500
TZOFFSETTO:-0400
TZNAME:EDT
DTSTART:20260308T070000
END:DAYLIGHT
BEGIN:STANDARD
TZOFFSETFROM:-0400
TZOFFSETTO:-0500
TZNAME:EST
DTSTART:20261101T060000
END:STANDARD
BEGIN:DAYLIGHT
TZOFFSETFROM:-0500
TZOFFSETTO:-0400
TZNAME:EDT
DTSTART:20270314T070000
END:DAYLIGHT
BEGIN:STANDARD
TZOFFSETFROM:-0400
TZOFFSETTO:-0500
TZNAME:EST
DTSTART:20271107T060000
END:STANDARD
BEGIN:DAYLIGHT
TZOFFSETFROM:-0500
TZOFFSETTO:-0400
TZNAME:EDT
DTSTART:20280312T070000
END:DAYLIGHT
BEGIN:STANDARD
TZOFFSETFROM:-0400
TZOFFSETTO:-0500
TZNAME:EST
DTSTART:20281105T060000
END:STANDARD
END:VTIMEZONE
BEGIN:VEVENT
DTSTART;TZID=America/New_York:20270421T193000
DTEND;TZID=America/New_York:20270421T210000
DTSTAMP:20260420T102049
CREATED:20211108T180816Z
LAST-MODIFIED:20230714T003135Z
UID:10012511-1808335800-1808341200@stmichaels-litchfield.org
SUMMARY:NA meeting in Community House
DESCRIPTION:
URL:https://stmichaels-litchfield.org/event/narcotics-anonymous/2027-04-21/
LOCATION:Community House in Library from April 9th forward
CATEGORIES:AA/NA Events
END:VEVENT
BEGIN:VEVENT
DTSTART;TZID=America/New_York:20270421T190000
DTEND;TZID=America/New_York:20270421T203000
DTSTAMP:20260420T102049
CREATED:20230817T183342Z
LAST-MODIFIED:20230817T183342Z
UID:10013187-1808334000-1808339400@stmichaels-litchfield.org
SUMMARY:Choir Rehearsal in Parish House Music Room
DESCRIPTION:
URL:https://stmichaels-litchfield.org/event/choir-rehearsal-in-parish-house-music-room/2027-04-21/
LOCATION:Parish House Music Room
CATEGORIES:Church Event
END:VEVENT
BEGIN:VEVENT
DTSTART;TZID=America/New_York:20270421T173000
DTEND;TZID=America/New_York:20270421T180000
DTSTAMP:20260420T102049
CREATED:20260327T155546Z
LAST-MODIFIED:20260327T155546Z
UID:10294492-1808328600-1808330400@stmichaels-litchfield.org
SUMMARY:Chanted Evening Prayer
DESCRIPTION:
URL:https://stmichaels-litchfield.org/event/chanted-evening-prayer-3/2027-04-21/
LOCATION:Chapel\, 25 South Street\, Litchfield\, CT\, 06759\, United States
CATEGORIES:Church Event
END:VEVENT
BEGIN:VEVENT
DTSTART;TZID=America/New_York:20270421T093000
DTEND;TZID=America/New_York:20270421T143000
DTSTAMP:20260420T102049
CREATED:20260128T181432Z
LAST-MODIFIED:20260128T181726Z
UID:10291680-1808299800-1808317800@stmichaels-litchfield.org
SUMMARY:Church Office Open
DESCRIPTION:
URL:https://stmichaels-litchfield.org/event/church-office-open-14/2027-04-21/
LOCATION:Church Office\, 25 South Street\, Litchfield\, CT\, 06759\, United States
CATEGORIES:Church Office Event
END:VEVENT
BEGIN:VEVENT
DTSTART;TZID=America/New_York:20270421T083000
DTEND;TZID=America/New_York:20270421T110000
DTSTAMP:20260420T102049
CREATED:20250109T152013Z
LAST-MODIFIED:20250109T152013Z
UID:10019495-1808296200-1808305200@stmichaels-litchfield.org
SUMMARY:Greenwoods Counseling
DESCRIPTION:
URL:https://stmichaels-litchfield.org/event/greenwoods-counseling-7/2027-04-21/
LOCATION:CT
CATEGORIES:Greenwoods Counseling
END:VEVENT
BEGIN:VEVENT
DTSTART;TZID=America/New_York:20270421T070000
DTEND;TZID=America/New_York:20270421T073000
DTSTAMP:20260420T102049
CREATED:20230606T184551Z
LAST-MODIFIED:20230619T142647Z
UID:10006275-1808290800-1808292600@stmichaels-litchfield.org
SUMMARY:AA Meeting in the Parish House Library
DESCRIPTION:
URL:https://stmichaels-litchfield.org/event/aa-meeting-in-the-library/2027-04-21/
LOCATION:Parish House Library\, 25 South Street\, Litchfield\, CT\, 06759\, United States
CATEGORIES:AA/NA Events
END:VEVENT
BEGIN:VEVENT
DTSTART;TZID=America/New_York:20270420T190000
DTEND;TZID=America/New_York:20270420T200000
DTSTAMP:20260420T102049
CREATED:20211108T175914Z
LAST-MODIFIED:20260130T014621Z
UID:10010157-1808247600-1808251200@stmichaels-litchfield.org
SUMMARY:AA Meeting in Community House
DESCRIPTION:
URL:https://stmichaels-litchfield.org/event/aa-group-in-community-house-2/2027-04-20/
LOCATION:Community House in Library from April 9th forward
CATEGORIES:AA/NA Events
END:VEVENT
BEGIN:VEVENT
DTSTART;TZID=America/New_York:20270420T160000
DTEND;TZID=America/New_York:20270420T173000
DTSTAMP:20260420T102049
CREATED:20260331T205128Z
LAST-MODIFIED:20260331T205254Z
UID:10294751-1808236800-1808242200@stmichaels-litchfield.org
SUMMARY:Priest Search Committee
DESCRIPTION:
URL:https://stmichaels-litchfield.org/event/priest-search-committee-3-2-5/2027-04-20/
LOCATION:Parish House Library\, 25 South Street\, Litchfield\, CT\, 06759\, United States
END:VEVENT
BEGIN:VEVENT
DTSTART;TZID=America/New_York:20270420T093000
DTEND;TZID=America/New_York:20270420T143000
DTSTAMP:20260420T102049
CREATED:20260128T181432Z
LAST-MODIFIED:20260128T181726Z
UID:10291679-1808213400-1808231400@stmichaels-litchfield.org
SUMMARY:Church Office Open
DESCRIPTION:
URL:https://stmichaels-litchfield.org/event/church-office-open-14/2027-04-20/
LOCATION:Church Office\, 25 South Street\, Litchfield\, CT\, 06759\, United States
CATEGORIES:Church Office Event
END:VEVENT
BEGIN:VEVENT
DTSTART;TZID=America/New_York:20270419T200000
DTEND;TZID=America/New_York:20270419T213000
DTSTAMP:20260420T102049
CREATED:20260218T173517Z
LAST-MODIFIED:20260218T173517Z
UID:10292627-1808164800-1808170200@stmichaels-litchfield.org
SUMMARY:AA meeting in the Community House
DESCRIPTION:
URL:https://stmichaels-litchfield.org/event/aa-meeting-in-the-community-house-2/2027-04-19/
LOCATION:CT
END:VEVENT
BEGIN:VEVENT
DTSTART;TZID=America/New_York:20270419T070000
DTEND;TZID=America/New_York:20270419T073000
DTSTAMP:20260420T102049
CREATED:20230606T184551Z
LAST-MODIFIED:20230619T142647Z
UID:10006274-1808118000-1808119800@stmichaels-litchfield.org
SUMMARY:AA Meeting in the Parish House Library
DESCRIPTION:
URL:https://stmichaels-litchfield.org/event/aa-meeting-in-the-library/2027-04-19/
LOCATION:Parish House Library\, 25 South Street\, Litchfield\, CT\, 06759\, United States
CATEGORIES:AA/NA Events
END:VEVENT
BEGIN:VEVENT
DTSTART;VALUE=DATE:20270419
DTEND;VALUE=DATE:20270420
DTSTAMP:20260420T102049
CREATED:20260128T181321Z
LAST-MODIFIED:20260128T181322Z
UID:10291204-1808092800-1808179199@stmichaels-litchfield.org
SUMMARY:Church Office Closed
DESCRIPTION:
URL:https://stmichaels-litchfield.org/event/summer-schedule-church-office-closed-2-2-2-3/2027-04-19/
LOCATION:Church Office\, 25 South Street\, Litchfield\, CT\, 06759\, United States
CATEGORIES:Church Office Event
END:VEVENT
BEGIN:VEVENT
DTSTART;TZID=America/New_York:20270418T190000
DTEND;TZID=America/New_York:20270418T200000
DTSTAMP:20260420T102049
CREATED:20230619T142544Z
LAST-MODIFIED:20260416T160049Z
UID:10009953-1808074800-1808078400@stmichaels-litchfield.org
SUMMARY:AA Meeting in Community House
DESCRIPTION:
URL:https://stmichaels-litchfield.org/event/aa-meeting-in-community-house/2027-04-18/
LOCATION:Community House in Library from April 9th forward
END:VEVENT
BEGIN:VEVENT
DTSTART;TZID=America/New_York:20270418T110000
DTEND;TZID=America/New_York:20270418T140000
DTSTAMP:20260420T102049
CREATED:20230711T182541Z
LAST-MODIFIED:20250806T192214Z
UID:10012108-1808046000-1808056800@stmichaels-litchfield.org
SUMMARY:Coffee and Fellowship in the Community House
DESCRIPTION:
URL:https://stmichaels-litchfield.org/event/coffee-and-congregation-in-the-community-house/2027-04-18/
LOCATION:Community House in Library from April 9th forward
CATEGORIES:Church Event
END:VEVENT
BEGIN:VEVENT
DTSTART;TZID=America/New_York:20270418T100000
DTEND;TZID=America/New_York:20270418T110000
DTSTAMP:20260420T102049
CREATED:20250403T150154Z
LAST-MODIFIED:20250806T192031Z
UID:10012769-1808042400-1808046000@stmichaels-litchfield.org
SUMMARY:Sunday Eucharist\, Rite II
DESCRIPTION:Rite II with music \nFollowed by Coffee Hour in the Community House
URL:https://stmichaels-litchfield.org/event/sunday-eucharist-2-3/2027-04-18/
LOCATION:Church and Community House
CATEGORIES:Church Event,Parish Events
END:VEVENT
BEGIN:VEVENT
DTSTART;TZID=America/New_York:20270418T080000
DTEND;TZID=America/New_York:20270418T090000
DTSTAMP:20260420T102049
CREATED:20211108T181651Z
LAST-MODIFIED:20260327T134504Z
UID:10020454-1808035200-1808038800@stmichaels-litchfield.org
SUMMARY:Eucharist\, Rite I
DESCRIPTION:Spoken\, no music
URL:https://stmichaels-litchfield.org/event/sunday-eucharist/2027-04-18/
LOCATION:Chapel\, 25 South Street\, Litchfield\, CT\, 06759\, United States
CATEGORIES:Church Event,Parish Events
END:VEVENT
BEGIN:VEVENT
DTSTART;TZID=America/New_York:20270417T083000
DTEND;TZID=America/New_York:20270417T093000
DTSTAMP:20260420T102049
CREATED:20230619T143626Z
LAST-MODIFIED:20230619T143720Z
UID:10010763-1807950600-1807954200@stmichaels-litchfield.org
SUMMARY:AA Meeting in Parish House Library
DESCRIPTION:
URL:https://stmichaels-litchfield.org/event/aa-meeting-in-community-house-2/2027-04-17/
LOCATION:Community House in Library from April 9th forward
CATEGORIES:AA/NA Events
END:VEVENT
BEGIN:VEVENT
DTSTART;TZID=America/New_York:20270416T093000
DTEND;TZID=America/New_York:20270416T143000
DTSTAMP:20260420T102049
CREATED:20260128T181432Z
LAST-MODIFIED:20260128T181726Z
UID:10291678-1807867800-1807885800@stmichaels-litchfield.org
SUMMARY:Church Office Open
DESCRIPTION:
URL:https://stmichaels-litchfield.org/event/church-office-open-14/2027-04-16/
LOCATION:Church Office\, 25 South Street\, Litchfield\, CT\, 06759\, United States
CATEGORIES:Church Office Event
END:VEVENT
BEGIN:VEVENT
DTSTART;TZID=America/New_York:20270416T070000
DTEND;TZID=America/New_York:20270416T073000
DTSTAMP:20260420T102049
CREATED:20230606T184551Z
LAST-MODIFIED:20230619T142647Z
UID:10006273-1807858800-1807860600@stmichaels-litchfield.org
SUMMARY:AA Meeting in the Parish House Library
DESCRIPTION:
URL:https://stmichaels-litchfield.org/event/aa-meeting-in-the-library/2027-04-16/
LOCATION:Parish House Library\, 25 South Street\, Litchfield\, CT\, 06759\, United States
CATEGORIES:AA/NA Events
END:VEVENT
BEGIN:VEVENT
DTSTART;TZID=America/New_York:20270415T093000
DTEND;TZID=America/New_York:20270415T143000
DTSTAMP:20260420T102049
CREATED:20260128T181432Z
LAST-MODIFIED:20260128T181726Z
UID:10291677-1807781400-1807799400@stmichaels-litchfield.org
SUMMARY:Church Office Open
DESCRIPTION:
URL:https://stmichaels-litchfield.org/event/church-office-open-14/2027-04-15/
LOCATION:Church Office\, 25 South Street\, Litchfield\, CT\, 06759\, United States
CATEGORIES:Church Office Event
END:VEVENT
BEGIN:VEVENT
DTSTART;TZID=America/New_York:20270414T193000
DTEND;TZID=America/New_York:20270414T210000
DTSTAMP:20260420T102049
CREATED:20211108T180816Z
LAST-MODIFIED:20230714T003135Z
UID:10012510-1807731000-1807736400@stmichaels-litchfield.org
SUMMARY:NA meeting in Community House
DESCRIPTION:
URL:https://stmichaels-litchfield.org/event/narcotics-anonymous/2027-04-14/
LOCATION:Community House in Library from April 9th forward
CATEGORIES:AA/NA Events
END:VEVENT
BEGIN:VEVENT
DTSTART;TZID=America/New_York:20270414T190000
DTEND;TZID=America/New_York:20270414T203000
DTSTAMP:20260420T102049
CREATED:20230817T183342Z
LAST-MODIFIED:20230817T183342Z
UID:10013186-1807729200-1807734600@stmichaels-litchfield.org
SUMMARY:Choir Rehearsal in Parish House Music Room
DESCRIPTION:
URL:https://stmichaels-litchfield.org/event/choir-rehearsal-in-parish-house-music-room/2027-04-14/
LOCATION:Parish House Music Room
CATEGORIES:Church Event
END:VEVENT
BEGIN:VEVENT
DTSTART;TZID=America/New_York:20270414T173000
DTEND;TZID=America/New_York:20270414T180000
DTSTAMP:20260420T102049
CREATED:20260327T155546Z
LAST-MODIFIED:20260327T155546Z
UID:10294491-1807723800-1807725600@stmichaels-litchfield.org
SUMMARY:Chanted Evening Prayer
DESCRIPTION:
URL:https://stmichaels-litchfield.org/event/chanted-evening-prayer-3/2027-04-14/
LOCATION:Chapel\, 25 South Street\, Litchfield\, CT\, 06759\, United States
CATEGORIES:Church Event
END:VEVENT
BEGIN:VEVENT
DTSTART;TZID=America/New_York:20270414T093000
DTEND;TZID=America/New_York:20270414T143000
DTSTAMP:20260420T102050
CREATED:20260128T181432Z
LAST-MODIFIED:20260128T181726Z
UID:10291676-1807695000-1807713000@stmichaels-litchfield.org
SUMMARY:Church Office Open
DESCRIPTION:
URL:https://stmichaels-litchfield.org/event/church-office-open-14/2027-04-14/
LOCATION:Church Office\, 25 South Street\, Litchfield\, CT\, 06759\, United States
CATEGORIES:Church Office Event
END:VEVENT
BEGIN:VEVENT
DTSTART;TZID=America/New_York:20270414T083000
DTEND;TZID=America/New_York:20270414T110000
DTSTAMP:20260420T102050
CREATED:20250109T152013Z
LAST-MODIFIED:20250109T152013Z
UID:10019494-1807691400-1807700400@stmichaels-litchfield.org
SUMMARY:Greenwoods Counseling
DESCRIPTION:
URL:https://stmichaels-litchfield.org/event/greenwoods-counseling-7/2027-04-14/
LOCATION:CT
CATEGORIES:Greenwoods Counseling
END:VEVENT
BEGIN:VEVENT
DTSTART;TZID=America/New_York:20270414T070000
DTEND;TZID=America/New_York:20270414T073000
DTSTAMP:20260420T102050
CREATED:20230606T184551Z
LAST-MODIFIED:20230619T142647Z
UID:10006272-1807686000-1807687800@stmichaels-litchfield.org
SUMMARY:AA Meeting in the Parish House Library
DESCRIPTION:
URL:https://stmichaels-litchfield.org/event/aa-meeting-in-the-library/2027-04-14/
LOCATION:Parish House Library\, 25 South Street\, Litchfield\, CT\, 06759\, United States
CATEGORIES:AA/NA Events
END:VEVENT
BEGIN:VEVENT
DTSTART;TZID=America/New_York:20270413T190000
DTEND;TZID=America/New_York:20270413T200000
DTSTAMP:20260420T102050
CREATED:20211108T175914Z
LAST-MODIFIED:20260130T014621Z
UID:10010156-1807642800-1807646400@stmichaels-litchfield.org
SUMMARY:AA Meeting in Community House
DESCRIPTION:
URL:https://stmichaels-litchfield.org/event/aa-group-in-community-house-2/2027-04-13/
LOCATION:Community House in Library from April 9th forward
CATEGORIES:AA/NA Events
END:VEVENT
BEGIN:VEVENT
DTSTART;TZID=America/New_York:20270413T160000
DTEND;TZID=America/New_York:20270413T173000
DTSTAMP:20260420T102050
CREATED:20260331T205128Z
LAST-MODIFIED:20260331T205254Z
UID:10294750-1807632000-1807637400@stmichaels-litchfield.org
SUMMARY:Priest Search Committee
DESCRIPTION:
URL:https://stmichaels-litchfield.org/event/priest-search-committee-3-2-5/2027-04-13/
LOCATION:Parish House Library\, 25 South Street\, Litchfield\, CT\, 06759\, United States
END:VEVENT
BEGIN:VEVENT
DTSTART;TZID=America/New_York:20270413T151500
DTEND;TZID=America/New_York:20270413T163000
DTSTAMP:20260420T102050
CREATED:20260223T204456Z
LAST-MODIFIED:20260304T185946Z
UID:10293566-1807629300-1807633800@stmichaels-litchfield.org
SUMMARY:Property Committee meeting in Parish House Library
DESCRIPTION:
URL:https://stmichaels-litchfield.org/event/property-committee-meeting-in-parish-house-library-4/2027-04-13/
LOCATION:Parish House Library\, 25 South Street\, Litchfield\, CT\, 06759\, United States
CATEGORIES:Church Event
END:VEVENT
BEGIN:VEVENT
DTSTART;TZID=America/New_York:20270413T120000
DTEND;TZID=America/New_York:20270413T130000
DTSTAMP:20260420T102050
CREATED:20260223T205039Z
LAST-MODIFIED:20260223T205039Z
UID:10293178-1807617600-1807621200@stmichaels-litchfield.org
SUMMARY:Lunch with Meredith
DESCRIPTION:
URL:https://stmichaels-litchfield.org/event/lunch-with-meredith-2/2027-04-13/
LOCATION:Community House in Library from April 9th forward
CATEGORIES:Church Event,Parish Events
END:VEVENT
END:VCALENDAR