BEGIN:VCALENDAR
VERSION:2.0
PRODID:-//St. Michael&#039;s Church - ECPv6.15.20//NONSGML v1.0//EN
CALSCALE:GREGORIAN
METHOD:PUBLISH
X-WR-CALNAME:St. Michael&#039;s Church
X-ORIGINAL-URL:https://stmichaels-litchfield.org
X-WR-CALDESC:Events for St. Michael&#039;s Church
REFRESH-INTERVAL;VALUE=DURATION:PT1H
X-Robots-Tag:noindex
X-PUBLISHED-TTL:PT1H
BEGIN:VTIMEZONE
TZID:America/New_York
BEGIN:DAYLIGHT
TZOFFSETFROM:-0500
TZOFFSETTO:-0400
TZNAME:EDT
DTSTART:20260308T070000
END:DAYLIGHT
BEGIN:STANDARD
TZOFFSETFROM:-0400
TZOFFSETTO:-0500
TZNAME:EST
DTSTART:20261101T060000
END:STANDARD
BEGIN:DAYLIGHT
TZOFFSETFROM:-0500
TZOFFSETTO:-0400
TZNAME:EDT
DTSTART:20270314T070000
END:DAYLIGHT
BEGIN:STANDARD
TZOFFSETFROM:-0400
TZOFFSETTO:-0500
TZNAME:EST
DTSTART:20271107T060000
END:STANDARD
BEGIN:DAYLIGHT
TZOFFSETFROM:-0500
TZOFFSETTO:-0400
TZNAME:EDT
DTSTART:20280312T070000
END:DAYLIGHT
BEGIN:STANDARD
TZOFFSETFROM:-0400
TZOFFSETTO:-0500
TZNAME:EST
DTSTART:20281105T060000
END:STANDARD
END:VTIMEZONE
BEGIN:VEVENT
DTSTART;TZID=America/New_York:20270809T200000
DTEND;TZID=America/New_York:20270809T213000
DTSTAMP:20260422T180647
CREATED:20260218T173517Z
LAST-MODIFIED:20260218T173517Z
UID:10292643-1817841600-1817847000@stmichaels-litchfield.org
SUMMARY:AA meeting in the Community House
DESCRIPTION:
URL:https://stmichaels-litchfield.org/event/aa-meeting-in-the-community-house-2/2027-08-09/
LOCATION:CT
END:VEVENT
BEGIN:VEVENT
DTSTART;TZID=America/New_York:20270809T070000
DTEND;TZID=America/New_York:20270809T073000
DTSTAMP:20260422T180647
CREATED:20230606T184551Z
LAST-MODIFIED:20230619T142647Z
UID:10006322-1817794800-1817796600@stmichaels-litchfield.org
SUMMARY:AA Meeting in the Parish House Library
DESCRIPTION:
URL:https://stmichaels-litchfield.org/event/aa-meeting-in-the-library/2027-08-09/
LOCATION:Parish House Library\, 25 South Street\, Litchfield\, CT\, 06759\, United States
CATEGORIES:AA/NA Events
END:VEVENT
BEGIN:VEVENT
DTSTART;VALUE=DATE:20270809
DTEND;VALUE=DATE:20270810
DTSTAMP:20260422T180647
CREATED:20260128T181321Z
LAST-MODIFIED:20260128T181322Z
UID:10291220-1817769600-1817855999@stmichaels-litchfield.org
SUMMARY:Church Office Closed
DESCRIPTION:
URL:https://stmichaels-litchfield.org/event/summer-schedule-church-office-closed-2-2-2-3/2027-08-09/
LOCATION:Church Office\, 25 South Street\, Litchfield\, CT\, 06759\, United States
CATEGORIES:Church Office Event
END:VEVENT
BEGIN:VEVENT
DTSTART;TZID=America/New_York:20270808T190000
DTEND;TZID=America/New_York:20270808T200000
DTSTAMP:20260422T180647
CREATED:20230619T142544Z
LAST-MODIFIED:20260416T160049Z
UID:10009969-1817751600-1817755200@stmichaels-litchfield.org
SUMMARY:AA Meeting in Community House
DESCRIPTION:
URL:https://stmichaels-litchfield.org/event/aa-meeting-in-community-house/2027-08-08/
LOCATION:Community House in Library from April 9th forward
END:VEVENT
BEGIN:VEVENT
DTSTART;TZID=America/New_York:20270808T112000
DTEND;TZID=America/New_York:20270808T123000
DTSTAMP:20260422T180647
CREATED:20260408T170910Z
LAST-MODIFIED:20260408T170910Z
UID:10296059-1817724000-1817728200@stmichaels-litchfield.org
SUMMARY:Vestry Meeting
DESCRIPTION:
URL:https://stmichaels-litchfield.org/event/vestry-meeting-4/2027-08-08/
LOCATION:CT
CATEGORIES:Church Event,Parish Events
END:VEVENT
BEGIN:VEVENT
DTSTART;TZID=America/New_York:20270808T110000
DTEND;TZID=America/New_York:20270808T140000
DTSTAMP:20260422T180647
CREATED:20230711T182541Z
LAST-MODIFIED:20250806T192214Z
UID:10012124-1817722800-1817733600@stmichaels-litchfield.org
SUMMARY:Coffee and Fellowship in the Community House
DESCRIPTION:
URL:https://stmichaels-litchfield.org/event/coffee-and-congregation-in-the-community-house/2027-08-08/
LOCATION:Community House in Library from April 9th forward
CATEGORIES:Church Event
END:VEVENT
BEGIN:VEVENT
DTSTART;TZID=America/New_York:20270808T100000
DTEND;TZID=America/New_York:20270808T110000
DTSTAMP:20260422T180647
CREATED:20250403T150154Z
LAST-MODIFIED:20260422T181447Z
UID:10012785-1817719200-1817722800@stmichaels-litchfield.org
SUMMARY:Sunday Eucharist\, Rite II
DESCRIPTION:Rite II with music \nFollowed by Coffee Hour in the Community House
URL:https://stmichaels-litchfield.org/event/sunday-eucharist-2-3/2027-08-08/
LOCATION:Church\, 25 South Street\, Litchfield\, CT\, 06759\, United States
CATEGORIES:Church Event,Parish Events
END:VEVENT
BEGIN:VEVENT
DTSTART;TZID=America/New_York:20270808T080000
DTEND;TZID=America/New_York:20270808T090000
DTSTAMP:20260422T180647
CREATED:20211108T181651Z
LAST-MODIFIED:20260327T134504Z
UID:10020470-1817712000-1817715600@stmichaels-litchfield.org
SUMMARY:Eucharist\, Rite I
DESCRIPTION:Spoken\, no music
URL:https://stmichaels-litchfield.org/event/sunday-eucharist/2027-08-08/
LOCATION:Chapel\, 25 South Street\, Litchfield\, CT\, 06759\, United States
CATEGORIES:Church Event,Parish Events
END:VEVENT
BEGIN:VEVENT
DTSTART;TZID=America/New_York:20270807T083000
DTEND;TZID=America/New_York:20270807T093000
DTSTAMP:20260422T180647
CREATED:20230619T143626Z
LAST-MODIFIED:20230619T143720Z
UID:10010779-1817627400-1817631000@stmichaels-litchfield.org
SUMMARY:AA Meeting in Parish House Library
DESCRIPTION:
URL:https://stmichaels-litchfield.org/event/aa-meeting-in-community-house-2/2027-08-07/
LOCATION:Community House in Library from April 9th forward
CATEGORIES:AA/NA Events
END:VEVENT
BEGIN:VEVENT
DTSTART;TZID=America/New_York:20270806T093000
DTEND;TZID=America/New_York:20270806T143000
DTSTAMP:20260422T180647
CREATED:20260128T181432Z
LAST-MODIFIED:20260128T181726Z
UID:10291742-1817544600-1817562600@stmichaels-litchfield.org
SUMMARY:Church Office Open
DESCRIPTION:
URL:https://stmichaels-litchfield.org/event/church-office-open-14/2027-08-06/
LOCATION:Church Office\, 25 South Street\, Litchfield\, CT\, 06759\, United States
CATEGORIES:Church Office Event
END:VEVENT
BEGIN:VEVENT
DTSTART;TZID=America/New_York:20270806T070000
DTEND;TZID=America/New_York:20270806T073000
DTSTAMP:20260422T180647
CREATED:20230606T184551Z
LAST-MODIFIED:20230619T142647Z
UID:10006321-1817535600-1817537400@stmichaels-litchfield.org
SUMMARY:AA Meeting in the Parish House Library
DESCRIPTION:
URL:https://stmichaels-litchfield.org/event/aa-meeting-in-the-library/2027-08-06/
LOCATION:Parish House Library\, 25 South Street\, Litchfield\, CT\, 06759\, United States
CATEGORIES:AA/NA Events
END:VEVENT
BEGIN:VEVENT
DTSTART;TZID=America/New_York:20270805T190000
DTEND;TZID=America/New_York:20270805T220000
DTSTAMP:20260422T180647
CREATED:20230810T152445Z
LAST-MODIFIED:20230823T141209Z
UID:10012935-1817492400-1817503200@stmichaels-litchfield.org
SUMMARY:SOTG Board meeting in the Parish House Library
DESCRIPTION:
URL:https://stmichaels-litchfield.org/event/sotg-board-meeting-2/2027-08-05/
LOCATION:Parish House Library\, 25 South Street\, Litchfield\, CT\, 06759\, United States
CATEGORIES:School on the Green Event
END:VEVENT
BEGIN:VEVENT
DTSTART;TZID=America/New_York:20270805T093000
DTEND;TZID=America/New_York:20270805T143000
DTSTAMP:20260422T180647
CREATED:20260128T181432Z
LAST-MODIFIED:20260128T181726Z
UID:10291741-1817458200-1817476200@stmichaels-litchfield.org
SUMMARY:Church Office Open
DESCRIPTION:
URL:https://stmichaels-litchfield.org/event/church-office-open-14/2027-08-05/
LOCATION:Church Office\, 25 South Street\, Litchfield\, CT\, 06759\, United States
CATEGORIES:Church Office Event
END:VEVENT
BEGIN:VEVENT
DTSTART;TZID=America/New_York:20270804T193000
DTEND;TZID=America/New_York:20270804T210000
DTSTAMP:20260422T180647
CREATED:20211108T180816Z
LAST-MODIFIED:20230714T003135Z
UID:10012526-1817407800-1817413200@stmichaels-litchfield.org
SUMMARY:NA meeting in Community House
DESCRIPTION:
URL:https://stmichaels-litchfield.org/event/narcotics-anonymous/2027-08-04/
LOCATION:Community House in Library from April 9th forward
CATEGORIES:AA/NA Events
END:VEVENT
BEGIN:VEVENT
DTSTART;TZID=America/New_York:20270804T190000
DTEND;TZID=America/New_York:20270804T203000
DTSTAMP:20260422T180647
CREATED:20230817T183342Z
LAST-MODIFIED:20230817T183342Z
UID:10013202-1817406000-1817411400@stmichaels-litchfield.org
SUMMARY:Choir Rehearsal in Parish House Music Room
DESCRIPTION:
URL:https://stmichaels-litchfield.org/event/choir-rehearsal-in-parish-house-music-room/2027-08-04/
LOCATION:Parish House Music Room
CATEGORIES:Church Event
END:VEVENT
BEGIN:VEVENT
DTSTART;TZID=America/New_York:20270804T173000
DTEND;TZID=America/New_York:20270804T180000
DTSTAMP:20260422T180647
CREATED:20260327T155546Z
LAST-MODIFIED:20260422T175057Z
UID:10294507-1817400600-1817402400@stmichaels-litchfield.org
SUMMARY:Chanted Evening Prayer
DESCRIPTION:
URL:https://stmichaels-litchfield.org/event/chanted-evening-prayer-3/2027-08-04/
LOCATION:Chapel\, 25 South Street\, Litchfield\, CT\, 06759\, United States
CATEGORIES:Church Event
END:VEVENT
BEGIN:VEVENT
DTSTART;TZID=America/New_York:20270804T093000
DTEND;TZID=America/New_York:20270804T143000
DTSTAMP:20260422T180647
CREATED:20260128T181432Z
LAST-MODIFIED:20260128T181726Z
UID:10291740-1817371800-1817389800@stmichaels-litchfield.org
SUMMARY:Church Office Open
DESCRIPTION:
URL:https://stmichaels-litchfield.org/event/church-office-open-14/2027-08-04/
LOCATION:Church Office\, 25 South Street\, Litchfield\, CT\, 06759\, United States
CATEGORIES:Church Office Event
END:VEVENT
BEGIN:VEVENT
DTSTART;TZID=America/New_York:20270804T083000
DTEND;TZID=America/New_York:20270804T110000
DTSTAMP:20260422T180647
CREATED:20250109T152013Z
LAST-MODIFIED:20250109T152013Z
UID:10019510-1817368200-1817377200@stmichaels-litchfield.org
SUMMARY:Greenwoods Counseling
DESCRIPTION:
URL:https://stmichaels-litchfield.org/event/greenwoods-counseling-7/2027-08-04/
LOCATION:CT
CATEGORIES:Greenwoods Counseling
END:VEVENT
BEGIN:VEVENT
DTSTART;TZID=America/New_York:20270804T070000
DTEND;TZID=America/New_York:20270804T073000
DTSTAMP:20260422T180647
CREATED:20230606T184551Z
LAST-MODIFIED:20230619T142647Z
UID:10006320-1817362800-1817364600@stmichaels-litchfield.org
SUMMARY:AA Meeting in the Parish House Library
DESCRIPTION:
URL:https://stmichaels-litchfield.org/event/aa-meeting-in-the-library/2027-08-04/
LOCATION:Parish House Library\, 25 South Street\, Litchfield\, CT\, 06759\, United States
CATEGORIES:AA/NA Events
END:VEVENT
BEGIN:VEVENT
DTSTART;TZID=America/New_York:20270803T190000
DTEND;TZID=America/New_York:20270803T200000
DTSTAMP:20260422T180647
CREATED:20211108T175914Z
LAST-MODIFIED:20260130T014621Z
UID:10010172-1817319600-1817323200@stmichaels-litchfield.org
SUMMARY:AA Meeting in Community House
DESCRIPTION:
URL:https://stmichaels-litchfield.org/event/aa-group-in-community-house-2/2027-08-03/
LOCATION:Community House in Library from April 9th forward
CATEGORIES:AA/NA Events
END:VEVENT
BEGIN:VEVENT
DTSTART;TZID=America/New_York:20270803T171500
DTEND;TZID=America/New_York:20270803T183000
DTSTAMP:20260422T180647
CREATED:20231227T151453Z
LAST-MODIFIED:20260317T155826Z
UID:10293653-1817313300-1817317800@stmichaels-litchfield.org
SUMMARY:Property Committee Meeting in Parish House Library
DESCRIPTION:
URL:https://stmichaels-litchfield.org/event/property-committee-meeting-in-parish-house-library-3/2027-08-03/
LOCATION:Parish House Library\, 25 South Street\, Litchfield\, CT\, 06759\, United States
CATEGORIES:Church Event
END:VEVENT
BEGIN:VEVENT
DTSTART;TZID=America/New_York:20270803T160000
DTEND;TZID=America/New_York:20270803T173000
DTSTAMP:20260422T180647
CREATED:20260331T205128Z
LAST-MODIFIED:20260331T205254Z
UID:10294766-1817308800-1817314200@stmichaels-litchfield.org
SUMMARY:Priest Search Committee
DESCRIPTION:
URL:https://stmichaels-litchfield.org/event/priest-search-committee-3-2-5/2027-08-03/
LOCATION:Parish House Library\, 25 South Street\, Litchfield\, CT\, 06759\, United States
END:VEVENT
BEGIN:VEVENT
DTSTART;TZID=America/New_York:20270803T093000
DTEND;TZID=America/New_York:20270803T143000
DTSTAMP:20260422T180647
CREATED:20260128T181432Z
LAST-MODIFIED:20260128T181726Z
UID:10291739-1817285400-1817303400@stmichaels-litchfield.org
SUMMARY:Church Office Open
DESCRIPTION:
URL:https://stmichaels-litchfield.org/event/church-office-open-14/2027-08-03/
LOCATION:Church Office\, 25 South Street\, Litchfield\, CT\, 06759\, United States
CATEGORIES:Church Office Event
END:VEVENT
BEGIN:VEVENT
DTSTART;TZID=America/New_York:20270802T200000
DTEND;TZID=America/New_York:20270802T213000
DTSTAMP:20260422T180648
CREATED:20260218T173517Z
LAST-MODIFIED:20260218T173517Z
UID:10292642-1817236800-1817242200@stmichaels-litchfield.org
SUMMARY:AA meeting in the Community House
DESCRIPTION:
URL:https://stmichaels-litchfield.org/event/aa-meeting-in-the-community-house-2/2027-08-02/
LOCATION:CT
END:VEVENT
BEGIN:VEVENT
DTSTART;TZID=America/New_York:20270802T070000
DTEND;TZID=America/New_York:20270802T073000
DTSTAMP:20260422T180648
CREATED:20230606T184551Z
LAST-MODIFIED:20230619T142647Z
UID:10006319-1817190000-1817191800@stmichaels-litchfield.org
SUMMARY:AA Meeting in the Parish House Library
DESCRIPTION:
URL:https://stmichaels-litchfield.org/event/aa-meeting-in-the-library/2027-08-02/
LOCATION:Parish House Library\, 25 South Street\, Litchfield\, CT\, 06759\, United States
CATEGORIES:AA/NA Events
END:VEVENT
BEGIN:VEVENT
DTSTART;VALUE=DATE:20270802
DTEND;VALUE=DATE:20270803
DTSTAMP:20260422T180648
CREATED:20260128T181321Z
LAST-MODIFIED:20260128T181322Z
UID:10291219-1817164800-1817251199@stmichaels-litchfield.org
SUMMARY:Church Office Closed
DESCRIPTION:
URL:https://stmichaels-litchfield.org/event/summer-schedule-church-office-closed-2-2-2-3/2027-08-02/
LOCATION:Church Office\, 25 South Street\, Litchfield\, CT\, 06759\, United States
CATEGORIES:Church Office Event
END:VEVENT
BEGIN:VEVENT
DTSTART;TZID=America/New_York:20270801T190000
DTEND;TZID=America/New_York:20270801T200000
DTSTAMP:20260422T180648
CREATED:20230619T142544Z
LAST-MODIFIED:20260416T160049Z
UID:10009968-1817146800-1817150400@stmichaels-litchfield.org
SUMMARY:AA Meeting in Community House
DESCRIPTION:
URL:https://stmichaels-litchfield.org/event/aa-meeting-in-community-house/2027-08-01/
LOCATION:Community House in Library from April 9th forward
END:VEVENT
BEGIN:VEVENT
DTSTART;TZID=America/New_York:20270801T110000
DTEND;TZID=America/New_York:20270801T140000
DTSTAMP:20260422T180648
CREATED:20230711T182541Z
LAST-MODIFIED:20250806T192214Z
UID:10012123-1817118000-1817128800@stmichaels-litchfield.org
SUMMARY:Coffee and Fellowship in the Community House
DESCRIPTION:
URL:https://stmichaels-litchfield.org/event/coffee-and-congregation-in-the-community-house/2027-08-01/
LOCATION:Community House in Library from April 9th forward
CATEGORIES:Church Event
END:VEVENT
BEGIN:VEVENT
DTSTART;TZID=America/New_York:20270801T100000
DTEND;TZID=America/New_York:20270801T110000
DTSTAMP:20260422T180648
CREATED:20250403T150154Z
LAST-MODIFIED:20260422T181447Z
UID:10012784-1817114400-1817118000@stmichaels-litchfield.org
SUMMARY:Sunday Eucharist\, Rite II
DESCRIPTION:Rite II with music \nFollowed by Coffee Hour in the Community House
URL:https://stmichaels-litchfield.org/event/sunday-eucharist-2-3/2027-08-01/
LOCATION:Church\, 25 South Street\, Litchfield\, CT\, 06759\, United States
CATEGORIES:Church Event,Parish Events
END:VEVENT
BEGIN:VEVENT
DTSTART;TZID=America/New_York:20270801T080000
DTEND;TZID=America/New_York:20270801T090000
DTSTAMP:20260422T180648
CREATED:20211108T181651Z
LAST-MODIFIED:20260327T134504Z
UID:10020469-1817107200-1817110800@stmichaels-litchfield.org
SUMMARY:Eucharist\, Rite I
DESCRIPTION:Spoken\, no music
URL:https://stmichaels-litchfield.org/event/sunday-eucharist/2027-08-01/
LOCATION:Chapel\, 25 South Street\, Litchfield\, CT\, 06759\, United States
CATEGORIES:Church Event,Parish Events
END:VEVENT
END:VCALENDAR