BEGIN:VCALENDAR
VERSION:2.0
PRODID:-//St. Michael&#039;s Church - ECPv6.15.20//NONSGML v1.0//EN
CALSCALE:GREGORIAN
METHOD:PUBLISH
X-WR-CALNAME:St. Michael&#039;s Church
X-ORIGINAL-URL:https://stmichaels-litchfield.org
X-WR-CALDESC:Events for St. Michael&#039;s Church
REFRESH-INTERVAL;VALUE=DURATION:PT1H
X-Robots-Tag:noindex
X-PUBLISHED-TTL:PT1H
BEGIN:VTIMEZONE
TZID:America/New_York
BEGIN:DAYLIGHT
TZOFFSETFROM:-0500
TZOFFSETTO:-0400
TZNAME:EDT
DTSTART:20270314T070000
END:DAYLIGHT
BEGIN:STANDARD
TZOFFSETFROM:-0400
TZOFFSETTO:-0500
TZNAME:EST
DTSTART:20271107T060000
END:STANDARD
BEGIN:DAYLIGHT
TZOFFSETFROM:-0500
TZOFFSETTO:-0400
TZNAME:EDT
DTSTART:20280312T070000
END:DAYLIGHT
BEGIN:STANDARD
TZOFFSETFROM:-0400
TZOFFSETTO:-0500
TZNAME:EST
DTSTART:20281105T060000
END:STANDARD
BEGIN:DAYLIGHT
TZOFFSETFROM:-0500
TZOFFSETTO:-0400
TZNAME:EDT
DTSTART:20290311T070000
END:DAYLIGHT
BEGIN:STANDARD
TZOFFSETFROM:-0400
TZOFFSETTO:-0500
TZNAME:EST
DTSTART:20291104T060000
END:STANDARD
END:VTIMEZONE
BEGIN:VEVENT
DTSTART;TZID=America/New_York:20280124T200000
DTEND;TZID=America/New_York:20280124T213000
DTSTAMP:20260423T025646
CREATED:20260218T173517Z
LAST-MODIFIED:20260218T173517Z
UID:10292667-1832356800-1832362200@stmichaels-litchfield.org
SUMMARY:AA meeting in the Community House
DESCRIPTION:
URL:https://stmichaels-litchfield.org/event/aa-meeting-in-the-community-house-2/2028-01-24/
LOCATION:CT
END:VEVENT
BEGIN:VEVENT
DTSTART;TZID=America/New_York:20280124T070000
DTEND;TZID=America/New_York:20280124T073000
DTSTAMP:20260423T025646
CREATED:20230606T184551Z
LAST-MODIFIED:20230619T142647Z
UID:10006394-1832310000-1832311800@stmichaels-litchfield.org
SUMMARY:AA Meeting in the Parish House Library
DESCRIPTION:
URL:https://stmichaels-litchfield.org/event/aa-meeting-in-the-library/2028-01-24/
LOCATION:Parish House Library\, 25 South Street\, Litchfield\, CT\, 06759\, United States
CATEGORIES:AA/NA Events
END:VEVENT
BEGIN:VEVENT
DTSTART;VALUE=DATE:20280124
DTEND;VALUE=DATE:20280125
DTSTAMP:20260423T025646
CREATED:20260128T181321Z
LAST-MODIFIED:20260128T181322Z
UID:10291244-1832284800-1832371199@stmichaels-litchfield.org
SUMMARY:Church Office Closed
DESCRIPTION:
URL:https://stmichaels-litchfield.org/event/summer-schedule-church-office-closed-2-2-2-3/2028-01-24/
LOCATION:Church Office\, 25 South Street\, Litchfield\, CT\, 06759\, United States
CATEGORIES:Church Office Event
END:VEVENT
BEGIN:VEVENT
DTSTART;TZID=America/New_York:20280123T190000
DTEND;TZID=America/New_York:20280123T200000
DTSTAMP:20260423T025646
CREATED:20230619T142544Z
LAST-MODIFIED:20260416T160049Z
UID:10009993-1832266800-1832270400@stmichaels-litchfield.org
SUMMARY:AA Meeting in Community House
DESCRIPTION:
URL:https://stmichaels-litchfield.org/event/aa-meeting-in-community-house/2028-01-23/
LOCATION:Community House in Library from April 9th forward
END:VEVENT
BEGIN:VEVENT
DTSTART;TZID=America/New_York:20280123T110000
DTEND;TZID=America/New_York:20280123T140000
DTSTAMP:20260423T025646
CREATED:20230711T182541Z
LAST-MODIFIED:20250806T192214Z
UID:10012148-1832238000-1832248800@stmichaels-litchfield.org
SUMMARY:Coffee and Fellowship in the Community House
DESCRIPTION:
URL:https://stmichaels-litchfield.org/event/coffee-and-congregation-in-the-community-house/2028-01-23/
LOCATION:Community House in Library from April 9th forward
CATEGORIES:Church Event
END:VEVENT
BEGIN:VEVENT
DTSTART;TZID=America/New_York:20280123T100000
DTEND;TZID=America/New_York:20280123T110000
DTSTAMP:20260423T025646
CREATED:20250403T150154Z
LAST-MODIFIED:20260422T181447Z
UID:10012809-1832234400-1832238000@stmichaels-litchfield.org
SUMMARY:Sunday Eucharist\, Rite II
DESCRIPTION:Rite II with music \nFollowed by Coffee Hour in the Community House
URL:https://stmichaels-litchfield.org/event/sunday-eucharist-2-3/2028-01-23/
LOCATION:Church\, 25 South Street\, Litchfield\, CT\, 06759\, United States
CATEGORIES:Church Event,Parish Events
END:VEVENT
BEGIN:VEVENT
DTSTART;TZID=America/New_York:20280123T080000
DTEND;TZID=America/New_York:20280123T090000
DTSTAMP:20260423T025646
CREATED:20211108T181651Z
LAST-MODIFIED:20260327T134504Z
UID:10020494-1832227200-1832230800@stmichaels-litchfield.org
SUMMARY:Eucharist\, Rite I
DESCRIPTION:Spoken\, no music
URL:https://stmichaels-litchfield.org/event/sunday-eucharist/2028-01-23/
LOCATION:Chapel\, 25 South Street\, Litchfield\, CT\, 06759\, United States
CATEGORIES:Church Event,Parish Events
END:VEVENT
BEGIN:VEVENT
DTSTART;TZID=America/New_York:20280122T083000
DTEND;TZID=America/New_York:20280122T093000
DTSTAMP:20260423T025646
CREATED:20230619T143626Z
LAST-MODIFIED:20230619T143720Z
UID:10010803-1832142600-1832146200@stmichaels-litchfield.org
SUMMARY:AA Meeting in Parish House Library
DESCRIPTION:
URL:https://stmichaels-litchfield.org/event/aa-meeting-in-community-house-2/2028-01-22/
LOCATION:Community House in Library from April 9th forward
CATEGORIES:AA/NA Events
END:VEVENT
BEGIN:VEVENT
DTSTART;TZID=America/New_York:20280121T093000
DTEND;TZID=America/New_York:20280121T143000
DTSTAMP:20260423T025646
CREATED:20260128T181432Z
LAST-MODIFIED:20260128T181726Z
UID:10291838-1832059800-1832077800@stmichaels-litchfield.org
SUMMARY:Church Office Open
DESCRIPTION:
URL:https://stmichaels-litchfield.org/event/church-office-open-14/2028-01-21/
LOCATION:Church Office\, 25 South Street\, Litchfield\, CT\, 06759\, United States
CATEGORIES:Church Office Event
END:VEVENT
BEGIN:VEVENT
DTSTART;TZID=America/New_York:20280121T070000
DTEND;TZID=America/New_York:20280121T073000
DTSTAMP:20260423T025646
CREATED:20230606T184551Z
LAST-MODIFIED:20230619T142647Z
UID:10006393-1832050800-1832052600@stmichaels-litchfield.org
SUMMARY:AA Meeting in the Parish House Library
DESCRIPTION:
URL:https://stmichaels-litchfield.org/event/aa-meeting-in-the-library/2028-01-21/
LOCATION:Parish House Library\, 25 South Street\, Litchfield\, CT\, 06759\, United States
CATEGORIES:AA/NA Events
END:VEVENT
BEGIN:VEVENT
DTSTART;TZID=America/New_York:20280120T093000
DTEND;TZID=America/New_York:20280120T143000
DTSTAMP:20260423T025646
CREATED:20260128T181432Z
LAST-MODIFIED:20260128T181726Z
UID:10291837-1831973400-1831991400@stmichaels-litchfield.org
SUMMARY:Church Office Open
DESCRIPTION:
URL:https://stmichaels-litchfield.org/event/church-office-open-14/2028-01-20/
LOCATION:Church Office\, 25 South Street\, Litchfield\, CT\, 06759\, United States
CATEGORIES:Church Office Event
END:VEVENT
BEGIN:VEVENT
DTSTART;TZID=America/New_York:20280119T193000
DTEND;TZID=America/New_York:20280119T210000
DTSTAMP:20260423T025646
CREATED:20211108T180816Z
LAST-MODIFIED:20230714T003135Z
UID:10012550-1831923000-1831928400@stmichaels-litchfield.org
SUMMARY:NA meeting in Community House
DESCRIPTION:
URL:https://stmichaels-litchfield.org/event/narcotics-anonymous/2028-01-19/
LOCATION:Community House in Library from April 9th forward
CATEGORIES:AA/NA Events
END:VEVENT
BEGIN:VEVENT
DTSTART;TZID=America/New_York:20280119T190000
DTEND;TZID=America/New_York:20280119T203000
DTSTAMP:20260423T025646
CREATED:20230817T183342Z
LAST-MODIFIED:20230817T183342Z
UID:10013226-1831921200-1831926600@stmichaels-litchfield.org
SUMMARY:Choir Rehearsal in Parish House Music Room
DESCRIPTION:
URL:https://stmichaels-litchfield.org/event/choir-rehearsal-in-parish-house-music-room/2028-01-19/
LOCATION:Parish House Music Room
CATEGORIES:Church Event
END:VEVENT
BEGIN:VEVENT
DTSTART;TZID=America/New_York:20280119T173000
DTEND;TZID=America/New_York:20280119T180000
DTSTAMP:20260423T025646
CREATED:20260327T155546Z
LAST-MODIFIED:20260422T175057Z
UID:10294531-1831915800-1831917600@stmichaels-litchfield.org
SUMMARY:Chanted Evening Prayer
DESCRIPTION:
URL:https://stmichaels-litchfield.org/event/chanted-evening-prayer-3/2028-01-19/
LOCATION:Chapel\, 25 South Street\, Litchfield\, CT\, 06759\, United States
CATEGORIES:Church Event
END:VEVENT
BEGIN:VEVENT
DTSTART;TZID=America/New_York:20280119T093000
DTEND;TZID=America/New_York:20280119T143000
DTSTAMP:20260423T025646
CREATED:20260128T181432Z
LAST-MODIFIED:20260128T181726Z
UID:10291836-1831887000-1831905000@stmichaels-litchfield.org
SUMMARY:Church Office Open
DESCRIPTION:
URL:https://stmichaels-litchfield.org/event/church-office-open-14/2028-01-19/
LOCATION:Church Office\, 25 South Street\, Litchfield\, CT\, 06759\, United States
CATEGORIES:Church Office Event
END:VEVENT
BEGIN:VEVENT
DTSTART;TZID=America/New_York:20280119T083000
DTEND;TZID=America/New_York:20280119T110000
DTSTAMP:20260423T025646
CREATED:20250109T152013Z
LAST-MODIFIED:20250109T152013Z
UID:10019534-1831883400-1831892400@stmichaels-litchfield.org
SUMMARY:Greenwoods Counseling
DESCRIPTION:
URL:https://stmichaels-litchfield.org/event/greenwoods-counseling-7/2028-01-19/
LOCATION:CT
CATEGORIES:Greenwoods Counseling
END:VEVENT
BEGIN:VEVENT
DTSTART;TZID=America/New_York:20280119T070000
DTEND;TZID=America/New_York:20280119T073000
DTSTAMP:20260423T025646
CREATED:20230606T184551Z
LAST-MODIFIED:20230619T142647Z
UID:10006392-1831878000-1831879800@stmichaels-litchfield.org
SUMMARY:AA Meeting in the Parish House Library
DESCRIPTION:
URL:https://stmichaels-litchfield.org/event/aa-meeting-in-the-library/2028-01-19/
LOCATION:Parish House Library\, 25 South Street\, Litchfield\, CT\, 06759\, United States
CATEGORIES:AA/NA Events
END:VEVENT
BEGIN:VEVENT
DTSTART;TZID=America/New_York:20280118T190000
DTEND;TZID=America/New_York:20280118T200000
DTSTAMP:20260423T025646
CREATED:20211108T175914Z
LAST-MODIFIED:20260130T014621Z
UID:10010196-1831834800-1831838400@stmichaels-litchfield.org
SUMMARY:AA Meeting in Community House
DESCRIPTION:
URL:https://stmichaels-litchfield.org/event/aa-group-in-community-house-2/2028-01-18/
LOCATION:Community House in Library from April 9th forward
CATEGORIES:AA/NA Events
END:VEVENT
BEGIN:VEVENT
DTSTART;TZID=America/New_York:20280118T160000
DTEND;TZID=America/New_York:20280118T173000
DTSTAMP:20260423T025646
CREATED:20260331T205128Z
LAST-MODIFIED:20260331T205254Z
UID:10294790-1831824000-1831829400@stmichaels-litchfield.org
SUMMARY:Priest Search Committee
DESCRIPTION:
URL:https://stmichaels-litchfield.org/event/priest-search-committee-3-2-5/2028-01-18/
LOCATION:Parish House Library\, 25 South Street\, Litchfield\, CT\, 06759\, United States
END:VEVENT
BEGIN:VEVENT
DTSTART;TZID=America/New_York:20280118T093000
DTEND;TZID=America/New_York:20280118T143000
DTSTAMP:20260423T025646
CREATED:20260128T181432Z
LAST-MODIFIED:20260128T181726Z
UID:10291835-1831800600-1831818600@stmichaels-litchfield.org
SUMMARY:Church Office Open
DESCRIPTION:
URL:https://stmichaels-litchfield.org/event/church-office-open-14/2028-01-18/
LOCATION:Church Office\, 25 South Street\, Litchfield\, CT\, 06759\, United States
CATEGORIES:Church Office Event
END:VEVENT
BEGIN:VEVENT
DTSTART;TZID=America/New_York:20280117T200000
DTEND;TZID=America/New_York:20280117T213000
DTSTAMP:20260423T025646
CREATED:20260218T173517Z
LAST-MODIFIED:20260218T173517Z
UID:10292666-1831752000-1831757400@stmichaels-litchfield.org
SUMMARY:AA meeting in the Community House
DESCRIPTION:
URL:https://stmichaels-litchfield.org/event/aa-meeting-in-the-community-house-2/2028-01-17/
LOCATION:CT
END:VEVENT
BEGIN:VEVENT
DTSTART;TZID=America/New_York:20280117T070000
DTEND;TZID=America/New_York:20280117T073000
DTSTAMP:20260423T025646
CREATED:20230606T184551Z
LAST-MODIFIED:20230619T142647Z
UID:10006391-1831705200-1831707000@stmichaels-litchfield.org
SUMMARY:AA Meeting in the Parish House Library
DESCRIPTION:
URL:https://stmichaels-litchfield.org/event/aa-meeting-in-the-library/2028-01-17/
LOCATION:Parish House Library\, 25 South Street\, Litchfield\, CT\, 06759\, United States
CATEGORIES:AA/NA Events
END:VEVENT
BEGIN:VEVENT
DTSTART;VALUE=DATE:20280117
DTEND;VALUE=DATE:20280118
DTSTAMP:20260423T025646
CREATED:20260128T181321Z
LAST-MODIFIED:20260128T181322Z
UID:10291243-1831680000-1831766399@stmichaels-litchfield.org
SUMMARY:Church Office Closed
DESCRIPTION:
URL:https://stmichaels-litchfield.org/event/summer-schedule-church-office-closed-2-2-2-3/2028-01-17/
LOCATION:Church Office\, 25 South Street\, Litchfield\, CT\, 06759\, United States
CATEGORIES:Church Office Event
END:VEVENT
BEGIN:VEVENT
DTSTART;TZID=America/New_York:20280116T190000
DTEND;TZID=America/New_York:20280116T200000
DTSTAMP:20260423T025646
CREATED:20230619T142544Z
LAST-MODIFIED:20260416T160049Z
UID:10009992-1831662000-1831665600@stmichaels-litchfield.org
SUMMARY:AA Meeting in Community House
DESCRIPTION:
URL:https://stmichaels-litchfield.org/event/aa-meeting-in-community-house/2028-01-16/
LOCATION:Community House in Library from April 9th forward
END:VEVENT
BEGIN:VEVENT
DTSTART;TZID=America/New_York:20280116T110000
DTEND;TZID=America/New_York:20280116T140000
DTSTAMP:20260423T025646
CREATED:20230711T182541Z
LAST-MODIFIED:20250806T192214Z
UID:10012147-1831633200-1831644000@stmichaels-litchfield.org
SUMMARY:Coffee and Fellowship in the Community House
DESCRIPTION:
URL:https://stmichaels-litchfield.org/event/coffee-and-congregation-in-the-community-house/2028-01-16/
LOCATION:Community House in Library from April 9th forward
CATEGORIES:Church Event
END:VEVENT
BEGIN:VEVENT
DTSTART;TZID=America/New_York:20280116T100000
DTEND;TZID=America/New_York:20280116T110000
DTSTAMP:20260423T025646
CREATED:20250403T150154Z
LAST-MODIFIED:20260422T181447Z
UID:10012808-1831629600-1831633200@stmichaels-litchfield.org
SUMMARY:Sunday Eucharist\, Rite II
DESCRIPTION:Rite II with music \nFollowed by Coffee Hour in the Community House
URL:https://stmichaels-litchfield.org/event/sunday-eucharist-2-3/2028-01-16/
LOCATION:Church\, 25 South Street\, Litchfield\, CT\, 06759\, United States
CATEGORIES:Church Event,Parish Events
END:VEVENT
BEGIN:VEVENT
DTSTART;TZID=America/New_York:20280116T080000
DTEND;TZID=America/New_York:20280116T090000
DTSTAMP:20260423T025646
CREATED:20211108T181651Z
LAST-MODIFIED:20260327T134504Z
UID:10020493-1831622400-1831626000@stmichaels-litchfield.org
SUMMARY:Eucharist\, Rite I
DESCRIPTION:Spoken\, no music
URL:https://stmichaels-litchfield.org/event/sunday-eucharist/2028-01-16/
LOCATION:Chapel\, 25 South Street\, Litchfield\, CT\, 06759\, United States
CATEGORIES:Church Event,Parish Events
END:VEVENT
BEGIN:VEVENT
DTSTART;TZID=America/New_York:20280115T083000
DTEND;TZID=America/New_York:20280115T093000
DTSTAMP:20260423T025646
CREATED:20230619T143626Z
LAST-MODIFIED:20230619T143720Z
UID:10010802-1831537800-1831541400@stmichaels-litchfield.org
SUMMARY:AA Meeting in Parish House Library
DESCRIPTION:
URL:https://stmichaels-litchfield.org/event/aa-meeting-in-community-house-2/2028-01-15/
LOCATION:Community House in Library from April 9th forward
CATEGORIES:AA/NA Events
END:VEVENT
BEGIN:VEVENT
DTSTART;TZID=America/New_York:20280114T093000
DTEND;TZID=America/New_York:20280114T143000
DTSTAMP:20260423T025646
CREATED:20260128T181432Z
LAST-MODIFIED:20260128T181726Z
UID:10291834-1831455000-1831473000@stmichaels-litchfield.org
SUMMARY:Church Office Open
DESCRIPTION:
URL:https://stmichaels-litchfield.org/event/church-office-open-14/2028-01-14/
LOCATION:Church Office\, 25 South Street\, Litchfield\, CT\, 06759\, United States
CATEGORIES:Church Office Event
END:VEVENT
BEGIN:VEVENT
DTSTART;TZID=America/New_York:20280114T070000
DTEND;TZID=America/New_York:20280114T073000
DTSTAMP:20260423T025646
CREATED:20230606T184551Z
LAST-MODIFIED:20230619T142647Z
UID:10006390-1831446000-1831447800@stmichaels-litchfield.org
SUMMARY:AA Meeting in the Parish House Library
DESCRIPTION:
URL:https://stmichaels-litchfield.org/event/aa-meeting-in-the-library/2028-01-14/
LOCATION:Parish House Library\, 25 South Street\, Litchfield\, CT\, 06759\, United States
CATEGORIES:AA/NA Events
END:VEVENT
END:VCALENDAR