BEGIN:VCALENDAR
VERSION:2.0
PRODID:-//St. Michael&#039;s Church - ECPv6.15.20//NONSGML v1.0//EN
CALSCALE:GREGORIAN
METHOD:PUBLISH
X-WR-CALNAME:St. Michael&#039;s Church
X-ORIGINAL-URL:https://stmichaels-litchfield.org
X-WR-CALDESC:Events for St. Michael&#039;s Church
REFRESH-INTERVAL;VALUE=DURATION:PT1H
X-Robots-Tag:noindex
X-PUBLISHED-TTL:PT1H
BEGIN:VTIMEZONE
TZID:America/New_York
BEGIN:DAYLIGHT
TZOFFSETFROM:-0500
TZOFFSETTO:-0400
TZNAME:EDT
DTSTART:20280312T070000
END:DAYLIGHT
BEGIN:STANDARD
TZOFFSETFROM:-0400
TZOFFSETTO:-0500
TZNAME:EST
DTSTART:20281105T060000
END:STANDARD
BEGIN:DAYLIGHT
TZOFFSETFROM:-0500
TZOFFSETTO:-0400
TZNAME:EDT
DTSTART:20290311T070000
END:DAYLIGHT
BEGIN:STANDARD
TZOFFSETFROM:-0400
TZOFFSETTO:-0500
TZNAME:EST
DTSTART:20291104T060000
END:STANDARD
BEGIN:DAYLIGHT
TZOFFSETFROM:-0500
TZOFFSETTO:-0400
TZNAME:EDT
DTSTART:20300310T070000
END:DAYLIGHT
BEGIN:STANDARD
TZOFFSETFROM:-0400
TZOFFSETTO:-0500
TZNAME:EST
DTSTART:20301103T060000
END:STANDARD
END:VTIMEZONE
BEGIN:VEVENT
DTSTART;TZID=America/New_York:20290425T193000
DTEND;TZID=America/New_York:20290425T210000
DTSTAMP:20260424T113349
CREATED:20211108T180816Z
LAST-MODIFIED:20230714T003135Z
UID:10286765-1871839800-1871845200@stmichaels-litchfield.org
SUMMARY:NA meeting in Community House
DESCRIPTION:
URL:https://stmichaels-litchfield.org/event/narcotics-anonymous/2029-04-25/
LOCATION:Community House in Library from April 9th forward
CATEGORIES:AA/NA Events
END:VEVENT
BEGIN:VEVENT
DTSTART;TZID=America/New_York:20290425T173000
DTEND;TZID=America/New_York:20290425T180000
DTSTAMP:20260424T113349
CREATED:20260327T155546Z
LAST-MODIFIED:20260422T175057Z
UID:10294597-1871832600-1871834400@stmichaels-litchfield.org
SUMMARY:Chanted Evening Prayer
DESCRIPTION:
URL:https://stmichaels-litchfield.org/event/chanted-evening-prayer-3/2029-04-25/
LOCATION:Chapel\, 25 South Street\, Litchfield\, CT\, 06759\, United States
CATEGORIES:Church Event
END:VEVENT
BEGIN:VEVENT
DTSTART;TZID=America/New_York:20290425T093000
DTEND;TZID=America/New_York:20290425T143000
DTSTAMP:20260424T113349
CREATED:20260128T181432Z
LAST-MODIFIED:20260128T181726Z
UID:10292100-1871803800-1871821800@stmichaels-litchfield.org
SUMMARY:Church Office Open
DESCRIPTION:
URL:https://stmichaels-litchfield.org/event/church-office-open-14/2029-04-25/
LOCATION:Church Office\, 25 South Street\, Litchfield\, CT\, 06759\, United States
CATEGORIES:Church Office Event
END:VEVENT
BEGIN:VEVENT
DTSTART;TZID=America/New_York:20290425T083000
DTEND;TZID=America/New_York:20290425T110000
DTSTAMP:20260424T113349
CREATED:20250109T152013Z
LAST-MODIFIED:20250109T152013Z
UID:10019600-1871800200-1871809200@stmichaels-litchfield.org
SUMMARY:Greenwoods Counseling
DESCRIPTION:
URL:https://stmichaels-litchfield.org/event/greenwoods-counseling-7/2029-04-25/
CATEGORIES:Greenwoods Counseling
END:VEVENT
BEGIN:VEVENT
DTSTART;TZID=America/New_York:20290425T070000
DTEND;TZID=America/New_York:20290425T073000
DTSTAMP:20260424T113349
CREATED:20230606T184551Z
LAST-MODIFIED:20230619T142647Z
UID:10286987-1871794800-1871796600@stmichaels-litchfield.org
SUMMARY:AA Meeting in the Parish House Library
DESCRIPTION:
URL:https://stmichaels-litchfield.org/event/aa-meeting-in-the-library/2029-04-25/
LOCATION:Parish House Library\, 25 South Street\, Litchfield\, CT\, 06759\, United States
CATEGORIES:AA/NA Events
END:VEVENT
BEGIN:VEVENT
DTSTART;TZID=America/New_York:20290424T190000
DTEND;TZID=America/New_York:20290424T200000
DTSTAMP:20260424T113349
CREATED:20211108T175914Z
LAST-MODIFIED:20260130T014621Z
UID:10286665-1871751600-1871755200@stmichaels-litchfield.org
SUMMARY:AA Meeting in Community House
DESCRIPTION:
URL:https://stmichaels-litchfield.org/event/aa-group-in-community-house-2/2029-04-24/
LOCATION:Community House in Library from April 9th forward
CATEGORIES:AA/NA Events
END:VEVENT
BEGIN:VEVENT
DTSTART;TZID=America/New_York:20290424T160000
DTEND;TZID=America/New_York:20290424T173000
DTSTAMP:20260424T113349
CREATED:20260331T205128Z
LAST-MODIFIED:20260331T205254Z
UID:10294856-1871740800-1871746200@stmichaels-litchfield.org
SUMMARY:Priest Search Committee
DESCRIPTION:
URL:https://stmichaels-litchfield.org/event/priest-search-committee-3-2-5/2029-04-24/
LOCATION:Parish House Library\, 25 South Street\, Litchfield\, CT\, 06759\, United States
END:VEVENT
BEGIN:VEVENT
DTSTART;TZID=America/New_York:20290424T093000
DTEND;TZID=America/New_York:20290424T143000
DTSTAMP:20260424T113349
CREATED:20260128T181432Z
LAST-MODIFIED:20260128T181726Z
UID:10292099-1871717400-1871735400@stmichaels-litchfield.org
SUMMARY:Church Office Open
DESCRIPTION:
URL:https://stmichaels-litchfield.org/event/church-office-open-14/2029-04-24/
LOCATION:Church Office\, 25 South Street\, Litchfield\, CT\, 06759\, United States
CATEGORIES:Church Office Event
END:VEVENT
BEGIN:VEVENT
DTSTART;TZID=America/New_York:20290423T200000
DTEND;TZID=America/New_York:20290423T213000
DTSTAMP:20260424T113349
CREATED:20260218T173517Z
LAST-MODIFIED:20260218T173517Z
UID:10292732-1871668800-1871674200@stmichaels-litchfield.org
SUMMARY:AA meeting in the Community House
DESCRIPTION:
URL:https://stmichaels-litchfield.org/event/aa-meeting-in-the-community-house-2/2029-04-23/
END:VEVENT
BEGIN:VEVENT
DTSTART;TZID=America/New_York:20290423T070000
DTEND;TZID=America/New_York:20290423T073000
DTSTAMP:20260424T113349
CREATED:20230606T184551Z
LAST-MODIFIED:20230619T142647Z
UID:10286986-1871622000-1871623800@stmichaels-litchfield.org
SUMMARY:AA Meeting in the Parish House Library
DESCRIPTION:
URL:https://stmichaels-litchfield.org/event/aa-meeting-in-the-library/2029-04-23/
LOCATION:Parish House Library\, 25 South Street\, Litchfield\, CT\, 06759\, United States
CATEGORIES:AA/NA Events
END:VEVENT
BEGIN:VEVENT
DTSTART;VALUE=DATE:20290423
DTEND;VALUE=DATE:20290424
DTSTAMP:20260424T113349
CREATED:20260128T181321Z
LAST-MODIFIED:20260128T181322Z
UID:10291309-1871596800-1871683199@stmichaels-litchfield.org
SUMMARY:Church Office Closed
DESCRIPTION:
URL:https://stmichaels-litchfield.org/event/summer-schedule-church-office-closed-2-2-2-3/2029-04-23/
LOCATION:Church Office\, 25 South Street\, Litchfield\, CT\, 06759\, United States
CATEGORIES:Church Office Event
END:VEVENT
BEGIN:VEVENT
DTSTART;TZID=America/New_York:20290422T190000
DTEND;TZID=America/New_York:20290422T200000
DTSTAMP:20260424T113349
CREATED:20230619T142544Z
LAST-MODIFIED:20260416T160049Z
UID:10296148-1871578800-1871582400@stmichaels-litchfield.org
SUMMARY:AA Meeting in Community House
DESCRIPTION:
URL:https://stmichaels-litchfield.org/event/aa-meeting-in-community-house/2029-04-22/
LOCATION:Community House in Library from April 9th forward
END:VEVENT
BEGIN:VEVENT
DTSTART;TZID=America/New_York:20290422T110000
DTEND;TZID=America/New_York:20290422T140000
DTSTAMP:20260424T113349
CREATED:20230711T182541Z
LAST-MODIFIED:20250806T192214Z
UID:10287249-1871550000-1871560800@stmichaels-litchfield.org
SUMMARY:Coffee and Fellowship in the Community House
DESCRIPTION:
URL:https://stmichaels-litchfield.org/event/coffee-and-congregation-in-the-community-house/2029-04-22/
LOCATION:Community House in Library from April 9th forward
CATEGORIES:Church Event
END:VEVENT
BEGIN:VEVENT
DTSTART;TZID=America/New_York:20290422T100000
DTEND;TZID=America/New_York:20290422T110000
DTSTAMP:20260424T113349
CREATED:20250403T150154Z
LAST-MODIFIED:20260422T181447Z
UID:10020645-1871546400-1871550000@stmichaels-litchfield.org
SUMMARY:Sunday Eucharist\, Rite II
DESCRIPTION:Rite II with music \nFollowed by Coffee Hour in the Community House
URL:https://stmichaels-litchfield.org/event/sunday-eucharist-2-3/2029-04-22/
LOCATION:Church\, 25 South Street\, Litchfield\, CT\, 06759\, United States
CATEGORIES:Church Event,Parish Events
END:VEVENT
BEGIN:VEVENT
DTSTART;TZID=America/New_York:20290422T080000
DTEND;TZID=America/New_York:20290422T090000
DTSTAMP:20260424T113349
CREATED:20211108T181651Z
LAST-MODIFIED:20260327T134504Z
UID:10020559-1871539200-1871542800@stmichaels-litchfield.org
SUMMARY:Eucharist\, Rite I
DESCRIPTION:Spoken\, no music
URL:https://stmichaels-litchfield.org/event/sunday-eucharist/2029-04-22/
LOCATION:Chapel\, 25 South Street\, Litchfield\, CT\, 06759\, United States
CATEGORIES:Church Event,Parish Events
END:VEVENT
BEGIN:VEVENT
DTSTART;TZID=America/New_York:20290420T093000
DTEND;TZID=America/New_York:20290420T143000
DTSTAMP:20260424T113349
CREATED:20260128T181432Z
LAST-MODIFIED:20260128T181726Z
UID:10292098-1871371800-1871389800@stmichaels-litchfield.org
SUMMARY:Church Office Open
DESCRIPTION:
URL:https://stmichaels-litchfield.org/event/church-office-open-14/2029-04-20/
LOCATION:Church Office\, 25 South Street\, Litchfield\, CT\, 06759\, United States
CATEGORIES:Church Office Event
END:VEVENT
BEGIN:VEVENT
DTSTART;TZID=America/New_York:20290420T070000
DTEND;TZID=America/New_York:20290420T073000
DTSTAMP:20260424T113349
CREATED:20230606T184551Z
LAST-MODIFIED:20230619T142647Z
UID:10286985-1871362800-1871364600@stmichaels-litchfield.org
SUMMARY:AA Meeting in the Parish House Library
DESCRIPTION:
URL:https://stmichaels-litchfield.org/event/aa-meeting-in-the-library/2029-04-20/
LOCATION:Parish House Library\, 25 South Street\, Litchfield\, CT\, 06759\, United States
CATEGORIES:AA/NA Events
END:VEVENT
BEGIN:VEVENT
DTSTART;TZID=America/New_York:20290419T093000
DTEND;TZID=America/New_York:20290419T143000
DTSTAMP:20260424T113349
CREATED:20260128T181432Z
LAST-MODIFIED:20260128T181726Z
UID:10292097-1871285400-1871303400@stmichaels-litchfield.org
SUMMARY:Church Office Open
DESCRIPTION:
URL:https://stmichaels-litchfield.org/event/church-office-open-14/2029-04-19/
LOCATION:Church Office\, 25 South Street\, Litchfield\, CT\, 06759\, United States
CATEGORIES:Church Office Event
END:VEVENT
BEGIN:VEVENT
DTSTART;TZID=America/New_York:20290418T193000
DTEND;TZID=America/New_York:20290418T210000
DTSTAMP:20260424T113349
CREATED:20211108T180816Z
LAST-MODIFIED:20230714T003135Z
UID:10286764-1871235000-1871240400@stmichaels-litchfield.org
SUMMARY:NA meeting in Community House
DESCRIPTION:
URL:https://stmichaels-litchfield.org/event/narcotics-anonymous/2029-04-18/
LOCATION:Community House in Library from April 9th forward
CATEGORIES:AA/NA Events
END:VEVENT
BEGIN:VEVENT
DTSTART;TZID=America/New_York:20290418T173000
DTEND;TZID=America/New_York:20290418T180000
DTSTAMP:20260424T113349
CREATED:20260327T155546Z
LAST-MODIFIED:20260422T175057Z
UID:10294596-1871227800-1871229600@stmichaels-litchfield.org
SUMMARY:Chanted Evening Prayer
DESCRIPTION:
URL:https://stmichaels-litchfield.org/event/chanted-evening-prayer-3/2029-04-18/
LOCATION:Chapel\, 25 South Street\, Litchfield\, CT\, 06759\, United States
CATEGORIES:Church Event
END:VEVENT
BEGIN:VEVENT
DTSTART;TZID=America/New_York:20290418T093000
DTEND;TZID=America/New_York:20290418T143000
DTSTAMP:20260424T113349
CREATED:20260128T181432Z
LAST-MODIFIED:20260128T181726Z
UID:10292096-1871199000-1871217000@stmichaels-litchfield.org
SUMMARY:Church Office Open
DESCRIPTION:
URL:https://stmichaels-litchfield.org/event/church-office-open-14/2029-04-18/
LOCATION:Church Office\, 25 South Street\, Litchfield\, CT\, 06759\, United States
CATEGORIES:Church Office Event
END:VEVENT
BEGIN:VEVENT
DTSTART;TZID=America/New_York:20290418T083000
DTEND;TZID=America/New_York:20290418T110000
DTSTAMP:20260424T113349
CREATED:20250109T152013Z
LAST-MODIFIED:20250109T152013Z
UID:10019599-1871195400-1871204400@stmichaels-litchfield.org
SUMMARY:Greenwoods Counseling
DESCRIPTION:
URL:https://stmichaels-litchfield.org/event/greenwoods-counseling-7/2029-04-18/
CATEGORIES:Greenwoods Counseling
END:VEVENT
BEGIN:VEVENT
DTSTART;TZID=America/New_York:20290418T070000
DTEND;TZID=America/New_York:20290418T073000
DTSTAMP:20260424T113349
CREATED:20230606T184551Z
LAST-MODIFIED:20230619T142647Z
UID:10286984-1871190000-1871191800@stmichaels-litchfield.org
SUMMARY:AA Meeting in the Parish House Library
DESCRIPTION:
URL:https://stmichaels-litchfield.org/event/aa-meeting-in-the-library/2029-04-18/
LOCATION:Parish House Library\, 25 South Street\, Litchfield\, CT\, 06759\, United States
CATEGORIES:AA/NA Events
END:VEVENT
BEGIN:VEVENT
DTSTART;TZID=America/New_York:20290417T190000
DTEND;TZID=America/New_York:20290417T200000
DTSTAMP:20260424T113349
CREATED:20211108T175914Z
LAST-MODIFIED:20260130T014621Z
UID:10286664-1871146800-1871150400@stmichaels-litchfield.org
SUMMARY:AA Meeting in Community House
DESCRIPTION:
URL:https://stmichaels-litchfield.org/event/aa-group-in-community-house-2/2029-04-17/
LOCATION:Community House in Library from April 9th forward
CATEGORIES:AA/NA Events
END:VEVENT
BEGIN:VEVENT
DTSTART;TZID=America/New_York:20290417T160000
DTEND;TZID=America/New_York:20290417T173000
DTSTAMP:20260424T113349
CREATED:20260331T205128Z
LAST-MODIFIED:20260331T205254Z
UID:10294855-1871136000-1871141400@stmichaels-litchfield.org
SUMMARY:Priest Search Committee
DESCRIPTION:
URL:https://stmichaels-litchfield.org/event/priest-search-committee-3-2-5/2029-04-17/
LOCATION:Parish House Library\, 25 South Street\, Litchfield\, CT\, 06759\, United States
END:VEVENT
BEGIN:VEVENT
DTSTART;TZID=America/New_York:20290417T093000
DTEND;TZID=America/New_York:20290417T143000
DTSTAMP:20260424T113349
CREATED:20260128T181432Z
LAST-MODIFIED:20260128T181726Z
UID:10292095-1871112600-1871130600@stmichaels-litchfield.org
SUMMARY:Church Office Open
DESCRIPTION:
URL:https://stmichaels-litchfield.org/event/church-office-open-14/2029-04-17/
LOCATION:Church Office\, 25 South Street\, Litchfield\, CT\, 06759\, United States
CATEGORIES:Church Office Event
END:VEVENT
BEGIN:VEVENT
DTSTART;TZID=America/New_York:20290416T200000
DTEND;TZID=America/New_York:20290416T213000
DTSTAMP:20260424T113350
CREATED:20260218T173517Z
LAST-MODIFIED:20260218T173517Z
UID:10292731-1871064000-1871069400@stmichaels-litchfield.org
SUMMARY:AA meeting in the Community House
DESCRIPTION:
URL:https://stmichaels-litchfield.org/event/aa-meeting-in-the-community-house-2/2029-04-16/
END:VEVENT
BEGIN:VEVENT
DTSTART;TZID=America/New_York:20290416T070000
DTEND;TZID=America/New_York:20290416T073000
DTSTAMP:20260424T113350
CREATED:20230606T184551Z
LAST-MODIFIED:20230619T142647Z
UID:10286983-1871017200-1871019000@stmichaels-litchfield.org
SUMMARY:AA Meeting in the Parish House Library
DESCRIPTION:
URL:https://stmichaels-litchfield.org/event/aa-meeting-in-the-library/2029-04-16/
LOCATION:Parish House Library\, 25 South Street\, Litchfield\, CT\, 06759\, United States
CATEGORIES:AA/NA Events
END:VEVENT
BEGIN:VEVENT
DTSTART;VALUE=DATE:20290416
DTEND;VALUE=DATE:20290417
DTSTAMP:20260424T113350
CREATED:20260128T181321Z
LAST-MODIFIED:20260128T181322Z
UID:10291308-1870992000-1871078399@stmichaels-litchfield.org
SUMMARY:Church Office Closed
DESCRIPTION:
URL:https://stmichaels-litchfield.org/event/summer-schedule-church-office-closed-2-2-2-3/2029-04-16/
LOCATION:Church Office\, 25 South Street\, Litchfield\, CT\, 06759\, United States
CATEGORIES:Church Office Event
END:VEVENT
BEGIN:VEVENT
DTSTART;TZID=America/New_York:20290415T190000
DTEND;TZID=America/New_York:20290415T200000
DTSTAMP:20260424T113350
CREATED:20230619T142544Z
LAST-MODIFIED:20260416T160049Z
UID:10296147-1870974000-1870977600@stmichaels-litchfield.org
SUMMARY:AA Meeting in Community House
DESCRIPTION:
URL:https://stmichaels-litchfield.org/event/aa-meeting-in-community-house/2029-04-15/
LOCATION:Community House in Library from April 9th forward
END:VEVENT
END:VCALENDAR