BEGIN:VCALENDAR
VERSION:2.0
PRODID:-//St. Michael&#039;s Church - ECPv6.15.20//NONSGML v1.0//EN
CALSCALE:GREGORIAN
METHOD:PUBLISH
X-WR-CALNAME:St. Michael&#039;s Church
X-ORIGINAL-URL:https://stmichaels-litchfield.org
X-WR-CALDESC:Events for St. Michael&#039;s Church
REFRESH-INTERVAL;VALUE=DURATION:PT1H
X-Robots-Tag:noindex
X-PUBLISHED-TTL:PT1H
BEGIN:VTIMEZONE
TZID:America/New_York
BEGIN:DAYLIGHT
TZOFFSETFROM:-0500
TZOFFSETTO:-0400
TZNAME:EDT
DTSTART:20280312T070000
END:DAYLIGHT
BEGIN:STANDARD
TZOFFSETFROM:-0400
TZOFFSETTO:-0500
TZNAME:EST
DTSTART:20281105T060000
END:STANDARD
BEGIN:DAYLIGHT
TZOFFSETFROM:-0500
TZOFFSETTO:-0400
TZNAME:EDT
DTSTART:20290311T070000
END:DAYLIGHT
BEGIN:STANDARD
TZOFFSETFROM:-0400
TZOFFSETTO:-0500
TZNAME:EST
DTSTART:20291104T060000
END:STANDARD
BEGIN:DAYLIGHT
TZOFFSETFROM:-0500
TZOFFSETTO:-0400
TZNAME:EDT
DTSTART:20300310T070000
END:DAYLIGHT
BEGIN:STANDARD
TZOFFSETFROM:-0400
TZOFFSETTO:-0500
TZNAME:EST
DTSTART:20301103T060000
END:STANDARD
END:VTIMEZONE
BEGIN:VEVENT
DTSTART;TZID=America/New_York:20290710T190000
DTEND;TZID=America/New_York:20290710T200000
DTSTAMP:20260424T185646
CREATED:20211108T175914Z
LAST-MODIFIED:20260130T014621Z
UID:10286676-1878404400-1878408000@stmichaels-litchfield.org
SUMMARY:AA Meeting in Community House
DESCRIPTION:
URL:https://stmichaels-litchfield.org/event/aa-group-in-community-house-2/2029-07-10/
LOCATION:Community House in Library from April 9th forward
CATEGORIES:AA/NA Events
END:VEVENT
BEGIN:VEVENT
DTSTART;TZID=America/New_York:20290710T160000
DTEND;TZID=America/New_York:20290710T173000
DTSTAMP:20260424T185646
CREATED:20260331T205128Z
LAST-MODIFIED:20260331T205254Z
UID:10294867-1878393600-1878399000@stmichaels-litchfield.org
SUMMARY:Priest Search Committee
DESCRIPTION:
URL:https://stmichaels-litchfield.org/event/priest-search-committee-3-2-5/2029-07-10/
LOCATION:Parish House Library\, 25 South Street\, Litchfield\, CT\, 06759\, United States
END:VEVENT
BEGIN:VEVENT
DTSTART;TZID=America/New_York:20290710T151500
DTEND;TZID=America/New_York:20290710T163000
DTSTAMP:20260424T185646
CREATED:20260223T204456Z
LAST-MODIFIED:20260304T185946Z
UID:10293593-1878390900-1878395400@stmichaels-litchfield.org
SUMMARY:Property Committee meeting in Parish House Library
DESCRIPTION:
URL:https://stmichaels-litchfield.org/event/property-committee-meeting-in-parish-house-library-4/2029-07-10/
LOCATION:Parish House Library\, 25 South Street\, Litchfield\, CT\, 06759\, United States
CATEGORIES:Church Event
END:VEVENT
BEGIN:VEVENT
DTSTART;TZID=America/New_York:20290710T120000
DTEND;TZID=America/New_York:20290710T130000
DTSTAMP:20260424T185646
CREATED:20260223T205039Z
LAST-MODIFIED:20260223T205039Z
UID:10293205-1878379200-1878382800@stmichaels-litchfield.org
SUMMARY:Lunch with Meredith
DESCRIPTION:
URL:https://stmichaels-litchfield.org/event/lunch-with-meredith-2/2029-07-10/
LOCATION:Community House in Library from April 9th forward
CATEGORIES:Church Event,Parish Events
END:VEVENT
BEGIN:VEVENT
DTSTART;TZID=America/New_York:20290710T093000
DTEND;TZID=America/New_York:20290710T143000
DTSTAMP:20260424T185646
CREATED:20260128T181432Z
LAST-MODIFIED:20260128T181726Z
UID:10292143-1878370200-1878388200@stmichaels-litchfield.org
SUMMARY:Church Office Open
DESCRIPTION:
URL:https://stmichaels-litchfield.org/event/church-office-open-14/2029-07-10/
LOCATION:Church Office\, 25 South Street\, Litchfield\, CT\, 06759\, United States
CATEGORIES:Church Office Event
END:VEVENT
BEGIN:VEVENT
DTSTART;TZID=America/New_York:20290709T200000
DTEND;TZID=America/New_York:20290709T213000
DTSTAMP:20260424T185646
CREATED:20260218T173517Z
LAST-MODIFIED:20260218T173517Z
UID:10292743-1878321600-1878327000@stmichaels-litchfield.org
SUMMARY:AA meeting in the Community House
DESCRIPTION:
URL:https://stmichaels-litchfield.org/event/aa-meeting-in-the-community-house-2/2029-07-09/
END:VEVENT
BEGIN:VEVENT
DTSTART;TZID=America/New_York:20290709T070000
DTEND;TZID=America/New_York:20290709T073000
DTSTAMP:20260424T185646
CREATED:20230606T184551Z
LAST-MODIFIED:20230619T142647Z
UID:10287019-1878274800-1878276600@stmichaels-litchfield.org
SUMMARY:AA Meeting in the Parish House Library
DESCRIPTION:
URL:https://stmichaels-litchfield.org/event/aa-meeting-in-the-library/2029-07-09/
LOCATION:Parish House Library\, 25 South Street\, Litchfield\, CT\, 06759\, United States
CATEGORIES:AA/NA Events
END:VEVENT
BEGIN:VEVENT
DTSTART;VALUE=DATE:20290709
DTEND;VALUE=DATE:20290710
DTSTAMP:20260424T185646
CREATED:20260128T181321Z
LAST-MODIFIED:20260128T181322Z
UID:10291320-1878249600-1878335999@stmichaels-litchfield.org
SUMMARY:Church Office Closed
DESCRIPTION:
URL:https://stmichaels-litchfield.org/event/summer-schedule-church-office-closed-2-2-2-3/2029-07-09/
LOCATION:Church Office\, 25 South Street\, Litchfield\, CT\, 06759\, United States
CATEGORIES:Church Office Event
END:VEVENT
BEGIN:VEVENT
DTSTART;TZID=America/New_York:20290708T190000
DTEND;TZID=America/New_York:20290708T200000
DTSTAMP:20260424T185646
CREATED:20230619T142544Z
LAST-MODIFIED:20260416T160049Z
UID:10296159-1878231600-1878235200@stmichaels-litchfield.org
SUMMARY:AA Meeting in Community House
DESCRIPTION:
URL:https://stmichaels-litchfield.org/event/aa-meeting-in-community-house/2029-07-08/
LOCATION:Community House in Library from April 9th forward
END:VEVENT
BEGIN:VEVENT
DTSTART;TZID=America/New_York:20290708T112000
DTEND;TZID=America/New_York:20290708T123000
DTSTAMP:20260424T185646
CREATED:20260408T170910Z
LAST-MODIFIED:20260408T170910Z
UID:10296082-1878204000-1878208200@stmichaels-litchfield.org
SUMMARY:Vestry Meeting
DESCRIPTION:
URL:https://stmichaels-litchfield.org/event/vestry-meeting-4/2029-07-08/
CATEGORIES:Church Event,Parish Events
END:VEVENT
BEGIN:VEVENT
DTSTART;TZID=America/New_York:20290708T110000
DTEND;TZID=America/New_York:20290708T140000
DTSTAMP:20260424T185646
CREATED:20230711T182541Z
LAST-MODIFIED:20250806T192214Z
UID:10287260-1878202800-1878213600@stmichaels-litchfield.org
SUMMARY:Coffee and Fellowship in the Community House
DESCRIPTION:
URL:https://stmichaels-litchfield.org/event/coffee-and-congregation-in-the-community-house/2029-07-08/
LOCATION:Community House in Library from April 9th forward
CATEGORIES:Church Event
END:VEVENT
BEGIN:VEVENT
DTSTART;TZID=America/New_York:20290708T100000
DTEND;TZID=America/New_York:20290708T110000
DTSTAMP:20260424T185646
CREATED:20250403T150154Z
LAST-MODIFIED:20260422T181447Z
UID:10020656-1878199200-1878202800@stmichaels-litchfield.org
SUMMARY:Sunday Eucharist\, Rite II
DESCRIPTION:Rite II with music \nFollowed by Coffee Hour in the Community House
URL:https://stmichaels-litchfield.org/event/sunday-eucharist-2-3/2029-07-08/
LOCATION:Church\, 25 South Street\, Litchfield\, CT\, 06759\, United States
CATEGORIES:Church Event,Parish Events
END:VEVENT
BEGIN:VEVENT
DTSTART;TZID=America/New_York:20290708T080000
DTEND;TZID=America/New_York:20290708T090000
DTSTAMP:20260424T185646
CREATED:20211108T181651Z
LAST-MODIFIED:20260327T134504Z
UID:10020570-1878192000-1878195600@stmichaels-litchfield.org
SUMMARY:Eucharist\, Rite I
DESCRIPTION:Spoken\, no music
URL:https://stmichaels-litchfield.org/event/sunday-eucharist/2029-07-08/
LOCATION:Chapel\, 25 South Street\, Litchfield\, CT\, 06759\, United States
CATEGORIES:Church Event,Parish Events
END:VEVENT
BEGIN:VEVENT
DTSTART;TZID=America/New_York:20290706T093000
DTEND;TZID=America/New_York:20290706T143000
DTSTAMP:20260424T185646
CREATED:20260128T181432Z
LAST-MODIFIED:20260128T181726Z
UID:10292142-1878024600-1878042600@stmichaels-litchfield.org
SUMMARY:Church Office Open
DESCRIPTION:
URL:https://stmichaels-litchfield.org/event/church-office-open-14/2029-07-06/
LOCATION:Church Office\, 25 South Street\, Litchfield\, CT\, 06759\, United States
CATEGORIES:Church Office Event
END:VEVENT
BEGIN:VEVENT
DTSTART;TZID=America/New_York:20290706T070000
DTEND;TZID=America/New_York:20290706T073000
DTSTAMP:20260424T185646
CREATED:20230606T184551Z
LAST-MODIFIED:20230619T142647Z
UID:10287018-1878015600-1878017400@stmichaels-litchfield.org
SUMMARY:AA Meeting in the Parish House Library
DESCRIPTION:
URL:https://stmichaels-litchfield.org/event/aa-meeting-in-the-library/2029-07-06/
LOCATION:Parish House Library\, 25 South Street\, Litchfield\, CT\, 06759\, United States
CATEGORIES:AA/NA Events
END:VEVENT
BEGIN:VEVENT
DTSTART;TZID=America/New_York:20290705T093000
DTEND;TZID=America/New_York:20290705T143000
DTSTAMP:20260424T185646
CREATED:20260128T181432Z
LAST-MODIFIED:20260128T181726Z
UID:10292141-1877938200-1877956200@stmichaels-litchfield.org
SUMMARY:Church Office Open
DESCRIPTION:
URL:https://stmichaels-litchfield.org/event/church-office-open-14/2029-07-05/
LOCATION:Church Office\, 25 South Street\, Litchfield\, CT\, 06759\, United States
CATEGORIES:Church Office Event
END:VEVENT
BEGIN:VEVENT
DTSTART;TZID=America/New_York:20290704T193000
DTEND;TZID=America/New_York:20290704T210000
DTSTAMP:20260424T185646
CREATED:20211108T180816Z
LAST-MODIFIED:20230714T003135Z
UID:10286775-1877887800-1877893200@stmichaels-litchfield.org
SUMMARY:NA meeting in Community House
DESCRIPTION:
URL:https://stmichaels-litchfield.org/event/narcotics-anonymous/2029-07-04/
LOCATION:Community House in Library from April 9th forward
CATEGORIES:AA/NA Events
END:VEVENT
BEGIN:VEVENT
DTSTART;TZID=America/New_York:20290704T173000
DTEND;TZID=America/New_York:20290704T180000
DTSTAMP:20260424T185646
CREATED:20260327T155546Z
LAST-MODIFIED:20260422T175057Z
UID:10294607-1877880600-1877882400@stmichaels-litchfield.org
SUMMARY:Chanted Evening Prayer
DESCRIPTION:
URL:https://stmichaels-litchfield.org/event/chanted-evening-prayer-3/2029-07-04/
LOCATION:Chapel\, 25 South Street\, Litchfield\, CT\, 06759\, United States
CATEGORIES:Church Event
END:VEVENT
BEGIN:VEVENT
DTSTART;TZID=America/New_York:20290704T093000
DTEND;TZID=America/New_York:20290704T143000
DTSTAMP:20260424T185646
CREATED:20260128T181432Z
LAST-MODIFIED:20260128T181726Z
UID:10292140-1877851800-1877869800@stmichaels-litchfield.org
SUMMARY:Church Office Open
DESCRIPTION:
URL:https://stmichaels-litchfield.org/event/church-office-open-14/2029-07-04/
LOCATION:Church Office\, 25 South Street\, Litchfield\, CT\, 06759\, United States
CATEGORIES:Church Office Event
END:VEVENT
BEGIN:VEVENT
DTSTART;TZID=America/New_York:20290704T083000
DTEND;TZID=America/New_York:20290704T110000
DTSTAMP:20260424T185646
CREATED:20250109T152013Z
LAST-MODIFIED:20250109T152013Z
UID:10019610-1877848200-1877857200@stmichaels-litchfield.org
SUMMARY:Greenwoods Counseling
DESCRIPTION:
URL:https://stmichaels-litchfield.org/event/greenwoods-counseling-7/2029-07-04/
CATEGORIES:Greenwoods Counseling
END:VEVENT
BEGIN:VEVENT
DTSTART;TZID=America/New_York:20290704T070000
DTEND;TZID=America/New_York:20290704T073000
DTSTAMP:20260424T185646
CREATED:20230606T184551Z
LAST-MODIFIED:20230619T142647Z
UID:10287017-1877842800-1877844600@stmichaels-litchfield.org
SUMMARY:AA Meeting in the Parish House Library
DESCRIPTION:
URL:https://stmichaels-litchfield.org/event/aa-meeting-in-the-library/2029-07-04/
LOCATION:Parish House Library\, 25 South Street\, Litchfield\, CT\, 06759\, United States
CATEGORIES:AA/NA Events
END:VEVENT
BEGIN:VEVENT
DTSTART;TZID=America/New_York:20290703T190000
DTEND;TZID=America/New_York:20290703T200000
DTSTAMP:20260424T185646
CREATED:20211108T175914Z
LAST-MODIFIED:20260130T014621Z
UID:10286675-1877799600-1877803200@stmichaels-litchfield.org
SUMMARY:AA Meeting in Community House
DESCRIPTION:
URL:https://stmichaels-litchfield.org/event/aa-group-in-community-house-2/2029-07-03/
LOCATION:Community House in Library from April 9th forward
CATEGORIES:AA/NA Events
END:VEVENT
BEGIN:VEVENT
DTSTART;TZID=America/New_York:20290703T171500
DTEND;TZID=America/New_York:20290703T183000
DTSTAMP:20260424T185646
CREATED:20231227T151453Z
LAST-MODIFIED:20260317T155826Z
UID:10293676-1877793300-1877797800@stmichaels-litchfield.org
SUMMARY:Property Committee Meeting in Parish House Library
DESCRIPTION:
URL:https://stmichaels-litchfield.org/event/property-committee-meeting-in-parish-house-library-3/2029-07-03/
LOCATION:Parish House Library\, 25 South Street\, Litchfield\, CT\, 06759\, United States
CATEGORIES:Church Event
END:VEVENT
BEGIN:VEVENT
DTSTART;TZID=America/New_York:20290703T160000
DTEND;TZID=America/New_York:20290703T173000
DTSTAMP:20260424T185646
CREATED:20260331T205128Z
LAST-MODIFIED:20260331T205254Z
UID:10294866-1877788800-1877794200@stmichaels-litchfield.org
SUMMARY:Priest Search Committee
DESCRIPTION:
URL:https://stmichaels-litchfield.org/event/priest-search-committee-3-2-5/2029-07-03/
LOCATION:Parish House Library\, 25 South Street\, Litchfield\, CT\, 06759\, United States
END:VEVENT
BEGIN:VEVENT
DTSTART;TZID=America/New_York:20290703T093000
DTEND;TZID=America/New_York:20290703T143000
DTSTAMP:20260424T185646
CREATED:20260128T181432Z
LAST-MODIFIED:20260128T181726Z
UID:10292139-1877765400-1877783400@stmichaels-litchfield.org
SUMMARY:Church Office Open
DESCRIPTION:
URL:https://stmichaels-litchfield.org/event/church-office-open-14/2029-07-03/
LOCATION:Church Office\, 25 South Street\, Litchfield\, CT\, 06759\, United States
CATEGORIES:Church Office Event
END:VEVENT
BEGIN:VEVENT
DTSTART;TZID=America/New_York:20290702T200000
DTEND;TZID=America/New_York:20290702T213000
DTSTAMP:20260424T185646
CREATED:20260218T173517Z
LAST-MODIFIED:20260218T173517Z
UID:10292742-1877716800-1877722200@stmichaels-litchfield.org
SUMMARY:AA meeting in the Community House
DESCRIPTION:
URL:https://stmichaels-litchfield.org/event/aa-meeting-in-the-community-house-2/2029-07-02/
END:VEVENT
BEGIN:VEVENT
DTSTART;TZID=America/New_York:20290702T070000
DTEND;TZID=America/New_York:20290702T073000
DTSTAMP:20260424T185646
CREATED:20230606T184551Z
LAST-MODIFIED:20230619T142647Z
UID:10287016-1877670000-1877671800@stmichaels-litchfield.org
SUMMARY:AA Meeting in the Parish House Library
DESCRIPTION:
URL:https://stmichaels-litchfield.org/event/aa-meeting-in-the-library/2029-07-02/
LOCATION:Parish House Library\, 25 South Street\, Litchfield\, CT\, 06759\, United States
CATEGORIES:AA/NA Events
END:VEVENT
BEGIN:VEVENT
DTSTART;VALUE=DATE:20290702
DTEND;VALUE=DATE:20290703
DTSTAMP:20260424T185646
CREATED:20260128T181321Z
LAST-MODIFIED:20260128T181322Z
UID:10291319-1877644800-1877731199@stmichaels-litchfield.org
SUMMARY:Church Office Closed
DESCRIPTION:
URL:https://stmichaels-litchfield.org/event/summer-schedule-church-office-closed-2-2-2-3/2029-07-02/
LOCATION:Church Office\, 25 South Street\, Litchfield\, CT\, 06759\, United States
CATEGORIES:Church Office Event
END:VEVENT
BEGIN:VEVENT
DTSTART;TZID=America/New_York:20290701T190000
DTEND;TZID=America/New_York:20290701T200000
DTSTAMP:20260424T185646
CREATED:20230619T142544Z
LAST-MODIFIED:20260416T160049Z
UID:10296158-1877626800-1877630400@stmichaels-litchfield.org
SUMMARY:AA Meeting in Community House
DESCRIPTION:
URL:https://stmichaels-litchfield.org/event/aa-meeting-in-community-house/2029-07-01/
LOCATION:Community House in Library from April 9th forward
END:VEVENT
BEGIN:VEVENT
DTSTART;TZID=America/New_York:20290701T110000
DTEND;TZID=America/New_York:20290701T140000
DTSTAMP:20260424T185646
CREATED:20230711T182541Z
LAST-MODIFIED:20250806T192214Z
UID:10287259-1877598000-1877608800@stmichaels-litchfield.org
SUMMARY:Coffee and Fellowship in the Community House
DESCRIPTION:
URL:https://stmichaels-litchfield.org/event/coffee-and-congregation-in-the-community-house/2029-07-01/
LOCATION:Community House in Library from April 9th forward
CATEGORIES:Church Event
END:VEVENT
END:VCALENDAR