BEGIN:VCALENDAR
VERSION:2.0
PRODID:-//St. Michael&#039;s Church - ECPv6.15.20//NONSGML v1.0//EN
CALSCALE:GREGORIAN
METHOD:PUBLISH
X-WR-CALNAME:St. Michael&#039;s Church
X-ORIGINAL-URL:https://stmichaels-litchfield.org
X-WR-CALDESC:Events for St. Michael&#039;s Church
REFRESH-INTERVAL;VALUE=DURATION:PT1H
X-Robots-Tag:noindex
X-PUBLISHED-TTL:PT1H
BEGIN:VTIMEZONE
TZID:America/New_York
BEGIN:DAYLIGHT
TZOFFSETFROM:-0500
TZOFFSETTO:-0400
TZNAME:EDT
DTSTART:20240310T070000
END:DAYLIGHT
BEGIN:STANDARD
TZOFFSETFROM:-0400
TZOFFSETTO:-0500
TZNAME:EST
DTSTART:20241103T060000
END:STANDARD
BEGIN:DAYLIGHT
TZOFFSETFROM:-0500
TZOFFSETTO:-0400
TZNAME:EDT
DTSTART:20250309T070000
END:DAYLIGHT
BEGIN:STANDARD
TZOFFSETFROM:-0400
TZOFFSETTO:-0500
TZNAME:EST
DTSTART:20251102T060000
END:STANDARD
BEGIN:DAYLIGHT
TZOFFSETFROM:-0500
TZOFFSETTO:-0400
TZNAME:EDT
DTSTART:20260308T070000
END:DAYLIGHT
BEGIN:STANDARD
TZOFFSETFROM:-0400
TZOFFSETTO:-0500
TZNAME:EST
DTSTART:20261101T060000
END:STANDARD
BEGIN:DAYLIGHT
TZOFFSETFROM:-0500
TZOFFSETTO:-0400
TZNAME:EDT
DTSTART:20270314T070000
END:DAYLIGHT
BEGIN:STANDARD
TZOFFSETFROM:-0400
TZOFFSETTO:-0500
TZNAME:EST
DTSTART:20271107T060000
END:STANDARD
END:VTIMEZONE
BEGIN:VEVENT
DTSTART;TZID=America/New_York:20251230T190000
DTEND;TZID=America/New_York:20251230T200000
DTSTAMP:20260419T185851
CREATED:20211108T175914Z
LAST-MODIFIED:20260130T014621Z
UID:10010089-1767121200-1767124800@stmichaels-litchfield.org
SUMMARY:AA Meeting in Community House
DESCRIPTION:
URL:https://stmichaels-litchfield.org/event/aa-group-in-community-house-2/2025-12-30/
LOCATION:Community House in Library from April 9th forward
CATEGORIES:AA/NA Events
END:VEVENT
BEGIN:VEVENT
DTSTART;TZID=America/New_York:20251231T070000
DTEND;TZID=America/New_York:20251231T073000
DTSTAMP:20260419T185851
CREATED:20230606T184551Z
LAST-MODIFIED:20230619T142647Z
UID:10006071-1767164400-1767166200@stmichaels-litchfield.org
SUMMARY:AA Meeting in the Parish House Library
DESCRIPTION:
URL:https://stmichaels-litchfield.org/event/aa-meeting-in-the-library/2025-12-31/
LOCATION:Parish House Library\, 25 South Street\, Litchfield\, CT\, 06759\, United States
CATEGORIES:AA/NA Events
END:VEVENT
BEGIN:VEVENT
DTSTART;TZID=America/New_York:20251231T083000
DTEND;TZID=America/New_York:20251231T110000
DTSTAMP:20260419T185851
CREATED:20250109T152013Z
LAST-MODIFIED:20250109T152013Z
UID:10019427-1767169800-1767178800@stmichaels-litchfield.org
SUMMARY:Greenwoods Counseling
DESCRIPTION:
URL:https://stmichaels-litchfield.org/event/greenwoods-counseling-7/2025-12-31/
LOCATION:CT
CATEGORIES:Greenwoods Counseling
END:VEVENT
BEGIN:VEVENT
DTSTART;TZID=America/New_York:20251231T110000
DTEND;TZID=America/New_York:20251231T133000
DTSTAMP:20260419T185851
CREATED:20231012T152740Z
LAST-MODIFIED:20231012T152740Z
UID:10013904-1767178800-1767187800@stmichaels-litchfield.org
SUMMARY:Greenwoods Counselling All Staff Meeting in the Community House
DESCRIPTION:
URL:https://stmichaels-litchfield.org/event/greenwoods-counselling-all-staff-meeting-in-the-community-house/2025-12-31/
LOCATION:Community House in Library from April 9th forward
CATEGORIES:Greenwoods Counseling
END:VEVENT
BEGIN:VEVENT
DTSTART;TZID=America/New_York:20251231T190000
DTEND;TZID=America/New_York:20251231T203000
DTSTAMP:20260419T185851
CREATED:20230817T183342Z
LAST-MODIFIED:20230817T183342Z
UID:10013119-1767207600-1767213000@stmichaels-litchfield.org
SUMMARY:Choir Rehearsal in Parish House Music Room
DESCRIPTION:
URL:https://stmichaels-litchfield.org/event/choir-rehearsal-in-parish-house-music-room/2025-12-31/
LOCATION:Parish House Music Room
CATEGORIES:Church Event
END:VEVENT
BEGIN:VEVENT
DTSTART;TZID=America/New_York:20251231T193000
DTEND;TZID=America/New_York:20251231T210000
DTSTAMP:20260419T185851
CREATED:20211108T180816Z
LAST-MODIFIED:20230714T003135Z
UID:10012443-1767209400-1767214800@stmichaels-litchfield.org
SUMMARY:NA meeting in Community House
DESCRIPTION:
URL:https://stmichaels-litchfield.org/event/narcotics-anonymous/2025-12-31/
LOCATION:Community House in Library from April 9th forward
CATEGORIES:AA/NA Events
END:VEVENT
BEGIN:VEVENT
DTSTART;TZID=America/New_York:20260101T090000
DTEND;TZID=America/New_York:20260101T130000
DTSTAMP:20260419T185851
CREATED:20251002T175510Z
LAST-MODIFIED:20251120T150618Z
UID:10287884-1767258000-1767272400@stmichaels-litchfield.org
SUMMARY:Church Office Closed
DESCRIPTION:
URL:https://stmichaels-litchfield.org/event/church-office-open-4-5-2-2/2026-01-01/
LOCATION:Church Office\, 25 South Street\, Litchfield\, CT\, 06759\, United States
END:VEVENT
BEGIN:VEVENT
DTSTART;TZID=America/New_York:20260101T190000
DTEND;TZID=America/New_York:20260101T220000
DTSTAMP:20260419T185851
CREATED:20230810T152445Z
LAST-MODIFIED:20230823T141209Z
UID:10012918-1767294000-1767304800@stmichaels-litchfield.org
SUMMARY:SOTG Board meeting in the Parish House Library
DESCRIPTION:
URL:https://stmichaels-litchfield.org/event/sotg-board-meeting-2/2026-01-01/
LOCATION:Parish House Library\, 25 South Street\, Litchfield\, CT\, 06759\, United States
CATEGORIES:School on the Green Event
END:VEVENT
BEGIN:VEVENT
DTSTART;VALUE=DATE:20260102
DTEND;VALUE=DATE:20260103
DTSTAMP:20260419T185851
CREATED:20251002T175611Z
LAST-MODIFIED:20251002T175611Z
UID:10288143-1767312000-1767398399@stmichaels-litchfield.org
SUMMARY:Church Office Closed
DESCRIPTION:
URL:https://stmichaels-litchfield.org/event/summer-schedule-church-office-closed-2-2-2/2026-01-02/
LOCATION:Church Office\, 25 South Street\, Litchfield\, CT\, 06759\, United States
CATEGORIES:Church Office Event
END:VEVENT
BEGIN:VEVENT
DTSTART;TZID=America/New_York:20260102T070000
DTEND;TZID=America/New_York:20260102T073000
DTSTAMP:20260419T185851
CREATED:20230606T184551Z
LAST-MODIFIED:20230619T142647Z
UID:10006072-1767337200-1767339000@stmichaels-litchfield.org
SUMMARY:AA Meeting in the Parish House Library
DESCRIPTION:
URL:https://stmichaels-litchfield.org/event/aa-meeting-in-the-library/2026-01-02/
LOCATION:Parish House Library\, 25 South Street\, Litchfield\, CT\, 06759\, United States
CATEGORIES:AA/NA Events
END:VEVENT
BEGIN:VEVENT
DTSTART;TZID=America/New_York:20260103T083000
DTEND;TZID=America/New_York:20260103T093000
DTSTAMP:20260419T185851
CREATED:20230619T143626Z
LAST-MODIFIED:20230619T143720Z
UID:10010696-1767429000-1767432600@stmichaels-litchfield.org
SUMMARY:AA Meeting in Parish House Library
DESCRIPTION:
URL:https://stmichaels-litchfield.org/event/aa-meeting-in-community-house-2/2026-01-03/
LOCATION:Community House in Library from April 9th forward
CATEGORIES:AA/NA Events
END:VEVENT
BEGIN:VEVENT
DTSTART;TZID=America/New_York:20260103T110000
DTEND;TZID=America/New_York:20260103T150000
DTSTAMP:20260419T185851
CREATED:20251230T151253Z
LAST-MODIFIED:20251230T151253Z
UID:10288554-1767438000-1767452400@stmichaels-litchfield.org
SUMMARY:Greenwoods Mtg
DESCRIPTION:
URL:https://stmichaels-litchfield.org/event/greenwoods-mtg-10/
LOCATION:Community House in Library from April 9th forward
CATEGORIES:Greenwoods Counseling
END:VEVENT
BEGIN:VEVENT
DTSTART;TZID=America/New_York:20260104T080000
DTEND;TZID=America/New_York:20260104T090000
DTSTAMP:20260419T185851
CREATED:20211108T181651Z
LAST-MODIFIED:20260327T134504Z
UID:10020387-1767513600-1767517200@stmichaels-litchfield.org
SUMMARY:Eucharist\, Rite I
DESCRIPTION:Spoken\, no music
URL:https://stmichaels-litchfield.org/event/sunday-eucharist/2026-01-04/
LOCATION:Chapel\, 25 South Street\, Litchfield\, CT\, 06759\, United States
CATEGORIES:Church Event,Parish Events
END:VEVENT
BEGIN:VEVENT
DTSTART;TZID=America/New_York:20260104T100000
DTEND;TZID=America/New_York:20260104T110000
DTSTAMP:20260419T185851
CREATED:20251202T173203Z
LAST-MODIFIED:20251202T173204Z
UID:10012702-1767520800-1767524400@stmichaels-litchfield.org
SUMMARY:Sunday Eucharist\, Rite II with Epiphany Pageant
DESCRIPTION:Rite II with music \nColossal Puppets on January 4 perform the Epiphany Pageant \nFollowed by Coffee Hour in the Community House
URL:https://stmichaels-litchfield.org/event/sunday-eucharist-2-3-2/
LOCATION:Church and Community House
CATEGORIES:Church Event,Parish Events
END:VEVENT
BEGIN:VEVENT
DTSTART;TZID=America/New_York:20260104T110000
DTEND;TZID=America/New_York:20260104T140000
DTSTAMP:20260419T185851
CREATED:20230711T182541Z
LAST-MODIFIED:20250806T192214Z
UID:10012041-1767524400-1767535200@stmichaels-litchfield.org
SUMMARY:Coffee and Fellowship in the Community House
DESCRIPTION:
URL:https://stmichaels-litchfield.org/event/coffee-and-congregation-in-the-community-house/2026-01-04/
LOCATION:Community House in Library from April 9th forward
CATEGORIES:Church Event
END:VEVENT
BEGIN:VEVENT
DTSTART;TZID=America/New_York:20260104T190000
DTEND;TZID=America/New_York:20260104T200000
DTSTAMP:20260419T185851
CREATED:20230619T142544Z
LAST-MODIFIED:20260416T160049Z
UID:10009886-1767553200-1767556800@stmichaels-litchfield.org
SUMMARY:AA Meeting in Community House
DESCRIPTION:
URL:https://stmichaels-litchfield.org/event/aa-meeting-in-community-house/2026-01-04/
LOCATION:Community House in Library from April 9th forward
END:VEVENT
BEGIN:VEVENT
DTSTART;TZID=America/New_York:20260105T070000
DTEND;TZID=America/New_York:20260105T073000
DTSTAMP:20260419T185851
CREATED:20230606T184551Z
LAST-MODIFIED:20230619T142647Z
UID:10006073-1767596400-1767598200@stmichaels-litchfield.org
SUMMARY:AA Meeting in the Parish House Library
DESCRIPTION:
URL:https://stmichaels-litchfield.org/event/aa-meeting-in-the-library/2026-01-05/
LOCATION:Parish House Library\, 25 South Street\, Litchfield\, CT\, 06759\, United States
CATEGORIES:AA/NA Events
END:VEVENT
BEGIN:VEVENT
DTSTART;TZID=America/New_York:20260106T171500
DTEND;TZID=America/New_York:20260106T183000
DTSTAMP:20260419T185851
CREATED:20231227T151453Z
LAST-MODIFIED:20260317T155826Z
UID:10293634-1767719700-1767724200@stmichaels-litchfield.org
SUMMARY:Property Committee Meeting in Parish House Library
DESCRIPTION:
URL:https://stmichaels-litchfield.org/event/property-committee-meeting-in-parish-house-library-3/2026-01-06/
LOCATION:Parish House Library\, 25 South Street\, Litchfield\, CT\, 06759\, United States
CATEGORIES:Church Event
END:VEVENT
BEGIN:VEVENT
DTSTART;TZID=America/New_York:20260106T190000
DTEND;TZID=America/New_York:20260106T200000
DTSTAMP:20260419T185851
CREATED:20211108T175914Z
LAST-MODIFIED:20260130T014621Z
UID:10010090-1767726000-1767729600@stmichaels-litchfield.org
SUMMARY:AA Meeting in Community House
DESCRIPTION:
URL:https://stmichaels-litchfield.org/event/aa-group-in-community-house-2/2026-01-06/
LOCATION:Community House in Library from April 9th forward
CATEGORIES:AA/NA Events
END:VEVENT
BEGIN:VEVENT
DTSTART;TZID=America/New_York:20260106T191500
DTEND;TZID=America/New_York:20260106T210000
DTSTAMP:20260419T185851
CREATED:20231205T151748Z
LAST-MODIFIED:20231205T151808Z
UID:10014057-1767726900-1767733200@stmichaels-litchfield.org
SUMMARY:Property Committee meeting in Parish House Library
DESCRIPTION:
URL:https://stmichaels-litchfield.org/event/property-committee-meeting-in-parish-house-library/2026-01-06/
LOCATION:Parish House Library\, 25 South Street\, Litchfield\, CT\, 06759\, United States
CATEGORIES:Church Event
END:VEVENT
BEGIN:VEVENT
DTSTART;TZID=America/New_York:20260107T070000
DTEND;TZID=America/New_York:20260107T073000
DTSTAMP:20260419T185851
CREATED:20230606T184551Z
LAST-MODIFIED:20230619T142647Z
UID:10006074-1767769200-1767771000@stmichaels-litchfield.org
SUMMARY:AA Meeting in the Parish House Library
DESCRIPTION:
URL:https://stmichaels-litchfield.org/event/aa-meeting-in-the-library/2026-01-07/
LOCATION:Parish House Library\, 25 South Street\, Litchfield\, CT\, 06759\, United States
CATEGORIES:AA/NA Events
END:VEVENT
BEGIN:VEVENT
DTSTART;TZID=America/New_York:20260107T083000
DTEND;TZID=America/New_York:20260107T110000
DTSTAMP:20260419T185851
CREATED:20250109T152013Z
LAST-MODIFIED:20250109T152013Z
UID:10019428-1767774600-1767783600@stmichaels-litchfield.org
SUMMARY:Greenwoods Counseling
DESCRIPTION:
URL:https://stmichaels-litchfield.org/event/greenwoods-counseling-7/2026-01-07/
LOCATION:CT
CATEGORIES:Greenwoods Counseling
END:VEVENT
BEGIN:VEVENT
DTSTART;TZID=America/New_York:20260107T190000
DTEND;TZID=America/New_York:20260107T203000
DTSTAMP:20260419T185851
CREATED:20230817T183342Z
LAST-MODIFIED:20230817T183342Z
UID:10013120-1767812400-1767817800@stmichaels-litchfield.org
SUMMARY:Choir Rehearsal in Parish House Music Room
DESCRIPTION:
URL:https://stmichaels-litchfield.org/event/choir-rehearsal-in-parish-house-music-room/2026-01-07/
LOCATION:Parish House Music Room
CATEGORIES:Church Event
END:VEVENT
BEGIN:VEVENT
DTSTART;TZID=America/New_York:20260107T193000
DTEND;TZID=America/New_York:20260107T210000
DTSTAMP:20260419T185851
CREATED:20211108T180816Z
LAST-MODIFIED:20230714T003135Z
UID:10012444-1767814200-1767819600@stmichaels-litchfield.org
SUMMARY:NA meeting in Community House
DESCRIPTION:
URL:https://stmichaels-litchfield.org/event/narcotics-anonymous/2026-01-07/
LOCATION:Community House in Library from April 9th forward
CATEGORIES:AA/NA Events
END:VEVENT
BEGIN:VEVENT
DTSTART;TZID=America/New_York:20260108T090000
DTEND;TZID=America/New_York:20260108T130000
DTSTAMP:20260419T185851
CREATED:20251211T151146Z
LAST-MODIFIED:20260107T171916Z
UID:10287885-1767862800-1767877200@stmichaels-litchfield.org
SUMMARY:Church Office Open
DESCRIPTION:
URL:https://stmichaels-litchfield.org/event/church-office-open-4-5-2-2-3/2026-01-08/
LOCATION:Church Office\, 25 South Street\, Litchfield\, CT\, 06759\, United States
END:VEVENT
BEGIN:VEVENT
DTSTART;TZID=America/New_York:20260108T143000
DTEND;TZID=America/New_York:20260108T163000
DTSTAMP:20260419T185851
CREATED:20251209T172153Z
LAST-MODIFIED:20260224T180125Z
UID:10288520-1767882600-1767889800@stmichaels-litchfield.org
SUMMARY:Italian Club
DESCRIPTION:
URL:https://stmichaels-litchfield.org/event/italian-club-5/2026-01-08/
LOCATION:Community House in Library from April 9th forward
CATEGORIES:Other Groups
END:VEVENT
BEGIN:VEVENT
DTSTART;TZID=America/New_York:20260108T190000
DTEND;TZID=America/New_York:20260108T210000
DTSTAMP:20260419T185851
CREATED:20250804T170307Z
LAST-MODIFIED:20250804T170307Z
UID:10287220-1767898800-1767906000@stmichaels-litchfield.org
SUMMARY:School on the Green Brd Mtg
DESCRIPTION:
URL:https://stmichaels-litchfield.org/event/school-on-the-green-brd-mtg-2/
LOCATION:Parish House Library\, 25 South Street\, Litchfield\, CT\, 06759\, United States
CATEGORIES:School on the Green Event
END:VEVENT
BEGIN:VEVENT
DTSTART;VALUE=DATE:20260109
DTEND;VALUE=DATE:20260110
DTSTAMP:20260419T185851
CREATED:20251002T175611Z
LAST-MODIFIED:20251002T175611Z
UID:10288144-1767916800-1768003199@stmichaels-litchfield.org
SUMMARY:Church Office Closed
DESCRIPTION:
URL:https://stmichaels-litchfield.org/event/summer-schedule-church-office-closed-2-2-2/2026-01-09/
LOCATION:Church Office\, 25 South Street\, Litchfield\, CT\, 06759\, United States
CATEGORIES:Church Office Event
END:VEVENT
BEGIN:VEVENT
DTSTART;TZID=America/New_York:20260109T070000
DTEND;TZID=America/New_York:20260109T073000
DTSTAMP:20260419T185851
CREATED:20230606T184551Z
LAST-MODIFIED:20230619T142647Z
UID:10006075-1767942000-1767943800@stmichaels-litchfield.org
SUMMARY:AA Meeting in the Parish House Library
DESCRIPTION:
URL:https://stmichaels-litchfield.org/event/aa-meeting-in-the-library/2026-01-09/
LOCATION:Parish House Library\, 25 South Street\, Litchfield\, CT\, 06759\, United States
CATEGORIES:AA/NA Events
END:VEVENT
BEGIN:VEVENT
DTSTART;TZID=America/New_York:20260109T133000
DTEND;TZID=America/New_York:20260109T153000
DTSTAMP:20260419T185851
CREATED:20251209T172639Z
LAST-MODIFIED:20260224T175343Z
UID:10288534-1767965400-1767972600@stmichaels-litchfield.org
SUMMARY:Italian Club in Library
DESCRIPTION:
URL:https://stmichaels-litchfield.org/event/italian-club-6/2026-01-09/
LOCATION:Community House in Library from April 9th forward
CATEGORIES:Other Groups
END:VEVENT
END:VCALENDAR