BEGIN:VCALENDAR
VERSION:2.0
PRODID:-//St. Michael&#039;s Church - ECPv6.15.20//NONSGML v1.0//EN
CALSCALE:GREGORIAN
METHOD:PUBLISH
X-WR-CALNAME:St. Michael&#039;s Church
X-ORIGINAL-URL:https://stmichaels-litchfield.org
X-WR-CALDESC:Events for St. Michael&#039;s Church
REFRESH-INTERVAL;VALUE=DURATION:PT1H
X-Robots-Tag:noindex
X-PUBLISHED-TTL:PT1H
BEGIN:VTIMEZONE
TZID:America/New_York
BEGIN:DAYLIGHT
TZOFFSETFROM:-0500
TZOFFSETTO:-0400
TZNAME:EDT
DTSTART:20250309T070000
END:DAYLIGHT
BEGIN:STANDARD
TZOFFSETFROM:-0400
TZOFFSETTO:-0500
TZNAME:EST
DTSTART:20251102T060000
END:STANDARD
BEGIN:DAYLIGHT
TZOFFSETFROM:-0500
TZOFFSETTO:-0400
TZNAME:EDT
DTSTART:20260308T070000
END:DAYLIGHT
BEGIN:STANDARD
TZOFFSETFROM:-0400
TZOFFSETTO:-0500
TZNAME:EST
DTSTART:20261101T060000
END:STANDARD
BEGIN:DAYLIGHT
TZOFFSETFROM:-0500
TZOFFSETTO:-0400
TZNAME:EDT
DTSTART:20270314T070000
END:DAYLIGHT
BEGIN:STANDARD
TZOFFSETFROM:-0400
TZOFFSETTO:-0500
TZNAME:EST
DTSTART:20271107T060000
END:STANDARD
END:VTIMEZONE
BEGIN:VEVENT
DTSTART;TZID=America/New_York:20260519T093000
DTEND;TZID=America/New_York:20260519T143000
DTSTAMP:20260419T084125
CREATED:20260128T181432Z
LAST-MODIFIED:20260128T181726Z
UID:10291487-1779183000-1779201000@stmichaels-litchfield.org
SUMMARY:Church Office Open
DESCRIPTION:
URL:https://stmichaels-litchfield.org/event/church-office-open-14/2026-05-19/
LOCATION:Church Office\, 25 South Street\, Litchfield\, CT\, 06759\, United States
CATEGORIES:Church Office Event
END:VEVENT
BEGIN:VEVENT
DTSTART;TZID=America/New_York:20260519T160000
DTEND;TZID=America/New_York:20260519T173000
DTSTAMP:20260419T084125
CREATED:20260331T205128Z
LAST-MODIFIED:20260331T205254Z
UID:10294703-1779206400-1779211800@stmichaels-litchfield.org
SUMMARY:Priest Search Committee
DESCRIPTION:
URL:https://stmichaels-litchfield.org/event/priest-search-committee-3-2-5/2026-05-19/
LOCATION:Parish House Library\, 25 South Street\, Litchfield\, CT\, 06759\, United States
END:VEVENT
BEGIN:VEVENT
DTSTART;TZID=America/New_York:20260519T190000
DTEND;TZID=America/New_York:20260519T200000
DTSTAMP:20260419T084125
CREATED:20211108T175914Z
LAST-MODIFIED:20260130T014621Z
UID:10010109-1779217200-1779220800@stmichaels-litchfield.org
SUMMARY:AA Meeting in Community House
DESCRIPTION:
URL:https://stmichaels-litchfield.org/event/aa-group-in-community-house-2/2026-05-19/
LOCATION:Community House in Library from April 9th forward
CATEGORIES:AA/NA Events
END:VEVENT
BEGIN:VEVENT
DTSTART;TZID=America/New_York:20260520T070000
DTEND;TZID=America/New_York:20260520T073000
DTSTAMP:20260419T084126
CREATED:20230606T184551Z
LAST-MODIFIED:20230619T142647Z
UID:10006131-1779260400-1779262200@stmichaels-litchfield.org
SUMMARY:AA Meeting in the Parish House Library
DESCRIPTION:
URL:https://stmichaels-litchfield.org/event/aa-meeting-in-the-library/2026-05-20/
LOCATION:Parish House Library\, 25 South Street\, Litchfield\, CT\, 06759\, United States
CATEGORIES:AA/NA Events
END:VEVENT
BEGIN:VEVENT
DTSTART;TZID=America/New_York:20260520T083000
DTEND;TZID=America/New_York:20260520T110000
DTSTAMP:20260419T084126
CREATED:20250109T152013Z
LAST-MODIFIED:20250109T152013Z
UID:10019447-1779265800-1779274800@stmichaels-litchfield.org
SUMMARY:Greenwoods Counseling
DESCRIPTION:
URL:https://stmichaels-litchfield.org/event/greenwoods-counseling-7/2026-05-20/
LOCATION:CT
CATEGORIES:Greenwoods Counseling
END:VEVENT
BEGIN:VEVENT
DTSTART;TZID=America/New_York:20260520T093000
DTEND;TZID=America/New_York:20260520T143000
DTSTAMP:20260419T084126
CREATED:20260128T181432Z
LAST-MODIFIED:20260128T181726Z
UID:10291488-1779269400-1779287400@stmichaels-litchfield.org
SUMMARY:Church Office Open
DESCRIPTION:
URL:https://stmichaels-litchfield.org/event/church-office-open-14/2026-05-20/
LOCATION:Church Office\, 25 South Street\, Litchfield\, CT\, 06759\, United States
CATEGORIES:Church Office Event
END:VEVENT
BEGIN:VEVENT
DTSTART;TZID=America/New_York:20260520T173000
DTEND;TZID=America/New_York:20260520T180000
DTSTAMP:20260419T084126
CREATED:20260327T155546Z
LAST-MODIFIED:20260327T155546Z
UID:10294444-1779298200-1779300000@stmichaels-litchfield.org
SUMMARY:Chanted Evening Prayer
DESCRIPTION:
URL:https://stmichaels-litchfield.org/event/chanted-evening-prayer-3/2026-05-20/
LOCATION:Chapel\, 25 South Street\, Litchfield\, CT\, 06759\, United States
CATEGORIES:Church Event
END:VEVENT
BEGIN:VEVENT
DTSTART;TZID=America/New_York:20260520T190000
DTEND;TZID=America/New_York:20260520T203000
DTSTAMP:20260419T084126
CREATED:20230817T183342Z
LAST-MODIFIED:20230817T183342Z
UID:10013139-1779303600-1779309000@stmichaels-litchfield.org
SUMMARY:Choir Rehearsal in Parish House Music Room
DESCRIPTION:
URL:https://stmichaels-litchfield.org/event/choir-rehearsal-in-parish-house-music-room/2026-05-20/
LOCATION:Parish House Music Room
CATEGORIES:Church Event
END:VEVENT
BEGIN:VEVENT
DTSTART;TZID=America/New_York:20260520T193000
DTEND;TZID=America/New_York:20260520T210000
DTSTAMP:20260419T084126
CREATED:20211108T180816Z
LAST-MODIFIED:20230714T003135Z
UID:10012463-1779305400-1779310800@stmichaels-litchfield.org
SUMMARY:NA meeting in Community House
DESCRIPTION:
URL:https://stmichaels-litchfield.org/event/narcotics-anonymous/2026-05-20/
LOCATION:Community House in Library from April 9th forward
CATEGORIES:AA/NA Events
END:VEVENT
BEGIN:VEVENT
DTSTART;TZID=America/New_York:20260521T093000
DTEND;TZID=America/New_York:20260521T143000
DTSTAMP:20260419T084126
CREATED:20260128T181432Z
LAST-MODIFIED:20260128T181726Z
UID:10291489-1779355800-1779373800@stmichaels-litchfield.org
SUMMARY:Church Office Open
DESCRIPTION:
URL:https://stmichaels-litchfield.org/event/church-office-open-14/2026-05-21/
LOCATION:Church Office\, 25 South Street\, Litchfield\, CT\, 06759\, United States
CATEGORIES:Church Office Event
END:VEVENT
BEGIN:VEVENT
DTSTART;TZID=America/New_York:20260521T143000
DTEND;TZID=America/New_York:20260521T163000
DTSTAMP:20260419T084126
CREATED:20260224T180134Z
LAST-MODIFIED:20260325T134517Z
UID:10293243-1779373800-1779381000@stmichaels-litchfield.org
SUMMARY:Italian Club in Library
DESCRIPTION:
URL:https://stmichaels-litchfield.org/event/italian-club-5-2/2026-05-21/
LOCATION:Community House in Library from April 9th forward
CATEGORIES:Other Groups
END:VEVENT
BEGIN:VEVENT
DTSTART;TZID=America/New_York:20260522T070000
DTEND;TZID=America/New_York:20260522T073000
DTSTAMP:20260419T084126
CREATED:20230606T184551Z
LAST-MODIFIED:20230619T142647Z
UID:10006132-1779433200-1779435000@stmichaels-litchfield.org
SUMMARY:AA Meeting in the Parish House Library
DESCRIPTION:
URL:https://stmichaels-litchfield.org/event/aa-meeting-in-the-library/2026-05-22/
LOCATION:Parish House Library\, 25 South Street\, Litchfield\, CT\, 06759\, United States
CATEGORIES:AA/NA Events
END:VEVENT
BEGIN:VEVENT
DTSTART;TZID=America/New_York:20260522T093000
DTEND;TZID=America/New_York:20260522T143000
DTSTAMP:20260419T084126
CREATED:20260128T181432Z
LAST-MODIFIED:20260128T181726Z
UID:10291490-1779442200-1779460200@stmichaels-litchfield.org
SUMMARY:Church Office Open
DESCRIPTION:
URL:https://stmichaels-litchfield.org/event/church-office-open-14/2026-05-22/
LOCATION:Church Office\, 25 South Street\, Litchfield\, CT\, 06759\, United States
CATEGORIES:Church Office Event
END:VEVENT
BEGIN:VEVENT
DTSTART;TZID=America/New_York:20260522T133000
DTEND;TZID=America/New_York:20260522T153000
DTSTAMP:20260419T084126
CREATED:20260224T175355Z
LAST-MODIFIED:20260224T175356Z
UID:10293230-1779456600-1779463800@stmichaels-litchfield.org
SUMMARY:Italian Club in Library
DESCRIPTION:
URL:https://stmichaels-litchfield.org/event/italian-club-6-2/2026-05-22/
LOCATION:Community House in Library from April 9th forward
CATEGORIES:Other Groups
END:VEVENT
BEGIN:VEVENT
DTSTART;TZID=America/New_York:20260523T083000
DTEND;TZID=America/New_York:20260523T093000
DTSTAMP:20260419T084126
CREATED:20230619T143626Z
LAST-MODIFIED:20230619T143720Z
UID:10010716-1779525000-1779528600@stmichaels-litchfield.org
SUMMARY:AA Meeting in Parish House Library
DESCRIPTION:
URL:https://stmichaels-litchfield.org/event/aa-meeting-in-community-house-2/2026-05-23/
LOCATION:Community House in Library from April 9th forward
CATEGORIES:AA/NA Events
END:VEVENT
BEGIN:VEVENT
DTSTART;TZID=America/New_York:20260524T080000
DTEND;TZID=America/New_York:20260524T090000
DTSTAMP:20260419T084126
CREATED:20211108T181651Z
LAST-MODIFIED:20260327T134504Z
UID:10020407-1779609600-1779613200@stmichaels-litchfield.org
SUMMARY:Eucharist\, Rite I
DESCRIPTION:Spoken\, no music
URL:https://stmichaels-litchfield.org/event/sunday-eucharist/2026-05-24/
LOCATION:Chapel\, 25 South Street\, Litchfield\, CT\, 06759\, United States
CATEGORIES:Church Event,Parish Events
END:VEVENT
BEGIN:VEVENT
DTSTART;TZID=America/New_York:20260524T100000
DTEND;TZID=America/New_York:20260524T110000
DTSTAMP:20260419T084126
CREATED:20250403T150154Z
LAST-MODIFIED:20250806T192031Z
UID:10012722-1779616800-1779620400@stmichaels-litchfield.org
SUMMARY:Sunday Eucharist\, Rite II
DESCRIPTION:Rite II with music \nFollowed by Coffee Hour in the Community House
URL:https://stmichaels-litchfield.org/event/sunday-eucharist-2-3/2026-05-24/
LOCATION:Church and Community House
CATEGORIES:Church Event,Parish Events
END:VEVENT
BEGIN:VEVENT
DTSTART;TZID=America/New_York:20260524T110000
DTEND;TZID=America/New_York:20260524T140000
DTSTAMP:20260419T084126
CREATED:20230711T182541Z
LAST-MODIFIED:20250806T192214Z
UID:10012061-1779620400-1779631200@stmichaels-litchfield.org
SUMMARY:Coffee and Fellowship in the Community House
DESCRIPTION:
URL:https://stmichaels-litchfield.org/event/coffee-and-congregation-in-the-community-house/2026-05-24/
LOCATION:Community House in Library from April 9th forward
CATEGORIES:Church Event
END:VEVENT
BEGIN:VEVENT
DTSTART;TZID=America/New_York:20260524T190000
DTEND;TZID=America/New_York:20260524T200000
DTSTAMP:20260419T084126
CREATED:20230619T142544Z
LAST-MODIFIED:20260416T160049Z
UID:10009906-1779649200-1779652800@stmichaels-litchfield.org
SUMMARY:AA Meeting in Community House
DESCRIPTION:
URL:https://stmichaels-litchfield.org/event/aa-meeting-in-community-house/2026-05-24/
LOCATION:Community House in Library from April 9th forward
END:VEVENT
BEGIN:VEVENT
DTSTART;VALUE=DATE:20260525
DTEND;VALUE=DATE:20260526
DTSTAMP:20260419T084126
CREATED:20260128T181321Z
LAST-MODIFIED:20260128T181322Z
UID:10291157-1779667200-1779753599@stmichaels-litchfield.org
SUMMARY:Church Office Closed
DESCRIPTION:
URL:https://stmichaels-litchfield.org/event/summer-schedule-church-office-closed-2-2-2-3/2026-05-25/
LOCATION:Church Office\, 25 South Street\, Litchfield\, CT\, 06759\, United States
CATEGORIES:Church Office Event
END:VEVENT
BEGIN:VEVENT
DTSTART;TZID=America/New_York:20260525T070000
DTEND;TZID=America/New_York:20260525T073000
DTSTAMP:20260419T084126
CREATED:20230606T184551Z
LAST-MODIFIED:20230619T142647Z
UID:10006133-1779692400-1779694200@stmichaels-litchfield.org
SUMMARY:AA Meeting in the Parish House Library
DESCRIPTION:
URL:https://stmichaels-litchfield.org/event/aa-meeting-in-the-library/2026-05-25/
LOCATION:Parish House Library\, 25 South Street\, Litchfield\, CT\, 06759\, United States
CATEGORIES:AA/NA Events
END:VEVENT
BEGIN:VEVENT
DTSTART;TZID=America/New_York:20260525T200000
DTEND;TZID=America/New_York:20260525T213000
DTSTAMP:20260419T084126
CREATED:20260218T173517Z
LAST-MODIFIED:20260218T173517Z
UID:10292580-1779739200-1779744600@stmichaels-litchfield.org
SUMMARY:AA meeting in the Community House
DESCRIPTION:
URL:https://stmichaels-litchfield.org/event/aa-meeting-in-the-community-house-2/2026-05-25/
LOCATION:CT
END:VEVENT
BEGIN:VEVENT
DTSTART;TZID=America/New_York:20260526T093000
DTEND;TZID=America/New_York:20260526T143000
DTSTAMP:20260419T084126
CREATED:20260128T181432Z
LAST-MODIFIED:20260128T181726Z
UID:10291491-1779787800-1779805800@stmichaels-litchfield.org
SUMMARY:Church Office Open
DESCRIPTION:
URL:https://stmichaels-litchfield.org/event/church-office-open-14/2026-05-26/
LOCATION:Church Office\, 25 South Street\, Litchfield\, CT\, 06759\, United States
CATEGORIES:Church Office Event
END:VEVENT
BEGIN:VEVENT
DTSTART;TZID=America/New_York:20260526T160000
DTEND;TZID=America/New_York:20260526T173000
DTSTAMP:20260419T084126
CREATED:20260331T205128Z
LAST-MODIFIED:20260331T205254Z
UID:10294704-1779811200-1779816600@stmichaels-litchfield.org
SUMMARY:Priest Search Committee
DESCRIPTION:
URL:https://stmichaels-litchfield.org/event/priest-search-committee-3-2-5/2026-05-26/
LOCATION:Parish House Library\, 25 South Street\, Litchfield\, CT\, 06759\, United States
END:VEVENT
BEGIN:VEVENT
DTSTART;TZID=America/New_York:20260526T190000
DTEND;TZID=America/New_York:20260526T200000
DTSTAMP:20260419T084126
CREATED:20211108T175914Z
LAST-MODIFIED:20260130T014621Z
UID:10010110-1779822000-1779825600@stmichaels-litchfield.org
SUMMARY:AA Meeting in Community House
DESCRIPTION:
URL:https://stmichaels-litchfield.org/event/aa-group-in-community-house-2/2026-05-26/
LOCATION:Community House in Library from April 9th forward
CATEGORIES:AA/NA Events
END:VEVENT
BEGIN:VEVENT
DTSTART;TZID=America/New_York:20260527T070000
DTEND;TZID=America/New_York:20260527T073000
DTSTAMP:20260419T084126
CREATED:20230606T184551Z
LAST-MODIFIED:20230619T142647Z
UID:10006134-1779865200-1779867000@stmichaels-litchfield.org
SUMMARY:AA Meeting in the Parish House Library
DESCRIPTION:
URL:https://stmichaels-litchfield.org/event/aa-meeting-in-the-library/2026-05-27/
LOCATION:Parish House Library\, 25 South Street\, Litchfield\, CT\, 06759\, United States
CATEGORIES:AA/NA Events
END:VEVENT
BEGIN:VEVENT
DTSTART;TZID=America/New_York:20260527T083000
DTEND;TZID=America/New_York:20260527T110000
DTSTAMP:20260419T084126
CREATED:20250109T152013Z
LAST-MODIFIED:20250109T152013Z
UID:10019448-1779870600-1779879600@stmichaels-litchfield.org
SUMMARY:Greenwoods Counseling
DESCRIPTION:
URL:https://stmichaels-litchfield.org/event/greenwoods-counseling-7/2026-05-27/
LOCATION:CT
CATEGORIES:Greenwoods Counseling
END:VEVENT
BEGIN:VEVENT
DTSTART;TZID=America/New_York:20260527T093000
DTEND;TZID=America/New_York:20260527T143000
DTSTAMP:20260419T084126
CREATED:20260128T181432Z
LAST-MODIFIED:20260128T181726Z
UID:10291492-1779874200-1779892200@stmichaels-litchfield.org
SUMMARY:Church Office Open
DESCRIPTION:
URL:https://stmichaels-litchfield.org/event/church-office-open-14/2026-05-27/
LOCATION:Church Office\, 25 South Street\, Litchfield\, CT\, 06759\, United States
CATEGORIES:Church Office Event
END:VEVENT
BEGIN:VEVENT
DTSTART;TZID=America/New_York:20260527T110000
DTEND;TZID=America/New_York:20260527T133000
DTSTAMP:20260419T084126
CREATED:20231012T152740Z
LAST-MODIFIED:20231012T152740Z
UID:10013909-1779879600-1779888600@stmichaels-litchfield.org
SUMMARY:Greenwoods Counselling All Staff Meeting in the Community House
DESCRIPTION:
URL:https://stmichaels-litchfield.org/event/greenwoods-counselling-all-staff-meeting-in-the-community-house/2026-05-27/
LOCATION:Community House in Library from April 9th forward
CATEGORIES:Greenwoods Counseling
END:VEVENT
BEGIN:VEVENT
DTSTART;TZID=America/New_York:20260527T173000
DTEND;TZID=America/New_York:20260527T180000
DTSTAMP:20260419T084126
CREATED:20260327T155546Z
LAST-MODIFIED:20260327T155546Z
UID:10294445-1779903000-1779904800@stmichaels-litchfield.org
SUMMARY:Chanted Evening Prayer
DESCRIPTION:
URL:https://stmichaels-litchfield.org/event/chanted-evening-prayer-3/2026-05-27/
LOCATION:Chapel\, 25 South Street\, Litchfield\, CT\, 06759\, United States
CATEGORIES:Church Event
END:VEVENT
END:VCALENDAR