BEGIN:VCALENDAR
VERSION:2.0
PRODID:-//St. Michael&#039;s Church - ECPv6.15.20//NONSGML v1.0//EN
CALSCALE:GREGORIAN
METHOD:PUBLISH
X-WR-CALNAME:St. Michael&#039;s Church
X-ORIGINAL-URL:https://stmichaels-litchfield.org
X-WR-CALDESC:Events for St. Michael&#039;s Church
REFRESH-INTERVAL;VALUE=DURATION:PT1H
X-Robots-Tag:noindex
X-PUBLISHED-TTL:PT1H
BEGIN:VTIMEZONE
TZID:America/New_York
BEGIN:DAYLIGHT
TZOFFSETFROM:-0500
TZOFFSETTO:-0400
TZNAME:EDT
DTSTART:20250309T070000
END:DAYLIGHT
BEGIN:STANDARD
TZOFFSETFROM:-0400
TZOFFSETTO:-0500
TZNAME:EST
DTSTART:20251102T060000
END:STANDARD
BEGIN:DAYLIGHT
TZOFFSETFROM:-0500
TZOFFSETTO:-0400
TZNAME:EDT
DTSTART:20260308T070000
END:DAYLIGHT
BEGIN:STANDARD
TZOFFSETFROM:-0400
TZOFFSETTO:-0500
TZNAME:EST
DTSTART:20261101T060000
END:STANDARD
BEGIN:DAYLIGHT
TZOFFSETFROM:-0500
TZOFFSETTO:-0400
TZNAME:EDT
DTSTART:20270314T070000
END:DAYLIGHT
BEGIN:STANDARD
TZOFFSETFROM:-0400
TZOFFSETTO:-0500
TZNAME:EST
DTSTART:20271107T060000
END:STANDARD
END:VTIMEZONE
BEGIN:VEVENT
DTSTART;TZID=America/New_York:20260714T093000
DTEND;TZID=America/New_York:20260714T143000
DTSTAMP:20260419T140607
CREATED:20260128T181432Z
LAST-MODIFIED:20260128T181726Z
UID:10291519-1784021400-1784039400@stmichaels-litchfield.org
SUMMARY:Church Office Open
DESCRIPTION:
URL:https://stmichaels-litchfield.org/event/church-office-open-14/2026-07-14/
LOCATION:Church Office\, 25 South Street\, Litchfield\, CT\, 06759\, United States
CATEGORIES:Church Office Event
END:VEVENT
BEGIN:VEVENT
DTSTART;TZID=America/New_York:20260714T120000
DTEND;TZID=America/New_York:20260714T130000
DTSTAMP:20260419T140607
CREATED:20260223T205039Z
LAST-MODIFIED:20260223T205039Z
UID:10293169-1784030400-1784034000@stmichaels-litchfield.org
SUMMARY:Lunch with Meredith
DESCRIPTION:
URL:https://stmichaels-litchfield.org/event/lunch-with-meredith-2/2026-07-14/
LOCATION:Community House in Library from April 9th forward
CATEGORIES:Church Event,Parish Events
END:VEVENT
BEGIN:VEVENT
DTSTART;TZID=America/New_York:20260714T151500
DTEND;TZID=America/New_York:20260714T163000
DTSTAMP:20260419T140607
CREATED:20260223T204456Z
LAST-MODIFIED:20260304T185946Z
UID:10293557-1784042100-1784046600@stmichaels-litchfield.org
SUMMARY:Property Committee meeting in Parish House Library
DESCRIPTION:
URL:https://stmichaels-litchfield.org/event/property-committee-meeting-in-parish-house-library-4/2026-07-14/
LOCATION:Parish House Library\, 25 South Street\, Litchfield\, CT\, 06759\, United States
CATEGORIES:Church Event
END:VEVENT
BEGIN:VEVENT
DTSTART;TZID=America/New_York:20260714T160000
DTEND;TZID=America/New_York:20260714T173000
DTSTAMP:20260419T140607
CREATED:20260331T205128Z
LAST-MODIFIED:20260331T205254Z
UID:10294711-1784044800-1784050200@stmichaels-litchfield.org
SUMMARY:Priest Search Committee
DESCRIPTION:
URL:https://stmichaels-litchfield.org/event/priest-search-committee-3-2-5/2026-07-14/
LOCATION:Parish House Library\, 25 South Street\, Litchfield\, CT\, 06759\, United States
END:VEVENT
BEGIN:VEVENT
DTSTART;TZID=America/New_York:20260714T190000
DTEND;TZID=America/New_York:20260714T200000
DTSTAMP:20260419T140607
CREATED:20211108T175914Z
LAST-MODIFIED:20260130T014621Z
UID:10010117-1784055600-1784059200@stmichaels-litchfield.org
SUMMARY:AA Meeting in Community House
DESCRIPTION:
URL:https://stmichaels-litchfield.org/event/aa-group-in-community-house-2/2026-07-14/
LOCATION:Community House in Library from April 9th forward
CATEGORIES:AA/NA Events
END:VEVENT
BEGIN:VEVENT
DTSTART;TZID=America/New_York:20260715T070000
DTEND;TZID=America/New_York:20260715T073000
DTSTAMP:20260419T140607
CREATED:20230606T184551Z
LAST-MODIFIED:20230619T142647Z
UID:10006155-1784098800-1784100600@stmichaels-litchfield.org
SUMMARY:AA Meeting in the Parish House Library
DESCRIPTION:
URL:https://stmichaels-litchfield.org/event/aa-meeting-in-the-library/2026-07-15/
LOCATION:Parish House Library\, 25 South Street\, Litchfield\, CT\, 06759\, United States
CATEGORIES:AA/NA Events
END:VEVENT
BEGIN:VEVENT
DTSTART;TZID=America/New_York:20260715T083000
DTEND;TZID=America/New_York:20260715T110000
DTSTAMP:20260419T140607
CREATED:20250109T152013Z
LAST-MODIFIED:20250109T152013Z
UID:10019455-1784104200-1784113200@stmichaels-litchfield.org
SUMMARY:Greenwoods Counseling
DESCRIPTION:
URL:https://stmichaels-litchfield.org/event/greenwoods-counseling-7/2026-07-15/
LOCATION:CT
CATEGORIES:Greenwoods Counseling
END:VEVENT
BEGIN:VEVENT
DTSTART;TZID=America/New_York:20260715T093000
DTEND;TZID=America/New_York:20260715T143000
DTSTAMP:20260419T140607
CREATED:20260128T181432Z
LAST-MODIFIED:20260128T181726Z
UID:10291520-1784107800-1784125800@stmichaels-litchfield.org
SUMMARY:Church Office Open
DESCRIPTION:
URL:https://stmichaels-litchfield.org/event/church-office-open-14/2026-07-15/
LOCATION:Church Office\, 25 South Street\, Litchfield\, CT\, 06759\, United States
CATEGORIES:Church Office Event
END:VEVENT
BEGIN:VEVENT
DTSTART;TZID=America/New_York:20260715T173000
DTEND;TZID=America/New_York:20260715T180000
DTSTAMP:20260419T140607
CREATED:20260327T155546Z
LAST-MODIFIED:20260327T155546Z
UID:10294452-1784136600-1784138400@stmichaels-litchfield.org
SUMMARY:Chanted Evening Prayer
DESCRIPTION:
URL:https://stmichaels-litchfield.org/event/chanted-evening-prayer-3/2026-07-15/
LOCATION:Chapel\, 25 South Street\, Litchfield\, CT\, 06759\, United States
CATEGORIES:Church Event
END:VEVENT
BEGIN:VEVENT
DTSTART;TZID=America/New_York:20260715T190000
DTEND;TZID=America/New_York:20260715T203000
DTSTAMP:20260419T140607
CREATED:20230817T183342Z
LAST-MODIFIED:20230817T183342Z
UID:10013147-1784142000-1784147400@stmichaels-litchfield.org
SUMMARY:Choir Rehearsal in Parish House Music Room
DESCRIPTION:
URL:https://stmichaels-litchfield.org/event/choir-rehearsal-in-parish-house-music-room/2026-07-15/
LOCATION:Parish House Music Room
CATEGORIES:Church Event
END:VEVENT
BEGIN:VEVENT
DTSTART;TZID=America/New_York:20260715T193000
DTEND;TZID=America/New_York:20260715T210000
DTSTAMP:20260419T140607
CREATED:20211108T180816Z
LAST-MODIFIED:20230714T003135Z
UID:10012471-1784143800-1784149200@stmichaels-litchfield.org
SUMMARY:NA meeting in Community House
DESCRIPTION:
URL:https://stmichaels-litchfield.org/event/narcotics-anonymous/2026-07-15/
LOCATION:Community House in Library from April 9th forward
CATEGORIES:AA/NA Events
END:VEVENT
BEGIN:VEVENT
DTSTART;TZID=America/New_York:20260716T093000
DTEND;TZID=America/New_York:20260716T143000
DTSTAMP:20260419T140607
CREATED:20260128T181432Z
LAST-MODIFIED:20260128T181726Z
UID:10291521-1784194200-1784212200@stmichaels-litchfield.org
SUMMARY:Church Office Open
DESCRIPTION:
URL:https://stmichaels-litchfield.org/event/church-office-open-14/2026-07-16/
LOCATION:Church Office\, 25 South Street\, Litchfield\, CT\, 06759\, United States
CATEGORIES:Church Office Event
END:VEVENT
BEGIN:VEVENT
DTSTART;TZID=America/New_York:20260716T143000
DTEND;TZID=America/New_York:20260716T163000
DTSTAMP:20260419T140607
CREATED:20260224T180134Z
LAST-MODIFIED:20260325T134517Z
UID:10293250-1784212200-1784219400@stmichaels-litchfield.org
SUMMARY:Italian Club in Library
DESCRIPTION:
URL:https://stmichaels-litchfield.org/event/italian-club-5-2/2026-07-16/
LOCATION:Community House in Library from April 9th forward
CATEGORIES:Other Groups
END:VEVENT
BEGIN:VEVENT
DTSTART;TZID=America/New_York:20260717T070000
DTEND;TZID=America/New_York:20260717T073000
DTSTAMP:20260419T140607
CREATED:20230606T184551Z
LAST-MODIFIED:20230619T142647Z
UID:10006156-1784271600-1784273400@stmichaels-litchfield.org
SUMMARY:AA Meeting in the Parish House Library
DESCRIPTION:
URL:https://stmichaels-litchfield.org/event/aa-meeting-in-the-library/2026-07-17/
LOCATION:Parish House Library\, 25 South Street\, Litchfield\, CT\, 06759\, United States
CATEGORIES:AA/NA Events
END:VEVENT
BEGIN:VEVENT
DTSTART;TZID=America/New_York:20260717T083000
DTEND;TZID=America/New_York:20260717T120000
DTSTAMP:20260419T140607
CREATED:20251209T160716Z
LAST-MODIFIED:20251209T160716Z
UID:10288514-1784277000-1784289600@stmichaels-litchfield.org
SUMMARY:SMC Food Pantry
DESCRIPTION:
URL:https://stmichaels-litchfield.org/event/smc-food-pantry/2026-07-17/
LOCATION:Community House in Library from April 9th forward
CATEGORIES:Food Pantry
ORGANIZER;CN="Deborah Ford":MAILTO:deborahfoord@gmail.com
END:VEVENT
BEGIN:VEVENT
DTSTART;TZID=America/New_York:20260717T093000
DTEND;TZID=America/New_York:20260717T143000
DTSTAMP:20260419T140607
CREATED:20260128T181432Z
LAST-MODIFIED:20260128T181726Z
UID:10291522-1784280600-1784298600@stmichaels-litchfield.org
SUMMARY:Church Office Open
DESCRIPTION:
URL:https://stmichaels-litchfield.org/event/church-office-open-14/2026-07-17/
LOCATION:Church Office\, 25 South Street\, Litchfield\, CT\, 06759\, United States
CATEGORIES:Church Office Event
END:VEVENT
BEGIN:VEVENT
DTSTART;TZID=America/New_York:20260717T133000
DTEND;TZID=America/New_York:20260717T153000
DTSTAMP:20260419T140607
CREATED:20260224T175355Z
LAST-MODIFIED:20260224T175356Z
UID:10293237-1784295000-1784302200@stmichaels-litchfield.org
SUMMARY:Italian Club in Library
DESCRIPTION:
URL:https://stmichaels-litchfield.org/event/italian-club-6-2/2026-07-17/
LOCATION:Community House in Library from April 9th forward
CATEGORIES:Other Groups
END:VEVENT
BEGIN:VEVENT
DTSTART;TZID=America/New_York:20260718T083000
DTEND;TZID=America/New_York:20260718T093000
DTSTAMP:20260419T140607
CREATED:20230619T143626Z
LAST-MODIFIED:20230619T143720Z
UID:10010724-1784363400-1784367000@stmichaels-litchfield.org
SUMMARY:AA Meeting in Parish House Library
DESCRIPTION:
URL:https://stmichaels-litchfield.org/event/aa-meeting-in-community-house-2/2026-07-18/
LOCATION:Community House in Library from April 9th forward
CATEGORIES:AA/NA Events
END:VEVENT
BEGIN:VEVENT
DTSTART;TZID=America/New_York:20260719T080000
DTEND;TZID=America/New_York:20260719T090000
DTSTAMP:20260419T140607
CREATED:20211108T181651Z
LAST-MODIFIED:20260327T134504Z
UID:10020415-1784448000-1784451600@stmichaels-litchfield.org
SUMMARY:Eucharist\, Rite I
DESCRIPTION:Spoken\, no music
URL:https://stmichaels-litchfield.org/event/sunday-eucharist/2026-07-19/
LOCATION:Chapel\, 25 South Street\, Litchfield\, CT\, 06759\, United States
CATEGORIES:Church Event,Parish Events
END:VEVENT
BEGIN:VEVENT
DTSTART;TZID=America/New_York:20260719T100000
DTEND;TZID=America/New_York:20260719T110000
DTSTAMP:20260419T140607
CREATED:20250403T150154Z
LAST-MODIFIED:20250806T192031Z
UID:10012730-1784455200-1784458800@stmichaels-litchfield.org
SUMMARY:Sunday Eucharist\, Rite II
DESCRIPTION:Rite II with music \nFollowed by Coffee Hour in the Community House
URL:https://stmichaels-litchfield.org/event/sunday-eucharist-2-3/2026-07-19/
LOCATION:Church and Community House
CATEGORIES:Church Event,Parish Events
END:VEVENT
BEGIN:VEVENT
DTSTART;TZID=America/New_York:20260719T110000
DTEND;TZID=America/New_York:20260719T140000
DTSTAMP:20260419T140607
CREATED:20230711T182541Z
LAST-MODIFIED:20250806T192214Z
UID:10012069-1784458800-1784469600@stmichaels-litchfield.org
SUMMARY:Coffee and Fellowship in the Community House
DESCRIPTION:
URL:https://stmichaels-litchfield.org/event/coffee-and-congregation-in-the-community-house/2026-07-19/
LOCATION:Community House in Library from April 9th forward
CATEGORIES:Church Event
END:VEVENT
BEGIN:VEVENT
DTSTART;TZID=America/New_York:20260719T190000
DTEND;TZID=America/New_York:20260719T200000
DTSTAMP:20260419T140607
CREATED:20230619T142544Z
LAST-MODIFIED:20260416T160049Z
UID:10009914-1784487600-1784491200@stmichaels-litchfield.org
SUMMARY:AA Meeting in Community House
DESCRIPTION:
URL:https://stmichaels-litchfield.org/event/aa-meeting-in-community-house/2026-07-19/
LOCATION:Community House in Library from April 9th forward
END:VEVENT
BEGIN:VEVENT
DTSTART;VALUE=DATE:20260720
DTEND;VALUE=DATE:20260721
DTSTAMP:20260419T140607
CREATED:20260128T181321Z
LAST-MODIFIED:20260128T181322Z
UID:10291165-1784505600-1784591999@stmichaels-litchfield.org
SUMMARY:Church Office Closed
DESCRIPTION:
URL:https://stmichaels-litchfield.org/event/summer-schedule-church-office-closed-2-2-2-3/2026-07-20/
LOCATION:Church Office\, 25 South Street\, Litchfield\, CT\, 06759\, United States
CATEGORIES:Church Office Event
END:VEVENT
BEGIN:VEVENT
DTSTART;TZID=America/New_York:20260720T070000
DTEND;TZID=America/New_York:20260720T073000
DTSTAMP:20260419T140607
CREATED:20230606T184551Z
LAST-MODIFIED:20230619T142647Z
UID:10006157-1784530800-1784532600@stmichaels-litchfield.org
SUMMARY:AA Meeting in the Parish House Library
DESCRIPTION:
URL:https://stmichaels-litchfield.org/event/aa-meeting-in-the-library/2026-07-20/
LOCATION:Parish House Library\, 25 South Street\, Litchfield\, CT\, 06759\, United States
CATEGORIES:AA/NA Events
END:VEVENT
BEGIN:VEVENT
DTSTART;TZID=America/New_York:20260720T200000
DTEND;TZID=America/New_York:20260720T213000
DTSTAMP:20260419T140607
CREATED:20260218T173517Z
LAST-MODIFIED:20260218T173517Z
UID:10292588-1784577600-1784583000@stmichaels-litchfield.org
SUMMARY:AA meeting in the Community House
DESCRIPTION:
URL:https://stmichaels-litchfield.org/event/aa-meeting-in-the-community-house-2/2026-07-20/
LOCATION:CT
END:VEVENT
BEGIN:VEVENT
DTSTART;TZID=America/New_York:20260721T093000
DTEND;TZID=America/New_York:20260721T143000
DTSTAMP:20260419T140607
CREATED:20260128T181432Z
LAST-MODIFIED:20260128T181726Z
UID:10291523-1784626200-1784644200@stmichaels-litchfield.org
SUMMARY:Church Office Open
DESCRIPTION:
URL:https://stmichaels-litchfield.org/event/church-office-open-14/2026-07-21/
LOCATION:Church Office\, 25 South Street\, Litchfield\, CT\, 06759\, United States
CATEGORIES:Church Office Event
END:VEVENT
BEGIN:VEVENT
DTSTART;TZID=America/New_York:20260721T160000
DTEND;TZID=America/New_York:20260721T173000
DTSTAMP:20260419T140607
CREATED:20260331T205128Z
LAST-MODIFIED:20260331T205254Z
UID:10294712-1784649600-1784655000@stmichaels-litchfield.org
SUMMARY:Priest Search Committee
DESCRIPTION:
URL:https://stmichaels-litchfield.org/event/priest-search-committee-3-2-5/2026-07-21/
LOCATION:Parish House Library\, 25 South Street\, Litchfield\, CT\, 06759\, United States
END:VEVENT
BEGIN:VEVENT
DTSTART;TZID=America/New_York:20260721T190000
DTEND;TZID=America/New_York:20260721T200000
DTSTAMP:20260419T140607
CREATED:20211108T175914Z
LAST-MODIFIED:20260130T014621Z
UID:10010118-1784660400-1784664000@stmichaels-litchfield.org
SUMMARY:AA Meeting in Community House
DESCRIPTION:
URL:https://stmichaels-litchfield.org/event/aa-group-in-community-house-2/2026-07-21/
LOCATION:Community House in Library from April 9th forward
CATEGORIES:AA/NA Events
END:VEVENT
BEGIN:VEVENT
DTSTART;TZID=America/New_York:20260722T070000
DTEND;TZID=America/New_York:20260722T073000
DTSTAMP:20260419T140607
CREATED:20230606T184551Z
LAST-MODIFIED:20230619T142647Z
UID:10006158-1784703600-1784705400@stmichaels-litchfield.org
SUMMARY:AA Meeting in the Parish House Library
DESCRIPTION:
URL:https://stmichaels-litchfield.org/event/aa-meeting-in-the-library/2026-07-22/
LOCATION:Parish House Library\, 25 South Street\, Litchfield\, CT\, 06759\, United States
CATEGORIES:AA/NA Events
END:VEVENT
BEGIN:VEVENT
DTSTART;TZID=America/New_York:20260722T083000
DTEND;TZID=America/New_York:20260722T110000
DTSTAMP:20260419T140607
CREATED:20250109T152013Z
LAST-MODIFIED:20250109T152013Z
UID:10019456-1784709000-1784718000@stmichaels-litchfield.org
SUMMARY:Greenwoods Counseling
DESCRIPTION:
URL:https://stmichaels-litchfield.org/event/greenwoods-counseling-7/2026-07-22/
LOCATION:CT
CATEGORIES:Greenwoods Counseling
END:VEVENT
END:VCALENDAR