BEGIN:VCALENDAR
VERSION:2.0
PRODID:-//St. Michael&#039;s Church - ECPv6.15.20//NONSGML v1.0//EN
CALSCALE:GREGORIAN
METHOD:PUBLISH
X-WR-CALNAME:St. Michael&#039;s Church
X-ORIGINAL-URL:https://stmichaels-litchfield.org
X-WR-CALDESC:Events for St. Michael&#039;s Church
REFRESH-INTERVAL;VALUE=DURATION:PT1H
X-Robots-Tag:noindex
X-PUBLISHED-TTL:PT1H
BEGIN:VTIMEZONE
TZID:America/New_York
BEGIN:DAYLIGHT
TZOFFSETFROM:-0500
TZOFFSETTO:-0400
TZNAME:EDT
DTSTART:20250309T070000
END:DAYLIGHT
BEGIN:STANDARD
TZOFFSETFROM:-0400
TZOFFSETTO:-0500
TZNAME:EST
DTSTART:20251102T060000
END:STANDARD
BEGIN:DAYLIGHT
TZOFFSETFROM:-0500
TZOFFSETTO:-0400
TZNAME:EDT
DTSTART:20260308T070000
END:DAYLIGHT
BEGIN:STANDARD
TZOFFSETFROM:-0400
TZOFFSETTO:-0500
TZNAME:EST
DTSTART:20261101T060000
END:STANDARD
BEGIN:DAYLIGHT
TZOFFSETFROM:-0500
TZOFFSETTO:-0400
TZNAME:EDT
DTSTART:20270314T070000
END:DAYLIGHT
BEGIN:STANDARD
TZOFFSETFROM:-0400
TZOFFSETTO:-0500
TZNAME:EST
DTSTART:20271107T060000
END:STANDARD
END:VTIMEZONE
BEGIN:VEVENT
DTSTART;TZID=America/New_York:20261201T093000
DTEND;TZID=America/New_York:20261201T143000
DTSTAMP:20260419T203828
CREATED:20260128T181432Z
LAST-MODIFIED:20260128T181726Z
UID:10291599-1796117400-1796135400@stmichaels-litchfield.org
SUMMARY:Church Office Open
DESCRIPTION:
URL:https://stmichaels-litchfield.org/event/church-office-open-14/2026-12-01/
LOCATION:Church Office\, 25 South Street\, Litchfield\, CT\, 06759\, United States
CATEGORIES:Church Office Event
END:VEVENT
BEGIN:VEVENT
DTSTART;TZID=America/New_York:20261201T160000
DTEND;TZID=America/New_York:20261201T173000
DTSTAMP:20260419T203828
CREATED:20260331T205128Z
LAST-MODIFIED:20260331T205254Z
UID:10294731-1796140800-1796146200@stmichaels-litchfield.org
SUMMARY:Priest Search Committee
DESCRIPTION:
URL:https://stmichaels-litchfield.org/event/priest-search-committee-3-2-5/2026-12-01/
LOCATION:Parish House Library\, 25 South Street\, Litchfield\, CT\, 06759\, United States
END:VEVENT
BEGIN:VEVENT
DTSTART;TZID=America/New_York:20261201T171500
DTEND;TZID=America/New_York:20261201T183000
DTSTAMP:20260419T203829
CREATED:20231227T151453Z
LAST-MODIFIED:20260317T155826Z
UID:10293645-1796145300-1796149800@stmichaels-litchfield.org
SUMMARY:Property Committee Meeting in Parish House Library
DESCRIPTION:
URL:https://stmichaels-litchfield.org/event/property-committee-meeting-in-parish-house-library-3/2026-12-01/
LOCATION:Parish House Library\, 25 South Street\, Litchfield\, CT\, 06759\, United States
CATEGORIES:Church Event
END:VEVENT
BEGIN:VEVENT
DTSTART;TZID=America/New_York:20261201T190000
DTEND;TZID=America/New_York:20261201T200000
DTSTAMP:20260419T203829
CREATED:20211108T175914Z
LAST-MODIFIED:20260130T014621Z
UID:10010137-1796151600-1796155200@stmichaels-litchfield.org
SUMMARY:AA Meeting in Community House
DESCRIPTION:
URL:https://stmichaels-litchfield.org/event/aa-group-in-community-house-2/2026-12-01/
LOCATION:Community House in Library from April 9th forward
CATEGORIES:AA/NA Events
END:VEVENT
BEGIN:VEVENT
DTSTART;TZID=America/New_York:20261202T070000
DTEND;TZID=America/New_York:20261202T073000
DTSTAMP:20260419T203829
CREATED:20230606T184551Z
LAST-MODIFIED:20230619T142647Z
UID:10006215-1796194800-1796196600@stmichaels-litchfield.org
SUMMARY:AA Meeting in the Parish House Library
DESCRIPTION:
URL:https://stmichaels-litchfield.org/event/aa-meeting-in-the-library/2026-12-02/
LOCATION:Parish House Library\, 25 South Street\, Litchfield\, CT\, 06759\, United States
CATEGORIES:AA/NA Events
END:VEVENT
BEGIN:VEVENT
DTSTART;TZID=America/New_York:20261202T083000
DTEND;TZID=America/New_York:20261202T110000
DTSTAMP:20260419T203829
CREATED:20250109T152013Z
LAST-MODIFIED:20250109T152013Z
UID:10019475-1796200200-1796209200@stmichaels-litchfield.org
SUMMARY:Greenwoods Counseling
DESCRIPTION:
URL:https://stmichaels-litchfield.org/event/greenwoods-counseling-7/2026-12-02/
LOCATION:CT
CATEGORIES:Greenwoods Counseling
END:VEVENT
BEGIN:VEVENT
DTSTART;TZID=America/New_York:20261202T093000
DTEND;TZID=America/New_York:20261202T143000
DTSTAMP:20260419T203829
CREATED:20260128T181432Z
LAST-MODIFIED:20260128T181726Z
UID:10291600-1796203800-1796221800@stmichaels-litchfield.org
SUMMARY:Church Office Open
DESCRIPTION:
URL:https://stmichaels-litchfield.org/event/church-office-open-14/2026-12-02/
LOCATION:Church Office\, 25 South Street\, Litchfield\, CT\, 06759\, United States
CATEGORIES:Church Office Event
END:VEVENT
BEGIN:VEVENT
DTSTART;TZID=America/New_York:20261202T173000
DTEND;TZID=America/New_York:20261202T180000
DTSTAMP:20260419T203829
CREATED:20260327T155546Z
LAST-MODIFIED:20260327T155546Z
UID:10294472-1796232600-1796234400@stmichaels-litchfield.org
SUMMARY:Chanted Evening Prayer
DESCRIPTION:
URL:https://stmichaels-litchfield.org/event/chanted-evening-prayer-3/2026-12-02/
LOCATION:Chapel\, 25 South Street\, Litchfield\, CT\, 06759\, United States
CATEGORIES:Church Event
END:VEVENT
BEGIN:VEVENT
DTSTART;TZID=America/New_York:20261202T190000
DTEND;TZID=America/New_York:20261202T203000
DTSTAMP:20260419T203829
CREATED:20230817T183342Z
LAST-MODIFIED:20230817T183342Z
UID:10013167-1796238000-1796243400@stmichaels-litchfield.org
SUMMARY:Choir Rehearsal in Parish House Music Room
DESCRIPTION:
URL:https://stmichaels-litchfield.org/event/choir-rehearsal-in-parish-house-music-room/2026-12-02/
LOCATION:Parish House Music Room
CATEGORIES:Church Event
END:VEVENT
BEGIN:VEVENT
DTSTART;TZID=America/New_York:20261202T193000
DTEND;TZID=America/New_York:20261202T210000
DTSTAMP:20260419T203829
CREATED:20211108T180816Z
LAST-MODIFIED:20230714T003135Z
UID:10012491-1796239800-1796245200@stmichaels-litchfield.org
SUMMARY:NA meeting in Community House
DESCRIPTION:
URL:https://stmichaels-litchfield.org/event/narcotics-anonymous/2026-12-02/
LOCATION:Community House in Library from April 9th forward
CATEGORIES:AA/NA Events
END:VEVENT
BEGIN:VEVENT
DTSTART;TZID=America/New_York:20261203T093000
DTEND;TZID=America/New_York:20261203T143000
DTSTAMP:20260419T203829
CREATED:20260128T181432Z
LAST-MODIFIED:20260128T181726Z
UID:10291601-1796290200-1796308200@stmichaels-litchfield.org
SUMMARY:Church Office Open
DESCRIPTION:
URL:https://stmichaels-litchfield.org/event/church-office-open-14/2026-12-03/
LOCATION:Church Office\, 25 South Street\, Litchfield\, CT\, 06759\, United States
CATEGORIES:Church Office Event
END:VEVENT
BEGIN:VEVENT
DTSTART;TZID=America/New_York:20261203T190000
DTEND;TZID=America/New_York:20261203T220000
DTSTAMP:20260419T203829
CREATED:20230810T152445Z
LAST-MODIFIED:20230823T141209Z
UID:10012928-1796324400-1796335200@stmichaels-litchfield.org
SUMMARY:SOTG Board meeting in the Parish House Library
DESCRIPTION:
URL:https://stmichaels-litchfield.org/event/sotg-board-meeting-2/2026-12-03/
LOCATION:Parish House Library\, 25 South Street\, Litchfield\, CT\, 06759\, United States
CATEGORIES:School on the Green Event
END:VEVENT
BEGIN:VEVENT
DTSTART;TZID=America/New_York:20261204T070000
DTEND;TZID=America/New_York:20261204T073000
DTSTAMP:20260419T203829
CREATED:20230606T184551Z
LAST-MODIFIED:20230619T142647Z
UID:10006216-1796367600-1796369400@stmichaels-litchfield.org
SUMMARY:AA Meeting in the Parish House Library
DESCRIPTION:
URL:https://stmichaels-litchfield.org/event/aa-meeting-in-the-library/2026-12-04/
LOCATION:Parish House Library\, 25 South Street\, Litchfield\, CT\, 06759\, United States
CATEGORIES:AA/NA Events
END:VEVENT
BEGIN:VEVENT
DTSTART;TZID=America/New_York:20261204T093000
DTEND;TZID=America/New_York:20261204T143000
DTSTAMP:20260419T203829
CREATED:20260128T181432Z
LAST-MODIFIED:20260128T181726Z
UID:10291602-1796376600-1796394600@stmichaels-litchfield.org
SUMMARY:Church Office Open
DESCRIPTION:
URL:https://stmichaels-litchfield.org/event/church-office-open-14/2026-12-04/
LOCATION:Church Office\, 25 South Street\, Litchfield\, CT\, 06759\, United States
CATEGORIES:Church Office Event
END:VEVENT
BEGIN:VEVENT
DTSTART;TZID=America/New_York:20261205T083000
DTEND;TZID=America/New_York:20261205T093000
DTSTAMP:20260419T203829
CREATED:20230619T143626Z
LAST-MODIFIED:20230619T143720Z
UID:10010744-1796459400-1796463000@stmichaels-litchfield.org
SUMMARY:AA Meeting in Parish House Library
DESCRIPTION:
URL:https://stmichaels-litchfield.org/event/aa-meeting-in-community-house-2/2026-12-05/
LOCATION:Community House in Library from April 9th forward
CATEGORIES:AA/NA Events
END:VEVENT
BEGIN:VEVENT
DTSTART;TZID=America/New_York:20261206T080000
DTEND;TZID=America/New_York:20261206T090000
DTSTAMP:20260419T203829
CREATED:20211108T181651Z
LAST-MODIFIED:20260327T134504Z
UID:10020435-1796544000-1796547600@stmichaels-litchfield.org
SUMMARY:Eucharist\, Rite I
DESCRIPTION:Spoken\, no music
URL:https://stmichaels-litchfield.org/event/sunday-eucharist/2026-12-06/
LOCATION:Chapel\, 25 South Street\, Litchfield\, CT\, 06759\, United States
CATEGORIES:Church Event,Parish Events
END:VEVENT
BEGIN:VEVENT
DTSTART;TZID=America/New_York:20261206T100000
DTEND;TZID=America/New_York:20261206T110000
DTSTAMP:20260419T203829
CREATED:20250403T150154Z
LAST-MODIFIED:20250806T192031Z
UID:10012750-1796551200-1796554800@stmichaels-litchfield.org
SUMMARY:Sunday Eucharist\, Rite II
DESCRIPTION:Rite II with music \nFollowed by Coffee Hour in the Community House
URL:https://stmichaels-litchfield.org/event/sunday-eucharist-2-3/2026-12-06/
LOCATION:Church and Community House
CATEGORIES:Church Event,Parish Events
END:VEVENT
BEGIN:VEVENT
DTSTART;TZID=America/New_York:20261206T110000
DTEND;TZID=America/New_York:20261206T140000
DTSTAMP:20260419T203829
CREATED:20230711T182541Z
LAST-MODIFIED:20250806T192214Z
UID:10012089-1796554800-1796565600@stmichaels-litchfield.org
SUMMARY:Coffee and Fellowship in the Community House
DESCRIPTION:
URL:https://stmichaels-litchfield.org/event/coffee-and-congregation-in-the-community-house/2026-12-06/
LOCATION:Community House in Library from April 9th forward
CATEGORIES:Church Event
END:VEVENT
BEGIN:VEVENT
DTSTART;TZID=America/New_York:20261206T190000
DTEND;TZID=America/New_York:20261206T200000
DTSTAMP:20260419T203829
CREATED:20230619T142544Z
LAST-MODIFIED:20260416T160049Z
UID:10009934-1796583600-1796587200@stmichaels-litchfield.org
SUMMARY:AA Meeting in Community House
DESCRIPTION:
URL:https://stmichaels-litchfield.org/event/aa-meeting-in-community-house/2026-12-06/
LOCATION:Community House in Library from April 9th forward
END:VEVENT
BEGIN:VEVENT
DTSTART;VALUE=DATE:20261207
DTEND;VALUE=DATE:20261208
DTSTAMP:20260419T203829
CREATED:20260128T181321Z
LAST-MODIFIED:20260128T181322Z
UID:10291185-1796601600-1796687999@stmichaels-litchfield.org
SUMMARY:Church Office Closed
DESCRIPTION:
URL:https://stmichaels-litchfield.org/event/summer-schedule-church-office-closed-2-2-2-3/2026-12-07/
LOCATION:Church Office\, 25 South Street\, Litchfield\, CT\, 06759\, United States
CATEGORIES:Church Office Event
END:VEVENT
BEGIN:VEVENT
DTSTART;TZID=America/New_York:20261207T070000
DTEND;TZID=America/New_York:20261207T073000
DTSTAMP:20260419T203829
CREATED:20230606T184551Z
LAST-MODIFIED:20230619T142647Z
UID:10006217-1796626800-1796628600@stmichaels-litchfield.org
SUMMARY:AA Meeting in the Parish House Library
DESCRIPTION:
URL:https://stmichaels-litchfield.org/event/aa-meeting-in-the-library/2026-12-07/
LOCATION:Parish House Library\, 25 South Street\, Litchfield\, CT\, 06759\, United States
CATEGORIES:AA/NA Events
END:VEVENT
BEGIN:VEVENT
DTSTART;TZID=America/New_York:20261207T200000
DTEND;TZID=America/New_York:20261207T213000
DTSTAMP:20260419T203829
CREATED:20260218T173517Z
LAST-MODIFIED:20260218T173517Z
UID:10292608-1796673600-1796679000@stmichaels-litchfield.org
SUMMARY:AA meeting in the Community House
DESCRIPTION:
URL:https://stmichaels-litchfield.org/event/aa-meeting-in-the-community-house-2/2026-12-07/
LOCATION:CT
END:VEVENT
BEGIN:VEVENT
DTSTART;TZID=America/New_York:20261208T093000
DTEND;TZID=America/New_York:20261208T143000
DTSTAMP:20260419T203829
CREATED:20260128T181432Z
LAST-MODIFIED:20260128T181726Z
UID:10291603-1796722200-1796740200@stmichaels-litchfield.org
SUMMARY:Church Office Open
DESCRIPTION:
URL:https://stmichaels-litchfield.org/event/church-office-open-14/2026-12-08/
LOCATION:Church Office\, 25 South Street\, Litchfield\, CT\, 06759\, United States
CATEGORIES:Church Office Event
END:VEVENT
BEGIN:VEVENT
DTSTART;TZID=America/New_York:20261208T120000
DTEND;TZID=America/New_York:20261208T130000
DTSTAMP:20260419T203829
CREATED:20260223T205039Z
LAST-MODIFIED:20260223T205039Z
UID:10293174-1796731200-1796734800@stmichaels-litchfield.org
SUMMARY:Lunch with Meredith
DESCRIPTION:
URL:https://stmichaels-litchfield.org/event/lunch-with-meredith-2/2026-12-08/
LOCATION:Community House in Library from April 9th forward
CATEGORIES:Church Event,Parish Events
END:VEVENT
BEGIN:VEVENT
DTSTART;TZID=America/New_York:20261208T151500
DTEND;TZID=America/New_York:20261208T163000
DTSTAMP:20260419T203829
CREATED:20260223T204456Z
LAST-MODIFIED:20260304T185946Z
UID:10293562-1796742900-1796747400@stmichaels-litchfield.org
SUMMARY:Property Committee meeting in Parish House Library
DESCRIPTION:
URL:https://stmichaels-litchfield.org/event/property-committee-meeting-in-parish-house-library-4/2026-12-08/
LOCATION:Parish House Library\, 25 South Street\, Litchfield\, CT\, 06759\, United States
CATEGORIES:Church Event
END:VEVENT
BEGIN:VEVENT
DTSTART;TZID=America/New_York:20261208T160000
DTEND;TZID=America/New_York:20261208T173000
DTSTAMP:20260419T203829
CREATED:20260331T205128Z
LAST-MODIFIED:20260331T205254Z
UID:10294732-1796745600-1796751000@stmichaels-litchfield.org
SUMMARY:Priest Search Committee
DESCRIPTION:
URL:https://stmichaels-litchfield.org/event/priest-search-committee-3-2-5/2026-12-08/
LOCATION:Parish House Library\, 25 South Street\, Litchfield\, CT\, 06759\, United States
END:VEVENT
BEGIN:VEVENT
DTSTART;TZID=America/New_York:20261208T190000
DTEND;TZID=America/New_York:20261208T200000
DTSTAMP:20260419T203829
CREATED:20211108T175914Z
LAST-MODIFIED:20260130T014621Z
UID:10010138-1796756400-1796760000@stmichaels-litchfield.org
SUMMARY:AA Meeting in Community House
DESCRIPTION:
URL:https://stmichaels-litchfield.org/event/aa-group-in-community-house-2/2026-12-08/
LOCATION:Community House in Library from April 9th forward
CATEGORIES:AA/NA Events
END:VEVENT
BEGIN:VEVENT
DTSTART;TZID=America/New_York:20261209T070000
DTEND;TZID=America/New_York:20261209T073000
DTSTAMP:20260419T203829
CREATED:20230606T184551Z
LAST-MODIFIED:20230619T142647Z
UID:10006218-1796799600-1796801400@stmichaels-litchfield.org
SUMMARY:AA Meeting in the Parish House Library
DESCRIPTION:
URL:https://stmichaels-litchfield.org/event/aa-meeting-in-the-library/2026-12-09/
LOCATION:Parish House Library\, 25 South Street\, Litchfield\, CT\, 06759\, United States
CATEGORIES:AA/NA Events
END:VEVENT
BEGIN:VEVENT
DTSTART;TZID=America/New_York:20261209T083000
DTEND;TZID=America/New_York:20261209T110000
DTSTAMP:20260419T203829
CREATED:20250109T152013Z
LAST-MODIFIED:20250109T152013Z
UID:10019476-1796805000-1796814000@stmichaels-litchfield.org
SUMMARY:Greenwoods Counseling
DESCRIPTION:
URL:https://stmichaels-litchfield.org/event/greenwoods-counseling-7/2026-12-09/
LOCATION:CT
CATEGORIES:Greenwoods Counseling
END:VEVENT
BEGIN:VEVENT
DTSTART;TZID=America/New_York:20261209T093000
DTEND;TZID=America/New_York:20261209T143000
DTSTAMP:20260419T203829
CREATED:20260128T181432Z
LAST-MODIFIED:20260128T181726Z
UID:10291604-1796808600-1796826600@stmichaels-litchfield.org
SUMMARY:Church Office Open
DESCRIPTION:
URL:https://stmichaels-litchfield.org/event/church-office-open-14/2026-12-09/
LOCATION:Church Office\, 25 South Street\, Litchfield\, CT\, 06759\, United States
CATEGORIES:Church Office Event
END:VEVENT
END:VCALENDAR