BEGIN:VCALENDAR
VERSION:2.0
PRODID:-//St. Michael&#039;s Church - ECPv6.15.20//NONSGML v1.0//EN
CALSCALE:GREGORIAN
METHOD:PUBLISH
X-WR-CALNAME:St. Michael&#039;s Church
X-ORIGINAL-URL:https://stmichaels-litchfield.org
X-WR-CALDESC:Events for St. Michael&#039;s Church
REFRESH-INTERVAL;VALUE=DURATION:PT1H
X-Robots-Tag:noindex
X-PUBLISHED-TTL:PT1H
BEGIN:VTIMEZONE
TZID:America/New_York
BEGIN:DAYLIGHT
TZOFFSETFROM:-0500
TZOFFSETTO:-0400
TZNAME:EDT
DTSTART:20250309T070000
END:DAYLIGHT
BEGIN:STANDARD
TZOFFSETFROM:-0400
TZOFFSETTO:-0500
TZNAME:EST
DTSTART:20251102T060000
END:STANDARD
BEGIN:DAYLIGHT
TZOFFSETFROM:-0500
TZOFFSETTO:-0400
TZNAME:EDT
DTSTART:20260308T070000
END:DAYLIGHT
BEGIN:STANDARD
TZOFFSETFROM:-0400
TZOFFSETTO:-0500
TZNAME:EST
DTSTART:20261101T060000
END:STANDARD
BEGIN:DAYLIGHT
TZOFFSETFROM:-0500
TZOFFSETTO:-0400
TZNAME:EDT
DTSTART:20270314T070000
END:DAYLIGHT
BEGIN:STANDARD
TZOFFSETFROM:-0400
TZOFFSETTO:-0500
TZNAME:EST
DTSTART:20271107T060000
END:STANDARD
END:VTIMEZONE
BEGIN:VEVENT
DTSTART;TZID=America/New_York:20261212T083000
DTEND;TZID=America/New_York:20261212T093000
DTSTAMP:20260419T234427
CREATED:20230619T143626Z
LAST-MODIFIED:20230619T143720Z
UID:10010745-1797064200-1797067800@stmichaels-litchfield.org
SUMMARY:AA Meeting in Parish House Library
DESCRIPTION:
URL:https://stmichaels-litchfield.org/event/aa-meeting-in-community-house-2/2026-12-12/
LOCATION:Community House in Library from April 9th forward
CATEGORIES:AA/NA Events
END:VEVENT
BEGIN:VEVENT
DTSTART;TZID=America/New_York:20261213T080000
DTEND;TZID=America/New_York:20261213T090000
DTSTAMP:20260419T234427
CREATED:20211108T181651Z
LAST-MODIFIED:20260327T134504Z
UID:10020436-1797148800-1797152400@stmichaels-litchfield.org
SUMMARY:Eucharist\, Rite I
DESCRIPTION:Spoken\, no music
URL:https://stmichaels-litchfield.org/event/sunday-eucharist/2026-12-13/
LOCATION:Chapel\, 25 South Street\, Litchfield\, CT\, 06759\, United States
CATEGORIES:Church Event,Parish Events
END:VEVENT
BEGIN:VEVENT
DTSTART;TZID=America/New_York:20261213T100000
DTEND;TZID=America/New_York:20261213T110000
DTSTAMP:20260419T234427
CREATED:20250403T150154Z
LAST-MODIFIED:20250806T192031Z
UID:10012751-1797156000-1797159600@stmichaels-litchfield.org
SUMMARY:Sunday Eucharist\, Rite II
DESCRIPTION:Rite II with music \nFollowed by Coffee Hour in the Community House
URL:https://stmichaels-litchfield.org/event/sunday-eucharist-2-3/2026-12-13/
LOCATION:Church and Community House
CATEGORIES:Church Event,Parish Events
END:VEVENT
BEGIN:VEVENT
DTSTART;TZID=America/New_York:20261213T110000
DTEND;TZID=America/New_York:20261213T140000
DTSTAMP:20260419T234427
CREATED:20230711T182541Z
LAST-MODIFIED:20250806T192214Z
UID:10012090-1797159600-1797170400@stmichaels-litchfield.org
SUMMARY:Coffee and Fellowship in the Community House
DESCRIPTION:
URL:https://stmichaels-litchfield.org/event/coffee-and-congregation-in-the-community-house/2026-12-13/
LOCATION:Community House in Library from April 9th forward
CATEGORIES:Church Event
END:VEVENT
BEGIN:VEVENT
DTSTART;TZID=America/New_York:20261213T112000
DTEND;TZID=America/New_York:20261213T123000
DTSTAMP:20260419T234427
CREATED:20260408T170910Z
LAST-MODIFIED:20260408T170910Z
UID:10296051-1797160800-1797165000@stmichaels-litchfield.org
SUMMARY:Vestry Meeting
DESCRIPTION:
URL:https://stmichaels-litchfield.org/event/vestry-meeting-4/2026-12-13/
LOCATION:CT
CATEGORIES:Church Event,Parish Events
END:VEVENT
BEGIN:VEVENT
DTSTART;TZID=America/New_York:20261213T190000
DTEND;TZID=America/New_York:20261213T200000
DTSTAMP:20260419T234427
CREATED:20230619T142544Z
LAST-MODIFIED:20260416T160049Z
UID:10009935-1797188400-1797192000@stmichaels-litchfield.org
SUMMARY:AA Meeting in Community House
DESCRIPTION:
URL:https://stmichaels-litchfield.org/event/aa-meeting-in-community-house/2026-12-13/
LOCATION:Community House in Library from April 9th forward
END:VEVENT
BEGIN:VEVENT
DTSTART;VALUE=DATE:20261214
DTEND;VALUE=DATE:20261215
DTSTAMP:20260419T234427
CREATED:20260128T181321Z
LAST-MODIFIED:20260128T181322Z
UID:10291186-1797206400-1797292799@stmichaels-litchfield.org
SUMMARY:Church Office Closed
DESCRIPTION:
URL:https://stmichaels-litchfield.org/event/summer-schedule-church-office-closed-2-2-2-3/2026-12-14/
LOCATION:Church Office\, 25 South Street\, Litchfield\, CT\, 06759\, United States
CATEGORIES:Church Office Event
END:VEVENT
BEGIN:VEVENT
DTSTART;TZID=America/New_York:20261214T070000
DTEND;TZID=America/New_York:20261214T073000
DTSTAMP:20260419T234427
CREATED:20230606T184551Z
LAST-MODIFIED:20230619T142647Z
UID:10006220-1797231600-1797233400@stmichaels-litchfield.org
SUMMARY:AA Meeting in the Parish House Library
DESCRIPTION:
URL:https://stmichaels-litchfield.org/event/aa-meeting-in-the-library/2026-12-14/
LOCATION:Parish House Library\, 25 South Street\, Litchfield\, CT\, 06759\, United States
CATEGORIES:AA/NA Events
END:VEVENT
BEGIN:VEVENT
DTSTART;TZID=America/New_York:20261214T200000
DTEND;TZID=America/New_York:20261214T213000
DTSTAMP:20260419T234427
CREATED:20260218T173517Z
LAST-MODIFIED:20260218T173517Z
UID:10292609-1797278400-1797283800@stmichaels-litchfield.org
SUMMARY:AA meeting in the Community House
DESCRIPTION:
URL:https://stmichaels-litchfield.org/event/aa-meeting-in-the-community-house-2/2026-12-14/
LOCATION:CT
END:VEVENT
BEGIN:VEVENT
DTSTART;TZID=America/New_York:20261215T093000
DTEND;TZID=America/New_York:20261215T143000
DTSTAMP:20260419T234427
CREATED:20260128T181432Z
LAST-MODIFIED:20260128T181726Z
UID:10291607-1797327000-1797345000@stmichaels-litchfield.org
SUMMARY:Church Office Open
DESCRIPTION:
URL:https://stmichaels-litchfield.org/event/church-office-open-14/2026-12-15/
LOCATION:Church Office\, 25 South Street\, Litchfield\, CT\, 06759\, United States
CATEGORIES:Church Office Event
END:VEVENT
BEGIN:VEVENT
DTSTART;TZID=America/New_York:20261215T160000
DTEND;TZID=America/New_York:20261215T173000
DTSTAMP:20260419T234427
CREATED:20260331T205128Z
LAST-MODIFIED:20260331T205254Z
UID:10294733-1797350400-1797355800@stmichaels-litchfield.org
SUMMARY:Priest Search Committee
DESCRIPTION:
URL:https://stmichaels-litchfield.org/event/priest-search-committee-3-2-5/2026-12-15/
LOCATION:Parish House Library\, 25 South Street\, Litchfield\, CT\, 06759\, United States
END:VEVENT
BEGIN:VEVENT
DTSTART;TZID=America/New_York:20261215T190000
DTEND;TZID=America/New_York:20261215T200000
DTSTAMP:20260419T234427
CREATED:20211108T175914Z
LAST-MODIFIED:20260130T014621Z
UID:10010139-1797361200-1797364800@stmichaels-litchfield.org
SUMMARY:AA Meeting in Community House
DESCRIPTION:
URL:https://stmichaels-litchfield.org/event/aa-group-in-community-house-2/2026-12-15/
LOCATION:Community House in Library from April 9th forward
CATEGORIES:AA/NA Events
END:VEVENT
BEGIN:VEVENT
DTSTART;TZID=America/New_York:20261216T070000
DTEND;TZID=America/New_York:20261216T073000
DTSTAMP:20260419T234427
CREATED:20230606T184551Z
LAST-MODIFIED:20230619T142647Z
UID:10006221-1797404400-1797406200@stmichaels-litchfield.org
SUMMARY:AA Meeting in the Parish House Library
DESCRIPTION:
URL:https://stmichaels-litchfield.org/event/aa-meeting-in-the-library/2026-12-16/
LOCATION:Parish House Library\, 25 South Street\, Litchfield\, CT\, 06759\, United States
CATEGORIES:AA/NA Events
END:VEVENT
BEGIN:VEVENT
DTSTART;TZID=America/New_York:20261216T083000
DTEND;TZID=America/New_York:20261216T110000
DTSTAMP:20260419T234427
CREATED:20250109T152013Z
LAST-MODIFIED:20250109T152013Z
UID:10019477-1797409800-1797418800@stmichaels-litchfield.org
SUMMARY:Greenwoods Counseling
DESCRIPTION:
URL:https://stmichaels-litchfield.org/event/greenwoods-counseling-7/2026-12-16/
LOCATION:CT
CATEGORIES:Greenwoods Counseling
END:VEVENT
BEGIN:VEVENT
DTSTART;TZID=America/New_York:20261216T093000
DTEND;TZID=America/New_York:20261216T143000
DTSTAMP:20260419T234427
CREATED:20260128T181432Z
LAST-MODIFIED:20260128T181726Z
UID:10291608-1797413400-1797431400@stmichaels-litchfield.org
SUMMARY:Church Office Open
DESCRIPTION:
URL:https://stmichaels-litchfield.org/event/church-office-open-14/2026-12-16/
LOCATION:Church Office\, 25 South Street\, Litchfield\, CT\, 06759\, United States
CATEGORIES:Church Office Event
END:VEVENT
BEGIN:VEVENT
DTSTART;TZID=America/New_York:20261216T173000
DTEND;TZID=America/New_York:20261216T180000
DTSTAMP:20260419T234427
CREATED:20260327T155546Z
LAST-MODIFIED:20260327T155546Z
UID:10294474-1797442200-1797444000@stmichaels-litchfield.org
SUMMARY:Chanted Evening Prayer
DESCRIPTION:
URL:https://stmichaels-litchfield.org/event/chanted-evening-prayer-3/2026-12-16/
LOCATION:Chapel\, 25 South Street\, Litchfield\, CT\, 06759\, United States
CATEGORIES:Church Event
END:VEVENT
BEGIN:VEVENT
DTSTART;TZID=America/New_York:20261216T190000
DTEND;TZID=America/New_York:20261216T203000
DTSTAMP:20260419T234427
CREATED:20230817T183342Z
LAST-MODIFIED:20230817T183342Z
UID:10013169-1797447600-1797453000@stmichaels-litchfield.org
SUMMARY:Choir Rehearsal in Parish House Music Room
DESCRIPTION:
URL:https://stmichaels-litchfield.org/event/choir-rehearsal-in-parish-house-music-room/2026-12-16/
LOCATION:Parish House Music Room
CATEGORIES:Church Event
END:VEVENT
BEGIN:VEVENT
DTSTART;TZID=America/New_York:20261216T193000
DTEND;TZID=America/New_York:20261216T210000
DTSTAMP:20260419T234427
CREATED:20211108T180816Z
LAST-MODIFIED:20230714T003135Z
UID:10012493-1797449400-1797454800@stmichaels-litchfield.org
SUMMARY:NA meeting in Community House
DESCRIPTION:
URL:https://stmichaels-litchfield.org/event/narcotics-anonymous/2026-12-16/
LOCATION:Community House in Library from April 9th forward
CATEGORIES:AA/NA Events
END:VEVENT
BEGIN:VEVENT
DTSTART;TZID=America/New_York:20261217T093000
DTEND;TZID=America/New_York:20261217T143000
DTSTAMP:20260419T234427
CREATED:20260128T181432Z
LAST-MODIFIED:20260128T181726Z
UID:10291609-1797499800-1797517800@stmichaels-litchfield.org
SUMMARY:Church Office Open
DESCRIPTION:
URL:https://stmichaels-litchfield.org/event/church-office-open-14/2026-12-17/
LOCATION:Church Office\, 25 South Street\, Litchfield\, CT\, 06759\, United States
CATEGORIES:Church Office Event
END:VEVENT
BEGIN:VEVENT
DTSTART;TZID=America/New_York:20261218T070000
DTEND;TZID=America/New_York:20261218T073000
DTSTAMP:20260419T234427
CREATED:20230606T184551Z
LAST-MODIFIED:20230619T142647Z
UID:10006222-1797577200-1797579000@stmichaels-litchfield.org
SUMMARY:AA Meeting in the Parish House Library
DESCRIPTION:
URL:https://stmichaels-litchfield.org/event/aa-meeting-in-the-library/2026-12-18/
LOCATION:Parish House Library\, 25 South Street\, Litchfield\, CT\, 06759\, United States
CATEGORIES:AA/NA Events
END:VEVENT
BEGIN:VEVENT
DTSTART;TZID=America/New_York:20261218T080000
DTEND;TZID=America/New_York:20261218T170000
DTSTAMP:20260419T234427
CREATED:20250804T171243Z
LAST-MODIFIED:20250804T171243Z
UID:10287226-1797580800-1797613200@stmichaels-litchfield.org
SUMMARY:School on the Green Holiday Show
DESCRIPTION:
URL:https://stmichaels-litchfield.org/event/school-on-the-green-holiday-show-2/2026-12-18/1/
LOCATION:Community House in Library from April 9th forward
CATEGORIES:School on the Green Event
END:VEVENT
BEGIN:VEVENT
DTSTART;TZID=America/New_York:20261218T083000
DTEND;TZID=America/New_York:20261218T120000
DTSTAMP:20260419T234427
CREATED:20251209T160716Z
LAST-MODIFIED:20251209T160716Z
UID:10288519-1797582600-1797595200@stmichaels-litchfield.org
SUMMARY:SMC Food Pantry
DESCRIPTION:
URL:https://stmichaels-litchfield.org/event/smc-food-pantry/2026-12-18/
LOCATION:Community House in Library from April 9th forward
CATEGORIES:Food Pantry
ORGANIZER;CN="Deborah Ford":MAILTO:deborahfoord@gmail.com
END:VEVENT
BEGIN:VEVENT
DTSTART;TZID=America/New_York:20261218T090000
DTEND;TZID=America/New_York:20261218T140000
DTSTAMP:20260419T234427
CREATED:20250804T171243Z
LAST-MODIFIED:20250804T171243Z
UID:10287227-1797584400-1797602400@stmichaels-litchfield.org
SUMMARY:School on the Green Holiday Show
DESCRIPTION:
URL:https://stmichaels-litchfield.org/event/school-on-the-green-holiday-show-2/2026-12-18/2/
LOCATION:Community House in Library from April 9th forward
CATEGORIES:School on the Green Event
END:VEVENT
BEGIN:VEVENT
DTSTART;TZID=America/New_York:20261218T093000
DTEND;TZID=America/New_York:20261218T143000
DTSTAMP:20260419T234427
CREATED:20260128T181432Z
LAST-MODIFIED:20260128T181726Z
UID:10291610-1797586200-1797604200@stmichaels-litchfield.org
SUMMARY:Church Office Open
DESCRIPTION:
URL:https://stmichaels-litchfield.org/event/church-office-open-14/2026-12-18/
LOCATION:Church Office\, 25 South Street\, Litchfield\, CT\, 06759\, United States
CATEGORIES:Church Office Event
END:VEVENT
BEGIN:VEVENT
DTSTART;TZID=America/New_York:20261219T083000
DTEND;TZID=America/New_York:20261219T093000
DTSTAMP:20260419T234427
CREATED:20230619T143626Z
LAST-MODIFIED:20230619T143720Z
UID:10010746-1797669000-1797672600@stmichaels-litchfield.org
SUMMARY:AA Meeting in Parish House Library
DESCRIPTION:
URL:https://stmichaels-litchfield.org/event/aa-meeting-in-community-house-2/2026-12-19/
LOCATION:Community House in Library from April 9th forward
CATEGORIES:AA/NA Events
END:VEVENT
BEGIN:VEVENT
DTSTART;TZID=America/New_York:20261219T090000
DTEND;TZID=America/New_York:20261219T140000
DTSTAMP:20260419T234427
CREATED:20250804T171351Z
LAST-MODIFIED:20250804T171351Z
UID:10287228-1797670800-1797688800@stmichaels-litchfield.org
SUMMARY:School on the Green Holiday Show
DESCRIPTION:
URL:https://stmichaels-litchfield.org/event/school-on-the-green-holiday-show-3/
LOCATION:Community House in Library from April 9th forward
CATEGORIES:School on the Green Event
END:VEVENT
BEGIN:VEVENT
DTSTART;TZID=America/New_York:20261219T140000
DTEND;TZID=America/New_York:20261219T153000
DTSTAMP:20260419T234427
CREATED:20260319T142759Z
LAST-MODIFIED:20260319T142759Z
UID:10293699-1797688800-1797694200@stmichaels-litchfield.org
SUMMARY:Christmas Angelicus Rehearsal and Warm Up in the Church
DESCRIPTION:
URL:https://stmichaels-litchfield.org/event/christmas-angelicus-rehearsal-and-warm-up-in-the-church/
LOCATION:Church\, 25 South Street\, Litchfield\, CT\, 06759\, United States
END:VEVENT
BEGIN:VEVENT
DTSTART;TZID=America/New_York:20261219T160000
DTEND;TZID=America/New_York:20261219T183000
DTSTAMP:20260419T234427
CREATED:20260319T142955Z
LAST-MODIFIED:20260319T142955Z
UID:10293700-1797696000-1797705000@stmichaels-litchfield.org
SUMMARY:Christmas Angelicus Concert in the Church
DESCRIPTION:Contact Kathy Weisser 860-716-9684
URL:https://stmichaels-litchfield.org/event/christmas-angelicus-concert-in-the-church/
LOCATION:Church Office\, 25 South Street\, Litchfield\, CT\, 06759\, United States
END:VEVENT
BEGIN:VEVENT
DTSTART;TZID=America/New_York:20261220T080000
DTEND;TZID=America/New_York:20261220T090000
DTSTAMP:20260419T234427
CREATED:20211108T181651Z
LAST-MODIFIED:20260327T134504Z
UID:10020437-1797753600-1797757200@stmichaels-litchfield.org
SUMMARY:Eucharist\, Rite I
DESCRIPTION:Spoken\, no music
URL:https://stmichaels-litchfield.org/event/sunday-eucharist/2026-12-20/
LOCATION:Chapel\, 25 South Street\, Litchfield\, CT\, 06759\, United States
CATEGORIES:Church Event,Parish Events
END:VEVENT
BEGIN:VEVENT
DTSTART;TZID=America/New_York:20261220T100000
DTEND;TZID=America/New_York:20261220T110000
DTSTAMP:20260419T234427
CREATED:20250403T150154Z
LAST-MODIFIED:20250806T192031Z
UID:10012752-1797760800-1797764400@stmichaels-litchfield.org
SUMMARY:Sunday Eucharist\, Rite II
DESCRIPTION:Rite II with music \nFollowed by Coffee Hour in the Community House
URL:https://stmichaels-litchfield.org/event/sunday-eucharist-2-3/2026-12-20/
LOCATION:Church and Community House
CATEGORIES:Church Event,Parish Events
END:VEVENT
END:VCALENDAR