BEGIN:VCALENDAR
VERSION:2.0
PRODID:-//St. Michael&#039;s Church - ECPv6.15.20//NONSGML v1.0//EN
CALSCALE:GREGORIAN
METHOD:PUBLISH
X-WR-CALNAME:St. Michael&#039;s Church
X-ORIGINAL-URL:https://stmichaels-litchfield.org
X-WR-CALDESC:Events for St. Michael&#039;s Church
REFRESH-INTERVAL;VALUE=DURATION:PT1H
X-Robots-Tag:noindex
X-PUBLISHED-TTL:PT1H
BEGIN:VTIMEZONE
TZID:America/New_York
BEGIN:DAYLIGHT
TZOFFSETFROM:-0500
TZOFFSETTO:-0400
TZNAME:EDT
DTSTART:20260308T070000
END:DAYLIGHT
BEGIN:STANDARD
TZOFFSETFROM:-0400
TZOFFSETTO:-0500
TZNAME:EST
DTSTART:20261101T060000
END:STANDARD
BEGIN:DAYLIGHT
TZOFFSETFROM:-0500
TZOFFSETTO:-0400
TZNAME:EDT
DTSTART:20270314T070000
END:DAYLIGHT
BEGIN:STANDARD
TZOFFSETFROM:-0400
TZOFFSETTO:-0500
TZNAME:EST
DTSTART:20271107T060000
END:STANDARD
BEGIN:DAYLIGHT
TZOFFSETFROM:-0500
TZOFFSETTO:-0400
TZNAME:EDT
DTSTART:20280312T070000
END:DAYLIGHT
BEGIN:STANDARD
TZOFFSETFROM:-0400
TZOFFSETTO:-0500
TZNAME:EST
DTSTART:20281105T060000
END:STANDARD
END:VTIMEZONE
BEGIN:VEVENT
DTSTART;TZID=America/New_York:20270914T093000
DTEND;TZID=America/New_York:20270914T143000
DTSTAMP:20260422T175549
CREATED:20260128T181432Z
LAST-MODIFIED:20260128T181726Z
UID:10291763-1820914200-1820932200@stmichaels-litchfield.org
SUMMARY:Church Office Open
DESCRIPTION:
URL:https://stmichaels-litchfield.org/event/church-office-open-14/2027-09-14/
LOCATION:Church Office\, 25 South Street\, Litchfield\, CT\, 06759\, United States
CATEGORIES:Church Office Event
END:VEVENT
BEGIN:VEVENT
DTSTART;TZID=America/New_York:20270914T120000
DTEND;TZID=America/New_York:20270914T130000
DTSTAMP:20260422T175549
CREATED:20260223T205039Z
LAST-MODIFIED:20260223T205039Z
UID:10293183-1820923200-1820926800@stmichaels-litchfield.org
SUMMARY:Lunch with Meredith
DESCRIPTION:
URL:https://stmichaels-litchfield.org/event/lunch-with-meredith-2/2027-09-14/
LOCATION:Community House in Library from April 9th forward
CATEGORIES:Church Event,Parish Events
END:VEVENT
BEGIN:VEVENT
DTSTART;TZID=America/New_York:20270914T151500
DTEND;TZID=America/New_York:20270914T163000
DTSTAMP:20260422T175549
CREATED:20260223T204456Z
LAST-MODIFIED:20260304T185946Z
UID:10293571-1820934900-1820939400@stmichaels-litchfield.org
SUMMARY:Property Committee meeting in Parish House Library
DESCRIPTION:
URL:https://stmichaels-litchfield.org/event/property-committee-meeting-in-parish-house-library-4/2027-09-14/
LOCATION:Parish House Library\, 25 South Street\, Litchfield\, CT\, 06759\, United States
CATEGORIES:Church Event
END:VEVENT
BEGIN:VEVENT
DTSTART;TZID=America/New_York:20270914T160000
DTEND;TZID=America/New_York:20270914T173000
DTSTAMP:20260422T175549
CREATED:20260331T205128Z
LAST-MODIFIED:20260331T205254Z
UID:10294772-1820937600-1820943000@stmichaels-litchfield.org
SUMMARY:Priest Search Committee
DESCRIPTION:
URL:https://stmichaels-litchfield.org/event/priest-search-committee-3-2-5/2027-09-14/
LOCATION:Parish House Library\, 25 South Street\, Litchfield\, CT\, 06759\, United States
END:VEVENT
BEGIN:VEVENT
DTSTART;TZID=America/New_York:20270914T190000
DTEND;TZID=America/New_York:20270914T200000
DTSTAMP:20260422T175549
CREATED:20211108T175914Z
LAST-MODIFIED:20260130T014621Z
UID:10010178-1820948400-1820952000@stmichaels-litchfield.org
SUMMARY:AA Meeting in Community House
DESCRIPTION:
URL:https://stmichaels-litchfield.org/event/aa-group-in-community-house-2/2027-09-14/
LOCATION:Community House in Library from April 9th forward
CATEGORIES:AA/NA Events
END:VEVENT
BEGIN:VEVENT
DTSTART;TZID=America/New_York:20270915T070000
DTEND;TZID=America/New_York:20270915T073000
DTSTAMP:20260422T175549
CREATED:20230606T184551Z
LAST-MODIFIED:20230619T142647Z
UID:10006338-1820991600-1820993400@stmichaels-litchfield.org
SUMMARY:AA Meeting in the Parish House Library
DESCRIPTION:
URL:https://stmichaels-litchfield.org/event/aa-meeting-in-the-library/2027-09-15/
LOCATION:Parish House Library\, 25 South Street\, Litchfield\, CT\, 06759\, United States
CATEGORIES:AA/NA Events
END:VEVENT
BEGIN:VEVENT
DTSTART;TZID=America/New_York:20270915T083000
DTEND;TZID=America/New_York:20270915T110000
DTSTAMP:20260422T175549
CREATED:20250109T152013Z
LAST-MODIFIED:20250109T152013Z
UID:10019516-1820997000-1821006000@stmichaels-litchfield.org
SUMMARY:Greenwoods Counseling
DESCRIPTION:
URL:https://stmichaels-litchfield.org/event/greenwoods-counseling-7/2027-09-15/
LOCATION:CT
CATEGORIES:Greenwoods Counseling
END:VEVENT
BEGIN:VEVENT
DTSTART;TZID=America/New_York:20270915T093000
DTEND;TZID=America/New_York:20270915T143000
DTSTAMP:20260422T175549
CREATED:20260128T181432Z
LAST-MODIFIED:20260128T181726Z
UID:10291764-1821000600-1821018600@stmichaels-litchfield.org
SUMMARY:Church Office Open
DESCRIPTION:
URL:https://stmichaels-litchfield.org/event/church-office-open-14/2027-09-15/
LOCATION:Church Office\, 25 South Street\, Litchfield\, CT\, 06759\, United States
CATEGORIES:Church Office Event
END:VEVENT
BEGIN:VEVENT
DTSTART;TZID=America/New_York:20270915T173000
DTEND;TZID=America/New_York:20270915T180000
DTSTAMP:20260422T175549
CREATED:20260327T155546Z
LAST-MODIFIED:20260422T175057Z
UID:10294513-1821029400-1821031200@stmichaels-litchfield.org
SUMMARY:Chanted Evening Prayer
DESCRIPTION:
URL:https://stmichaels-litchfield.org/event/chanted-evening-prayer-3/2027-09-15/
LOCATION:Chapel\, 25 South Street\, Litchfield\, CT\, 06759\, United States
CATEGORIES:Church Event
END:VEVENT
BEGIN:VEVENT
DTSTART;TZID=America/New_York:20270915T190000
DTEND;TZID=America/New_York:20270915T203000
DTSTAMP:20260422T175549
CREATED:20230817T183342Z
LAST-MODIFIED:20230817T183342Z
UID:10013208-1821034800-1821040200@stmichaels-litchfield.org
SUMMARY:Choir Rehearsal in Parish House Music Room
DESCRIPTION:
URL:https://stmichaels-litchfield.org/event/choir-rehearsal-in-parish-house-music-room/2027-09-15/
LOCATION:Parish House Music Room
CATEGORIES:Church Event
END:VEVENT
BEGIN:VEVENT
DTSTART;TZID=America/New_York:20270915T193000
DTEND;TZID=America/New_York:20270915T210000
DTSTAMP:20260422T175549
CREATED:20211108T180816Z
LAST-MODIFIED:20230714T003135Z
UID:10012532-1821036600-1821042000@stmichaels-litchfield.org
SUMMARY:NA meeting in Community House
DESCRIPTION:
URL:https://stmichaels-litchfield.org/event/narcotics-anonymous/2027-09-15/
LOCATION:Community House in Library from April 9th forward
CATEGORIES:AA/NA Events
END:VEVENT
BEGIN:VEVENT
DTSTART;TZID=America/New_York:20270916T093000
DTEND;TZID=America/New_York:20270916T143000
DTSTAMP:20260422T175549
CREATED:20260128T181432Z
LAST-MODIFIED:20260128T181726Z
UID:10291765-1821087000-1821105000@stmichaels-litchfield.org
SUMMARY:Church Office Open
DESCRIPTION:
URL:https://stmichaels-litchfield.org/event/church-office-open-14/2027-09-16/
LOCATION:Church Office\, 25 South Street\, Litchfield\, CT\, 06759\, United States
CATEGORIES:Church Office Event
END:VEVENT
BEGIN:VEVENT
DTSTART;TZID=America/New_York:20270917T070000
DTEND;TZID=America/New_York:20270917T073000
DTSTAMP:20260422T175549
CREATED:20230606T184551Z
LAST-MODIFIED:20230619T142647Z
UID:10006339-1821164400-1821166200@stmichaels-litchfield.org
SUMMARY:AA Meeting in the Parish House Library
DESCRIPTION:
URL:https://stmichaels-litchfield.org/event/aa-meeting-in-the-library/2027-09-17/
LOCATION:Parish House Library\, 25 South Street\, Litchfield\, CT\, 06759\, United States
CATEGORIES:AA/NA Events
END:VEVENT
BEGIN:VEVENT
DTSTART;TZID=America/New_York:20270917T093000
DTEND;TZID=America/New_York:20270917T143000
DTSTAMP:20260422T175549
CREATED:20260128T181432Z
LAST-MODIFIED:20260128T181726Z
UID:10291766-1821173400-1821191400@stmichaels-litchfield.org
SUMMARY:Church Office Open
DESCRIPTION:
URL:https://stmichaels-litchfield.org/event/church-office-open-14/2027-09-17/
LOCATION:Church Office\, 25 South Street\, Litchfield\, CT\, 06759\, United States
CATEGORIES:Church Office Event
END:VEVENT
BEGIN:VEVENT
DTSTART;TZID=America/New_York:20270918T083000
DTEND;TZID=America/New_York:20270918T093000
DTSTAMP:20260422T175549
CREATED:20230619T143626Z
LAST-MODIFIED:20230619T143720Z
UID:10010785-1821256200-1821259800@stmichaels-litchfield.org
SUMMARY:AA Meeting in Parish House Library
DESCRIPTION:
URL:https://stmichaels-litchfield.org/event/aa-meeting-in-community-house-2/2027-09-18/
LOCATION:Community House in Library from April 9th forward
CATEGORIES:AA/NA Events
END:VEVENT
BEGIN:VEVENT
DTSTART;TZID=America/New_York:20270919T080000
DTEND;TZID=America/New_York:20270919T090000
DTSTAMP:20260422T175549
CREATED:20211108T181651Z
LAST-MODIFIED:20260327T134504Z
UID:10020476-1821340800-1821344400@stmichaels-litchfield.org
SUMMARY:Eucharist\, Rite I
DESCRIPTION:Spoken\, no music
URL:https://stmichaels-litchfield.org/event/sunday-eucharist/2027-09-19/
LOCATION:Chapel\, 25 South Street\, Litchfield\, CT\, 06759\, United States
CATEGORIES:Church Event,Parish Events
END:VEVENT
BEGIN:VEVENT
DTSTART;TZID=America/New_York:20270919T100000
DTEND;TZID=America/New_York:20270919T110000
DTSTAMP:20260422T175549
CREATED:20250403T150154Z
LAST-MODIFIED:20260422T181447Z
UID:10012791-1821348000-1821351600@stmichaels-litchfield.org
SUMMARY:Sunday Eucharist\, Rite II
DESCRIPTION:Rite II with music \nFollowed by Coffee Hour in the Community House
URL:https://stmichaels-litchfield.org/event/sunday-eucharist-2-3/2027-09-19/
LOCATION:Church\, 25 South Street\, Litchfield\, CT\, 06759\, United States
CATEGORIES:Church Event,Parish Events
END:VEVENT
BEGIN:VEVENT
DTSTART;TZID=America/New_York:20270919T110000
DTEND;TZID=America/New_York:20270919T140000
DTSTAMP:20260422T175549
CREATED:20230711T182541Z
LAST-MODIFIED:20250806T192214Z
UID:10012130-1821351600-1821362400@stmichaels-litchfield.org
SUMMARY:Coffee and Fellowship in the Community House
DESCRIPTION:
URL:https://stmichaels-litchfield.org/event/coffee-and-congregation-in-the-community-house/2027-09-19/
LOCATION:Community House in Library from April 9th forward
CATEGORIES:Church Event
END:VEVENT
BEGIN:VEVENT
DTSTART;TZID=America/New_York:20270919T190000
DTEND;TZID=America/New_York:20270919T200000
DTSTAMP:20260422T175549
CREATED:20230619T142544Z
LAST-MODIFIED:20260416T160049Z
UID:10009975-1821380400-1821384000@stmichaels-litchfield.org
SUMMARY:AA Meeting in Community House
DESCRIPTION:
URL:https://stmichaels-litchfield.org/event/aa-meeting-in-community-house/2027-09-19/
LOCATION:Community House in Library from April 9th forward
END:VEVENT
BEGIN:VEVENT
DTSTART;VALUE=DATE:20270920
DTEND;VALUE=DATE:20270921
DTSTAMP:20260422T175549
CREATED:20260128T181321Z
LAST-MODIFIED:20260128T181322Z
UID:10291226-1821398400-1821484799@stmichaels-litchfield.org
SUMMARY:Church Office Closed
DESCRIPTION:
URL:https://stmichaels-litchfield.org/event/summer-schedule-church-office-closed-2-2-2-3/2027-09-20/
LOCATION:Church Office\, 25 South Street\, Litchfield\, CT\, 06759\, United States
CATEGORIES:Church Office Event
END:VEVENT
BEGIN:VEVENT
DTSTART;TZID=America/New_York:20270920T070000
DTEND;TZID=America/New_York:20270920T073000
DTSTAMP:20260422T175549
CREATED:20230606T184551Z
LAST-MODIFIED:20230619T142647Z
UID:10006340-1821423600-1821425400@stmichaels-litchfield.org
SUMMARY:AA Meeting in the Parish House Library
DESCRIPTION:
URL:https://stmichaels-litchfield.org/event/aa-meeting-in-the-library/2027-09-20/
LOCATION:Parish House Library\, 25 South Street\, Litchfield\, CT\, 06759\, United States
CATEGORIES:AA/NA Events
END:VEVENT
BEGIN:VEVENT
DTSTART;TZID=America/New_York:20270920T200000
DTEND;TZID=America/New_York:20270920T213000
DTSTAMP:20260422T175549
CREATED:20260218T173517Z
LAST-MODIFIED:20260218T173517Z
UID:10292649-1821470400-1821475800@stmichaels-litchfield.org
SUMMARY:AA meeting in the Community House
DESCRIPTION:
URL:https://stmichaels-litchfield.org/event/aa-meeting-in-the-community-house-2/2027-09-20/
LOCATION:CT
END:VEVENT
BEGIN:VEVENT
DTSTART;TZID=America/New_York:20270921T093000
DTEND;TZID=America/New_York:20270921T143000
DTSTAMP:20260422T175549
CREATED:20260128T181432Z
LAST-MODIFIED:20260128T181726Z
UID:10291767-1821519000-1821537000@stmichaels-litchfield.org
SUMMARY:Church Office Open
DESCRIPTION:
URL:https://stmichaels-litchfield.org/event/church-office-open-14/2027-09-21/
LOCATION:Church Office\, 25 South Street\, Litchfield\, CT\, 06759\, United States
CATEGORIES:Church Office Event
END:VEVENT
BEGIN:VEVENT
DTSTART;TZID=America/New_York:20270921T160000
DTEND;TZID=America/New_York:20270921T173000
DTSTAMP:20260422T175549
CREATED:20260331T205128Z
LAST-MODIFIED:20260331T205254Z
UID:10294773-1821542400-1821547800@stmichaels-litchfield.org
SUMMARY:Priest Search Committee
DESCRIPTION:
URL:https://stmichaels-litchfield.org/event/priest-search-committee-3-2-5/2027-09-21/
LOCATION:Parish House Library\, 25 South Street\, Litchfield\, CT\, 06759\, United States
END:VEVENT
BEGIN:VEVENT
DTSTART;TZID=America/New_York:20270921T190000
DTEND;TZID=America/New_York:20270921T200000
DTSTAMP:20260422T175549
CREATED:20211108T175914Z
LAST-MODIFIED:20260130T014621Z
UID:10010179-1821553200-1821556800@stmichaels-litchfield.org
SUMMARY:AA Meeting in Community House
DESCRIPTION:
URL:https://stmichaels-litchfield.org/event/aa-group-in-community-house-2/2027-09-21/
LOCATION:Community House in Library from April 9th forward
CATEGORIES:AA/NA Events
END:VEVENT
BEGIN:VEVENT
DTSTART;TZID=America/New_York:20270922T070000
DTEND;TZID=America/New_York:20270922T073000
DTSTAMP:20260422T175549
CREATED:20230606T184551Z
LAST-MODIFIED:20230619T142647Z
UID:10006341-1821596400-1821598200@stmichaels-litchfield.org
SUMMARY:AA Meeting in the Parish House Library
DESCRIPTION:
URL:https://stmichaels-litchfield.org/event/aa-meeting-in-the-library/2027-09-22/
LOCATION:Parish House Library\, 25 South Street\, Litchfield\, CT\, 06759\, United States
CATEGORIES:AA/NA Events
END:VEVENT
BEGIN:VEVENT
DTSTART;TZID=America/New_York:20270922T083000
DTEND;TZID=America/New_York:20270922T110000
DTSTAMP:20260422T175549
CREATED:20250109T152013Z
LAST-MODIFIED:20250109T152013Z
UID:10019517-1821601800-1821610800@stmichaels-litchfield.org
SUMMARY:Greenwoods Counseling
DESCRIPTION:
URL:https://stmichaels-litchfield.org/event/greenwoods-counseling-7/2027-09-22/
LOCATION:CT
CATEGORIES:Greenwoods Counseling
END:VEVENT
BEGIN:VEVENT
DTSTART;TZID=America/New_York:20270922T093000
DTEND;TZID=America/New_York:20270922T143000
DTSTAMP:20260422T175549
CREATED:20260128T181432Z
LAST-MODIFIED:20260128T181726Z
UID:10291768-1821605400-1821623400@stmichaels-litchfield.org
SUMMARY:Church Office Open
DESCRIPTION:
URL:https://stmichaels-litchfield.org/event/church-office-open-14/2027-09-22/
LOCATION:Church Office\, 25 South Street\, Litchfield\, CT\, 06759\, United States
CATEGORIES:Church Office Event
END:VEVENT
BEGIN:VEVENT
DTSTART;TZID=America/New_York:20270922T173000
DTEND;TZID=America/New_York:20270922T180000
DTSTAMP:20260422T175549
CREATED:20260327T155546Z
LAST-MODIFIED:20260422T175057Z
UID:10294514-1821634200-1821636000@stmichaels-litchfield.org
SUMMARY:Chanted Evening Prayer
DESCRIPTION:
URL:https://stmichaels-litchfield.org/event/chanted-evening-prayer-3/2027-09-22/
LOCATION:Chapel\, 25 South Street\, Litchfield\, CT\, 06759\, United States
CATEGORIES:Church Event
END:VEVENT
BEGIN:VEVENT
DTSTART;TZID=America/New_York:20270922T190000
DTEND;TZID=America/New_York:20270922T203000
DTSTAMP:20260422T175549
CREATED:20230817T183342Z
LAST-MODIFIED:20230817T183342Z
UID:10013209-1821639600-1821645000@stmichaels-litchfield.org
SUMMARY:Choir Rehearsal in Parish House Music Room
DESCRIPTION:
URL:https://stmichaels-litchfield.org/event/choir-rehearsal-in-parish-house-music-room/2027-09-22/
LOCATION:Parish House Music Room
CATEGORIES:Church Event
END:VEVENT
END:VCALENDAR