BEGIN:VCALENDAR
VERSION:2.0
PRODID:-//St. Michael&#039;s Church - ECPv6.15.20//NONSGML v1.0//EN
CALSCALE:GREGORIAN
METHOD:PUBLISH
X-WR-CALNAME:St. Michael&#039;s Church
X-ORIGINAL-URL:https://stmichaels-litchfield.org
X-WR-CALDESC:Events for St. Michael&#039;s Church
REFRESH-INTERVAL;VALUE=DURATION:PT1H
X-Robots-Tag:noindex
X-PUBLISHED-TTL:PT1H
BEGIN:VTIMEZONE
TZID:America/New_York
BEGIN:DAYLIGHT
TZOFFSETFROM:-0500
TZOFFSETTO:-0400
TZNAME:EDT
DTSTART:20270314T070000
END:DAYLIGHT
BEGIN:STANDARD
TZOFFSETFROM:-0400
TZOFFSETTO:-0500
TZNAME:EST
DTSTART:20271107T060000
END:STANDARD
BEGIN:DAYLIGHT
TZOFFSETFROM:-0500
TZOFFSETTO:-0400
TZNAME:EDT
DTSTART:20280312T070000
END:DAYLIGHT
BEGIN:STANDARD
TZOFFSETFROM:-0400
TZOFFSETTO:-0500
TZNAME:EST
DTSTART:20281105T060000
END:STANDARD
BEGIN:DAYLIGHT
TZOFFSETFROM:-0500
TZOFFSETTO:-0400
TZNAME:EDT
DTSTART:20290311T070000
END:DAYLIGHT
BEGIN:STANDARD
TZOFFSETFROM:-0400
TZOFFSETTO:-0500
TZNAME:EST
DTSTART:20291104T060000
END:STANDARD
END:VTIMEZONE
BEGIN:VEVENT
DTSTART;TZID=America/New_York:20280229T093000
DTEND;TZID=America/New_York:20280229T143000
DTSTAMP:20260423T012523
CREATED:20260128T181432Z
LAST-MODIFIED:20260128T181726Z
UID:10291859-1835429400-1835447400@stmichaels-litchfield.org
SUMMARY:Church Office Open
DESCRIPTION:
URL:https://stmichaels-litchfield.org/event/church-office-open-14/2028-02-29/
LOCATION:Church Office\, 25 South Street\, Litchfield\, CT\, 06759\, United States
CATEGORIES:Church Office Event
END:VEVENT
BEGIN:VEVENT
DTSTART;TZID=America/New_York:20280229T160000
DTEND;TZID=America/New_York:20280229T173000
DTSTAMP:20260423T012523
CREATED:20260331T205128Z
LAST-MODIFIED:20260331T205254Z
UID:10294796-1835452800-1835458200@stmichaels-litchfield.org
SUMMARY:Priest Search Committee
DESCRIPTION:
URL:https://stmichaels-litchfield.org/event/priest-search-committee-3-2-5/2028-02-29/
LOCATION:Parish House Library\, 25 South Street\, Litchfield\, CT\, 06759\, United States
END:VEVENT
BEGIN:VEVENT
DTSTART;TZID=America/New_York:20280229T190000
DTEND;TZID=America/New_York:20280229T200000
DTSTAMP:20260423T012523
CREATED:20211108T175914Z
LAST-MODIFIED:20260130T014621Z
UID:10010202-1835463600-1835467200@stmichaels-litchfield.org
SUMMARY:AA Meeting in Community House
DESCRIPTION:
URL:https://stmichaels-litchfield.org/event/aa-group-in-community-house-2/2028-02-29/
LOCATION:Community House in Library from April 9th forward
CATEGORIES:AA/NA Events
END:VEVENT
BEGIN:VEVENT
DTSTART;TZID=America/New_York:20280301T070000
DTEND;TZID=America/New_York:20280301T073000
DTSTAMP:20260423T012523
CREATED:20230606T184551Z
LAST-MODIFIED:20230619T142647Z
UID:10006410-1835506800-1835508600@stmichaels-litchfield.org
SUMMARY:AA Meeting in the Parish House Library
DESCRIPTION:
URL:https://stmichaels-litchfield.org/event/aa-meeting-in-the-library/2028-03-01/
LOCATION:Parish House Library\, 25 South Street\, Litchfield\, CT\, 06759\, United States
CATEGORIES:AA/NA Events
END:VEVENT
BEGIN:VEVENT
DTSTART;TZID=America/New_York:20280301T083000
DTEND;TZID=America/New_York:20280301T110000
DTSTAMP:20260423T012523
CREATED:20250109T152013Z
LAST-MODIFIED:20250109T152013Z
UID:10019540-1835512200-1835521200@stmichaels-litchfield.org
SUMMARY:Greenwoods Counseling
DESCRIPTION:
URL:https://stmichaels-litchfield.org/event/greenwoods-counseling-7/2028-03-01/
LOCATION:CT
CATEGORIES:Greenwoods Counseling
END:VEVENT
BEGIN:VEVENT
DTSTART;TZID=America/New_York:20280301T093000
DTEND;TZID=America/New_York:20280301T143000
DTSTAMP:20260423T012523
CREATED:20260128T181432Z
LAST-MODIFIED:20260128T181726Z
UID:10291860-1835515800-1835533800@stmichaels-litchfield.org
SUMMARY:Church Office Open
DESCRIPTION:
URL:https://stmichaels-litchfield.org/event/church-office-open-14/2028-03-01/
LOCATION:Church Office\, 25 South Street\, Litchfield\, CT\, 06759\, United States
CATEGORIES:Church Office Event
END:VEVENT
BEGIN:VEVENT
DTSTART;TZID=America/New_York:20280301T173000
DTEND;TZID=America/New_York:20280301T180000
DTSTAMP:20260423T012523
CREATED:20260327T155546Z
LAST-MODIFIED:20260422T175057Z
UID:10294537-1835544600-1835546400@stmichaels-litchfield.org
SUMMARY:Chanted Evening Prayer
DESCRIPTION:
URL:https://stmichaels-litchfield.org/event/chanted-evening-prayer-3/2028-03-01/
LOCATION:Chapel\, 25 South Street\, Litchfield\, CT\, 06759\, United States
CATEGORIES:Church Event
END:VEVENT
BEGIN:VEVENT
DTSTART;TZID=America/New_York:20280301T190000
DTEND;TZID=America/New_York:20280301T203000
DTSTAMP:20260423T012523
CREATED:20230817T183342Z
LAST-MODIFIED:20230817T183342Z
UID:10013232-1835550000-1835555400@stmichaels-litchfield.org
SUMMARY:Choir Rehearsal in Parish House Music Room
DESCRIPTION:
URL:https://stmichaels-litchfield.org/event/choir-rehearsal-in-parish-house-music-room/2028-03-01/
LOCATION:Parish House Music Room
CATEGORIES:Church Event
END:VEVENT
BEGIN:VEVENT
DTSTART;TZID=America/New_York:20280301T193000
DTEND;TZID=America/New_York:20280301T210000
DTSTAMP:20260423T012523
CREATED:20211108T180816Z
LAST-MODIFIED:20230714T003135Z
UID:10012556-1835551800-1835557200@stmichaels-litchfield.org
SUMMARY:NA meeting in Community House
DESCRIPTION:
URL:https://stmichaels-litchfield.org/event/narcotics-anonymous/2028-03-01/
LOCATION:Community House in Library from April 9th forward
CATEGORIES:AA/NA Events
END:VEVENT
BEGIN:VEVENT
DTSTART;TZID=America/New_York:20280302T093000
DTEND;TZID=America/New_York:20280302T143000
DTSTAMP:20260423T012523
CREATED:20260128T181432Z
LAST-MODIFIED:20260128T181726Z
UID:10291861-1835602200-1835620200@stmichaels-litchfield.org
SUMMARY:Church Office Open
DESCRIPTION:
URL:https://stmichaels-litchfield.org/event/church-office-open-14/2028-03-02/
LOCATION:Church Office\, 25 South Street\, Litchfield\, CT\, 06759\, United States
CATEGORIES:Church Office Event
END:VEVENT
BEGIN:VEVENT
DTSTART;TZID=America/New_York:20280302T190000
DTEND;TZID=America/New_York:20280302T220000
DTSTAMP:20260423T012523
CREATED:20230810T152445Z
LAST-MODIFIED:20230823T141209Z
UID:10012941-1835636400-1835647200@stmichaels-litchfield.org
SUMMARY:SOTG Board meeting in the Parish House Library
DESCRIPTION:
URL:https://stmichaels-litchfield.org/event/sotg-board-meeting-2/2028-03-02/
LOCATION:Parish House Library\, 25 South Street\, Litchfield\, CT\, 06759\, United States
CATEGORIES:School on the Green Event
END:VEVENT
BEGIN:VEVENT
DTSTART;TZID=America/New_York:20280303T070000
DTEND;TZID=America/New_York:20280303T073000
DTSTAMP:20260423T012524
CREATED:20230606T184551Z
LAST-MODIFIED:20230619T142647Z
UID:10006411-1835679600-1835681400@stmichaels-litchfield.org
SUMMARY:AA Meeting in the Parish House Library
DESCRIPTION:
URL:https://stmichaels-litchfield.org/event/aa-meeting-in-the-library/2028-03-03/
LOCATION:Parish House Library\, 25 South Street\, Litchfield\, CT\, 06759\, United States
CATEGORIES:AA/NA Events
END:VEVENT
BEGIN:VEVENT
DTSTART;TZID=America/New_York:20280303T093000
DTEND;TZID=America/New_York:20280303T143000
DTSTAMP:20260423T012524
CREATED:20260128T181432Z
LAST-MODIFIED:20260128T181726Z
UID:10291862-1835688600-1835706600@stmichaels-litchfield.org
SUMMARY:Church Office Open
DESCRIPTION:
URL:https://stmichaels-litchfield.org/event/church-office-open-14/2028-03-03/
LOCATION:Church Office\, 25 South Street\, Litchfield\, CT\, 06759\, United States
CATEGORIES:Church Office Event
END:VEVENT
BEGIN:VEVENT
DTSTART;TZID=America/New_York:20280304T083000
DTEND;TZID=America/New_York:20280304T093000
DTSTAMP:20260423T012524
CREATED:20230619T143626Z
LAST-MODIFIED:20230619T143720Z
UID:10010809-1835771400-1835775000@stmichaels-litchfield.org
SUMMARY:AA Meeting in Parish House Library
DESCRIPTION:
URL:https://stmichaels-litchfield.org/event/aa-meeting-in-community-house-2/2028-03-04/
LOCATION:Community House in Library from April 9th forward
CATEGORIES:AA/NA Events
END:VEVENT
BEGIN:VEVENT
DTSTART;TZID=America/New_York:20280305T080000
DTEND;TZID=America/New_York:20280305T090000
DTSTAMP:20260423T012524
CREATED:20211108T181651Z
LAST-MODIFIED:20260327T134504Z
UID:10020500-1835856000-1835859600@stmichaels-litchfield.org
SUMMARY:Eucharist\, Rite I
DESCRIPTION:Spoken\, no music
URL:https://stmichaels-litchfield.org/event/sunday-eucharist/2028-03-05/
LOCATION:Chapel\, 25 South Street\, Litchfield\, CT\, 06759\, United States
CATEGORIES:Church Event,Parish Events
END:VEVENT
BEGIN:VEVENT
DTSTART;TZID=America/New_York:20280305T100000
DTEND;TZID=America/New_York:20280305T110000
DTSTAMP:20260423T012524
CREATED:20250403T150154Z
LAST-MODIFIED:20260422T181447Z
UID:10012815-1835863200-1835866800@stmichaels-litchfield.org
SUMMARY:Sunday Eucharist\, Rite II
DESCRIPTION:Rite II with music \nFollowed by Coffee Hour in the Community House
URL:https://stmichaels-litchfield.org/event/sunday-eucharist-2-3/2028-03-05/
LOCATION:Church\, 25 South Street\, Litchfield\, CT\, 06759\, United States
CATEGORIES:Church Event,Parish Events
END:VEVENT
BEGIN:VEVENT
DTSTART;TZID=America/New_York:20280305T110000
DTEND;TZID=America/New_York:20280305T140000
DTSTAMP:20260423T012524
CREATED:20230711T182541Z
LAST-MODIFIED:20250806T192214Z
UID:10012154-1835866800-1835877600@stmichaels-litchfield.org
SUMMARY:Coffee and Fellowship in the Community House
DESCRIPTION:
URL:https://stmichaels-litchfield.org/event/coffee-and-congregation-in-the-community-house/2028-03-05/
LOCATION:Community House in Library from April 9th forward
CATEGORIES:Church Event
END:VEVENT
BEGIN:VEVENT
DTSTART;TZID=America/New_York:20280305T190000
DTEND;TZID=America/New_York:20280305T200000
DTSTAMP:20260423T012524
CREATED:20230619T142544Z
LAST-MODIFIED:20260416T160049Z
UID:10009999-1835895600-1835899200@stmichaels-litchfield.org
SUMMARY:AA Meeting in Community House
DESCRIPTION:
URL:https://stmichaels-litchfield.org/event/aa-meeting-in-community-house/2028-03-05/
LOCATION:Community House in Library from April 9th forward
END:VEVENT
BEGIN:VEVENT
DTSTART;VALUE=DATE:20280306
DTEND;VALUE=DATE:20280307
DTSTAMP:20260423T012524
CREATED:20260128T181321Z
LAST-MODIFIED:20260128T181322Z
UID:10291250-1835913600-1835999999@stmichaels-litchfield.org
SUMMARY:Church Office Closed
DESCRIPTION:
URL:https://stmichaels-litchfield.org/event/summer-schedule-church-office-closed-2-2-2-3/2028-03-06/
LOCATION:Church Office\, 25 South Street\, Litchfield\, CT\, 06759\, United States
CATEGORIES:Church Office Event
END:VEVENT
BEGIN:VEVENT
DTSTART;TZID=America/New_York:20280306T070000
DTEND;TZID=America/New_York:20280306T073000
DTSTAMP:20260423T012524
CREATED:20230606T184551Z
LAST-MODIFIED:20230619T142647Z
UID:10006412-1835938800-1835940600@stmichaels-litchfield.org
SUMMARY:AA Meeting in the Parish House Library
DESCRIPTION:
URL:https://stmichaels-litchfield.org/event/aa-meeting-in-the-library/2028-03-06/
LOCATION:Parish House Library\, 25 South Street\, Litchfield\, CT\, 06759\, United States
CATEGORIES:AA/NA Events
END:VEVENT
BEGIN:VEVENT
DTSTART;TZID=America/New_York:20280306T200000
DTEND;TZID=America/New_York:20280306T213000
DTSTAMP:20260423T012524
CREATED:20260218T173517Z
LAST-MODIFIED:20260218T173517Z
UID:10292673-1835985600-1835991000@stmichaels-litchfield.org
SUMMARY:AA meeting in the Community House
DESCRIPTION:
URL:https://stmichaels-litchfield.org/event/aa-meeting-in-the-community-house-2/2028-03-06/
LOCATION:CT
END:VEVENT
BEGIN:VEVENT
DTSTART;TZID=America/New_York:20280307T093000
DTEND;TZID=America/New_York:20280307T143000
DTSTAMP:20260423T012524
CREATED:20260128T181432Z
LAST-MODIFIED:20260128T181726Z
UID:10291863-1836034200-1836052200@stmichaels-litchfield.org
SUMMARY:Church Office Open
DESCRIPTION:
URL:https://stmichaels-litchfield.org/event/church-office-open-14/2028-03-07/
LOCATION:Church Office\, 25 South Street\, Litchfield\, CT\, 06759\, United States
CATEGORIES:Church Office Event
END:VEVENT
BEGIN:VEVENT
DTSTART;TZID=America/New_York:20280307T160000
DTEND;TZID=America/New_York:20280307T173000
DTSTAMP:20260423T012524
CREATED:20260331T205128Z
LAST-MODIFIED:20260331T205254Z
UID:10294797-1836057600-1836063000@stmichaels-litchfield.org
SUMMARY:Priest Search Committee
DESCRIPTION:
URL:https://stmichaels-litchfield.org/event/priest-search-committee-3-2-5/2028-03-07/
LOCATION:Parish House Library\, 25 South Street\, Litchfield\, CT\, 06759\, United States
END:VEVENT
BEGIN:VEVENT
DTSTART;TZID=America/New_York:20280307T171500
DTEND;TZID=America/New_York:20280307T183000
DTSTAMP:20260423T012524
CREATED:20231227T151453Z
LAST-MODIFIED:20260317T155826Z
UID:10293660-1836062100-1836066600@stmichaels-litchfield.org
SUMMARY:Property Committee Meeting in Parish House Library
DESCRIPTION:
URL:https://stmichaels-litchfield.org/event/property-committee-meeting-in-parish-house-library-3/2028-03-07/
LOCATION:Parish House Library\, 25 South Street\, Litchfield\, CT\, 06759\, United States
CATEGORIES:Church Event
END:VEVENT
BEGIN:VEVENT
DTSTART;TZID=America/New_York:20280307T190000
DTEND;TZID=America/New_York:20280307T200000
DTSTAMP:20260423T012524
CREATED:20211108T175914Z
LAST-MODIFIED:20260130T014621Z
UID:10010203-1836068400-1836072000@stmichaels-litchfield.org
SUMMARY:AA Meeting in Community House
DESCRIPTION:
URL:https://stmichaels-litchfield.org/event/aa-group-in-community-house-2/2028-03-07/
LOCATION:Community House in Library from April 9th forward
CATEGORIES:AA/NA Events
END:VEVENT
BEGIN:VEVENT
DTSTART;TZID=America/New_York:20280308T070000
DTEND;TZID=America/New_York:20280308T073000
DTSTAMP:20260423T012524
CREATED:20230606T184551Z
LAST-MODIFIED:20230619T142647Z
UID:10006413-1836111600-1836113400@stmichaels-litchfield.org
SUMMARY:AA Meeting in the Parish House Library
DESCRIPTION:
URL:https://stmichaels-litchfield.org/event/aa-meeting-in-the-library/2028-03-08/
LOCATION:Parish House Library\, 25 South Street\, Litchfield\, CT\, 06759\, United States
CATEGORIES:AA/NA Events
END:VEVENT
BEGIN:VEVENT
DTSTART;TZID=America/New_York:20280308T083000
DTEND;TZID=America/New_York:20280308T110000
DTSTAMP:20260423T012524
CREATED:20250109T152013Z
LAST-MODIFIED:20250109T152013Z
UID:10019541-1836117000-1836126000@stmichaels-litchfield.org
SUMMARY:Greenwoods Counseling
DESCRIPTION:
URL:https://stmichaels-litchfield.org/event/greenwoods-counseling-7/2028-03-08/
LOCATION:CT
CATEGORIES:Greenwoods Counseling
END:VEVENT
BEGIN:VEVENT
DTSTART;TZID=America/New_York:20280308T093000
DTEND;TZID=America/New_York:20280308T143000
DTSTAMP:20260423T012524
CREATED:20260128T181432Z
LAST-MODIFIED:20260128T181726Z
UID:10291864-1836120600-1836138600@stmichaels-litchfield.org
SUMMARY:Church Office Open
DESCRIPTION:
URL:https://stmichaels-litchfield.org/event/church-office-open-14/2028-03-08/
LOCATION:Church Office\, 25 South Street\, Litchfield\, CT\, 06759\, United States
CATEGORIES:Church Office Event
END:VEVENT
BEGIN:VEVENT
DTSTART;TZID=America/New_York:20280308T173000
DTEND;TZID=America/New_York:20280308T180000
DTSTAMP:20260423T012524
CREATED:20260327T155546Z
LAST-MODIFIED:20260422T175057Z
UID:10294538-1836149400-1836151200@stmichaels-litchfield.org
SUMMARY:Chanted Evening Prayer
DESCRIPTION:
URL:https://stmichaels-litchfield.org/event/chanted-evening-prayer-3/2028-03-08/
LOCATION:Chapel\, 25 South Street\, Litchfield\, CT\, 06759\, United States
CATEGORIES:Church Event
END:VEVENT
BEGIN:VEVENT
DTSTART;TZID=America/New_York:20280308T190000
DTEND;TZID=America/New_York:20280308T203000
DTSTAMP:20260423T012524
CREATED:20230817T183342Z
LAST-MODIFIED:20230817T183342Z
UID:10013233-1836154800-1836160200@stmichaels-litchfield.org
SUMMARY:Choir Rehearsal in Parish House Music Room
DESCRIPTION:
URL:https://stmichaels-litchfield.org/event/choir-rehearsal-in-parish-house-music-room/2028-03-08/
LOCATION:Parish House Music Room
CATEGORIES:Church Event
END:VEVENT
END:VCALENDAR