BEGIN:VCALENDAR
VERSION:2.0
PRODID:-//St. Michael&#039;s Church - ECPv6.15.20//NONSGML v1.0//EN
CALSCALE:GREGORIAN
METHOD:PUBLISH
X-WR-CALNAME:St. Michael&#039;s Church
X-ORIGINAL-URL:https://stmichaels-litchfield.org
X-WR-CALDESC:Events for St. Michael&#039;s Church
REFRESH-INTERVAL;VALUE=DURATION:PT1H
X-Robots-Tag:noindex
X-PUBLISHED-TTL:PT1H
BEGIN:VTIMEZONE
TZID:America/New_York
BEGIN:DAYLIGHT
TZOFFSETFROM:-0500
TZOFFSETTO:-0400
TZNAME:EDT
DTSTART:20270314T070000
END:DAYLIGHT
BEGIN:STANDARD
TZOFFSETFROM:-0400
TZOFFSETTO:-0500
TZNAME:EST
DTSTART:20271107T060000
END:STANDARD
BEGIN:DAYLIGHT
TZOFFSETFROM:-0500
TZOFFSETTO:-0400
TZNAME:EDT
DTSTART:20280312T070000
END:DAYLIGHT
BEGIN:STANDARD
TZOFFSETFROM:-0400
TZOFFSETTO:-0500
TZNAME:EST
DTSTART:20281105T060000
END:STANDARD
BEGIN:DAYLIGHT
TZOFFSETFROM:-0500
TZOFFSETTO:-0400
TZNAME:EDT
DTSTART:20290311T070000
END:DAYLIGHT
BEGIN:STANDARD
TZOFFSETFROM:-0400
TZOFFSETTO:-0500
TZNAME:EST
DTSTART:20291104T060000
END:STANDARD
END:VTIMEZONE
BEGIN:VEVENT
DTSTART;TZID=America/New_York:20280428T070000
DTEND;TZID=America/New_York:20280428T073000
DTSTAMP:20260423T053050
CREATED:20230606T184551Z
LAST-MODIFIED:20230619T142647Z
UID:10006435-1840518000-1840519800@stmichaels-litchfield.org
SUMMARY:AA Meeting in the Parish House Library
DESCRIPTION:
URL:https://stmichaels-litchfield.org/event/aa-meeting-in-the-library/2028-04-28/
LOCATION:Parish House Library\, 25 South Street\, Litchfield\, CT\, 06759\, United States
CATEGORIES:AA/NA Events
END:VEVENT
BEGIN:VEVENT
DTSTART;TZID=America/New_York:20280428T093000
DTEND;TZID=America/New_York:20280428T143000
DTSTAMP:20260423T053050
CREATED:20260128T181432Z
LAST-MODIFIED:20260128T181726Z
UID:10291894-1840527000-1840545000@stmichaels-litchfield.org
SUMMARY:Church Office Open
DESCRIPTION:
URL:https://stmichaels-litchfield.org/event/church-office-open-14/2028-04-28/
LOCATION:Church Office\, 25 South Street\, Litchfield\, CT\, 06759\, United States
CATEGORIES:Church Office Event
END:VEVENT
BEGIN:VEVENT
DTSTART;TZID=America/New_York:20280429T083000
DTEND;TZID=America/New_York:20280429T093000
DTSTAMP:20260423T053050
CREATED:20230619T143626Z
LAST-MODIFIED:20230619T143720Z
UID:10010817-1840609800-1840613400@stmichaels-litchfield.org
SUMMARY:AA Meeting in Parish House Library
DESCRIPTION:
URL:https://stmichaels-litchfield.org/event/aa-meeting-in-community-house-2/2028-04-29/
LOCATION:Community House in Library from April 9th forward
CATEGORIES:AA/NA Events
END:VEVENT
BEGIN:VEVENT
DTSTART;TZID=America/New_York:20280430T080000
DTEND;TZID=America/New_York:20280430T090000
DTSTAMP:20260423T053050
CREATED:20211108T181651Z
LAST-MODIFIED:20260327T134504Z
UID:10020508-1840694400-1840698000@stmichaels-litchfield.org
SUMMARY:Eucharist\, Rite I
DESCRIPTION:Spoken\, no music
URL:https://stmichaels-litchfield.org/event/sunday-eucharist/2028-04-30/
LOCATION:Chapel\, 25 South Street\, Litchfield\, CT\, 06759\, United States
CATEGORIES:Church Event,Parish Events
END:VEVENT
BEGIN:VEVENT
DTSTART;TZID=America/New_York:20280430T100000
DTEND;TZID=America/New_York:20280430T110000
DTSTAMP:20260423T053050
CREATED:20250403T150154Z
LAST-MODIFIED:20260422T181447Z
UID:10012823-1840701600-1840705200@stmichaels-litchfield.org
SUMMARY:Sunday Eucharist\, Rite II
DESCRIPTION:Rite II with music \nFollowed by Coffee Hour in the Community House
URL:https://stmichaels-litchfield.org/event/sunday-eucharist-2-3/2028-04-30/
LOCATION:Church\, 25 South Street\, Litchfield\, CT\, 06759\, United States
CATEGORIES:Church Event,Parish Events
END:VEVENT
BEGIN:VEVENT
DTSTART;TZID=America/New_York:20280430T110000
DTEND;TZID=America/New_York:20280430T140000
DTSTAMP:20260423T053050
CREATED:20230711T182541Z
LAST-MODIFIED:20250806T192214Z
UID:10012162-1840705200-1840716000@stmichaels-litchfield.org
SUMMARY:Coffee and Fellowship in the Community House
DESCRIPTION:
URL:https://stmichaels-litchfield.org/event/coffee-and-congregation-in-the-community-house/2028-04-30/
LOCATION:Community House in Library from April 9th forward
CATEGORIES:Church Event
END:VEVENT
BEGIN:VEVENT
DTSTART;TZID=America/New_York:20280430T190000
DTEND;TZID=America/New_York:20280430T200000
DTSTAMP:20260423T053050
CREATED:20230619T142544Z
LAST-MODIFIED:20260416T160049Z
UID:10010007-1840734000-1840737600@stmichaels-litchfield.org
SUMMARY:AA Meeting in Community House
DESCRIPTION:
URL:https://stmichaels-litchfield.org/event/aa-meeting-in-community-house/2028-04-30/
LOCATION:Community House in Library from April 9th forward
END:VEVENT
BEGIN:VEVENT
DTSTART;VALUE=DATE:20280501
DTEND;VALUE=DATE:20280502
DTSTAMP:20260423T053050
CREATED:20260128T181321Z
LAST-MODIFIED:20260128T181322Z
UID:10291258-1840752000-1840838399@stmichaels-litchfield.org
SUMMARY:Church Office Closed
DESCRIPTION:
URL:https://stmichaels-litchfield.org/event/summer-schedule-church-office-closed-2-2-2-3/2028-05-01/
LOCATION:Church Office\, 25 South Street\, Litchfield\, CT\, 06759\, United States
CATEGORIES:Church Office Event
END:VEVENT
BEGIN:VEVENT
DTSTART;TZID=America/New_York:20280501T070000
DTEND;TZID=America/New_York:20280501T073000
DTSTAMP:20260423T053050
CREATED:20230606T184551Z
LAST-MODIFIED:20230619T142647Z
UID:10006436-1840777200-1840779000@stmichaels-litchfield.org
SUMMARY:AA Meeting in the Parish House Library
DESCRIPTION:
URL:https://stmichaels-litchfield.org/event/aa-meeting-in-the-library/2028-05-01/
LOCATION:Parish House Library\, 25 South Street\, Litchfield\, CT\, 06759\, United States
CATEGORIES:AA/NA Events
END:VEVENT
BEGIN:VEVENT
DTSTART;TZID=America/New_York:20280501T200000
DTEND;TZID=America/New_York:20280501T213000
DTSTAMP:20260423T053050
CREATED:20260218T173517Z
LAST-MODIFIED:20260218T173517Z
UID:10292681-1840824000-1840829400@stmichaels-litchfield.org
SUMMARY:AA meeting in the Community House
DESCRIPTION:
URL:https://stmichaels-litchfield.org/event/aa-meeting-in-the-community-house-2/2028-05-01/
LOCATION:CT
END:VEVENT
BEGIN:VEVENT
DTSTART;TZID=America/New_York:20280502T093000
DTEND;TZID=America/New_York:20280502T143000
DTSTAMP:20260423T053050
CREATED:20260128T181432Z
LAST-MODIFIED:20260128T181726Z
UID:10291895-1840872600-1840890600@stmichaels-litchfield.org
SUMMARY:Church Office Open
DESCRIPTION:
URL:https://stmichaels-litchfield.org/event/church-office-open-14/2028-05-02/
LOCATION:Church Office\, 25 South Street\, Litchfield\, CT\, 06759\, United States
CATEGORIES:Church Office Event
END:VEVENT
BEGIN:VEVENT
DTSTART;TZID=America/New_York:20280502T160000
DTEND;TZID=America/New_York:20280502T173000
DTSTAMP:20260423T053050
CREATED:20260331T205128Z
LAST-MODIFIED:20260331T205254Z
UID:10294805-1840896000-1840901400@stmichaels-litchfield.org
SUMMARY:Priest Search Committee
DESCRIPTION:
URL:https://stmichaels-litchfield.org/event/priest-search-committee-3-2-5/2028-05-02/
LOCATION:Parish House Library\, 25 South Street\, Litchfield\, CT\, 06759\, United States
END:VEVENT
BEGIN:VEVENT
DTSTART;TZID=America/New_York:20280502T171500
DTEND;TZID=America/New_York:20280502T183000
DTSTAMP:20260423T053050
CREATED:20231227T151453Z
LAST-MODIFIED:20260317T155826Z
UID:10293662-1840900500-1840905000@stmichaels-litchfield.org
SUMMARY:Property Committee Meeting in Parish House Library
DESCRIPTION:
URL:https://stmichaels-litchfield.org/event/property-committee-meeting-in-parish-house-library-3/2028-05-02/
LOCATION:Parish House Library\, 25 South Street\, Litchfield\, CT\, 06759\, United States
CATEGORIES:Church Event
END:VEVENT
BEGIN:VEVENT
DTSTART;TZID=America/New_York:20280502T190000
DTEND;TZID=America/New_York:20280502T200000
DTSTAMP:20260423T053050
CREATED:20211108T175914Z
LAST-MODIFIED:20260130T014621Z
UID:10010211-1840906800-1840910400@stmichaels-litchfield.org
SUMMARY:AA Meeting in Community House
DESCRIPTION:
URL:https://stmichaels-litchfield.org/event/aa-group-in-community-house-2/2028-05-02/
LOCATION:Community House in Library from April 9th forward
CATEGORIES:AA/NA Events
END:VEVENT
BEGIN:VEVENT
DTSTART;TZID=America/New_York:20280503T070000
DTEND;TZID=America/New_York:20280503T073000
DTSTAMP:20260423T053050
CREATED:20230606T184551Z
LAST-MODIFIED:20230619T142647Z
UID:10006437-1840950000-1840951800@stmichaels-litchfield.org
SUMMARY:AA Meeting in the Parish House Library
DESCRIPTION:
URL:https://stmichaels-litchfield.org/event/aa-meeting-in-the-library/2028-05-03/
LOCATION:Parish House Library\, 25 South Street\, Litchfield\, CT\, 06759\, United States
CATEGORIES:AA/NA Events
END:VEVENT
BEGIN:VEVENT
DTSTART;TZID=America/New_York:20280503T083000
DTEND;TZID=America/New_York:20280503T110000
DTSTAMP:20260423T053050
CREATED:20250109T152013Z
LAST-MODIFIED:20250109T152013Z
UID:10019549-1840955400-1840964400@stmichaels-litchfield.org
SUMMARY:Greenwoods Counseling
DESCRIPTION:
URL:https://stmichaels-litchfield.org/event/greenwoods-counseling-7/2028-05-03/
LOCATION:CT
CATEGORIES:Greenwoods Counseling
END:VEVENT
BEGIN:VEVENT
DTSTART;TZID=America/New_York:20280503T093000
DTEND;TZID=America/New_York:20280503T143000
DTSTAMP:20260423T053050
CREATED:20260128T181432Z
LAST-MODIFIED:20260128T181726Z
UID:10291896-1840959000-1840977000@stmichaels-litchfield.org
SUMMARY:Church Office Open
DESCRIPTION:
URL:https://stmichaels-litchfield.org/event/church-office-open-14/2028-05-03/
LOCATION:Church Office\, 25 South Street\, Litchfield\, CT\, 06759\, United States
CATEGORIES:Church Office Event
END:VEVENT
BEGIN:VEVENT
DTSTART;TZID=America/New_York:20280503T173000
DTEND;TZID=America/New_York:20280503T180000
DTSTAMP:20260423T053050
CREATED:20260327T155546Z
LAST-MODIFIED:20260422T175057Z
UID:10294546-1840987800-1840989600@stmichaels-litchfield.org
SUMMARY:Chanted Evening Prayer
DESCRIPTION:
URL:https://stmichaels-litchfield.org/event/chanted-evening-prayer-3/2028-05-03/
LOCATION:Chapel\, 25 South Street\, Litchfield\, CT\, 06759\, United States
CATEGORIES:Church Event
END:VEVENT
BEGIN:VEVENT
DTSTART;TZID=America/New_York:20280503T190000
DTEND;TZID=America/New_York:20280503T203000
DTSTAMP:20260423T053050
CREATED:20230817T183342Z
LAST-MODIFIED:20230817T183342Z
UID:10013241-1840993200-1840998600@stmichaels-litchfield.org
SUMMARY:Choir Rehearsal in Parish House Music Room
DESCRIPTION:
URL:https://stmichaels-litchfield.org/event/choir-rehearsal-in-parish-house-music-room/2028-05-03/
LOCATION:Parish House Music Room
CATEGORIES:Church Event
END:VEVENT
BEGIN:VEVENT
DTSTART;TZID=America/New_York:20280503T193000
DTEND;TZID=America/New_York:20280503T210000
DTSTAMP:20260423T053050
CREATED:20211108T180816Z
LAST-MODIFIED:20230714T003135Z
UID:10012565-1840995000-1841000400@stmichaels-litchfield.org
SUMMARY:NA meeting in Community House
DESCRIPTION:
URL:https://stmichaels-litchfield.org/event/narcotics-anonymous/2028-05-03/
LOCATION:Community House in Library from April 9th forward
CATEGORIES:AA/NA Events
END:VEVENT
BEGIN:VEVENT
DTSTART;TZID=America/New_York:20280504T093000
DTEND;TZID=America/New_York:20280504T143000
DTSTAMP:20260423T053050
CREATED:20260128T181432Z
LAST-MODIFIED:20260128T181726Z
UID:10291897-1841045400-1841063400@stmichaels-litchfield.org
SUMMARY:Church Office Open
DESCRIPTION:
URL:https://stmichaels-litchfield.org/event/church-office-open-14/2028-05-04/
LOCATION:Church Office\, 25 South Street\, Litchfield\, CT\, 06759\, United States
CATEGORIES:Church Office Event
END:VEVENT
BEGIN:VEVENT
DTSTART;TZID=America/New_York:20280504T190000
DTEND;TZID=America/New_York:20280504T220000
DTSTAMP:20260423T053050
CREATED:20230810T152445Z
LAST-MODIFIED:20230823T141209Z
UID:10012943-1841079600-1841090400@stmichaels-litchfield.org
SUMMARY:SOTG Board meeting in the Parish House Library
DESCRIPTION:
URL:https://stmichaels-litchfield.org/event/sotg-board-meeting-2/2028-05-04/
LOCATION:Parish House Library\, 25 South Street\, Litchfield\, CT\, 06759\, United States
CATEGORIES:School on the Green Event
END:VEVENT
BEGIN:VEVENT
DTSTART;TZID=America/New_York:20280505T070000
DTEND;TZID=America/New_York:20280505T073000
DTSTAMP:20260423T053050
CREATED:20230606T184551Z
LAST-MODIFIED:20230619T142647Z
UID:10006438-1841122800-1841124600@stmichaels-litchfield.org
SUMMARY:AA Meeting in the Parish House Library
DESCRIPTION:
URL:https://stmichaels-litchfield.org/event/aa-meeting-in-the-library/2028-05-05/
LOCATION:Parish House Library\, 25 South Street\, Litchfield\, CT\, 06759\, United States
CATEGORIES:AA/NA Events
END:VEVENT
BEGIN:VEVENT
DTSTART;TZID=America/New_York:20280505T093000
DTEND;TZID=America/New_York:20280505T143000
DTSTAMP:20260423T053050
CREATED:20260128T181432Z
LAST-MODIFIED:20260128T181726Z
UID:10291898-1841131800-1841149800@stmichaels-litchfield.org
SUMMARY:Church Office Open
DESCRIPTION:
URL:https://stmichaels-litchfield.org/event/church-office-open-14/2028-05-05/
LOCATION:Church Office\, 25 South Street\, Litchfield\, CT\, 06759\, United States
CATEGORIES:Church Office Event
END:VEVENT
BEGIN:VEVENT
DTSTART;TZID=America/New_York:20280506T083000
DTEND;TZID=America/New_York:20280506T093000
DTSTAMP:20260423T053050
CREATED:20230619T143626Z
LAST-MODIFIED:20230619T143720Z
UID:10010818-1841214600-1841218200@stmichaels-litchfield.org
SUMMARY:AA Meeting in Parish House Library
DESCRIPTION:
URL:https://stmichaels-litchfield.org/event/aa-meeting-in-community-house-2/2028-05-06/
LOCATION:Community House in Library from April 9th forward
CATEGORIES:AA/NA Events
END:VEVENT
BEGIN:VEVENT
DTSTART;TZID=America/New_York:20280507T080000
DTEND;TZID=America/New_York:20280507T090000
DTSTAMP:20260423T053050
CREATED:20211108T181651Z
LAST-MODIFIED:20260327T134504Z
UID:10020509-1841299200-1841302800@stmichaels-litchfield.org
SUMMARY:Eucharist\, Rite I
DESCRIPTION:Spoken\, no music
URL:https://stmichaels-litchfield.org/event/sunday-eucharist/2028-05-07/
LOCATION:Chapel\, 25 South Street\, Litchfield\, CT\, 06759\, United States
CATEGORIES:Church Event,Parish Events
END:VEVENT
BEGIN:VEVENT
DTSTART;TZID=America/New_York:20280507T100000
DTEND;TZID=America/New_York:20280507T110000
DTSTAMP:20260423T053050
CREATED:20250403T150154Z
LAST-MODIFIED:20260422T181447Z
UID:10012824-1841306400-1841310000@stmichaels-litchfield.org
SUMMARY:Sunday Eucharist\, Rite II
DESCRIPTION:Rite II with music \nFollowed by Coffee Hour in the Community House
URL:https://stmichaels-litchfield.org/event/sunday-eucharist-2-3/2028-05-07/
LOCATION:Church\, 25 South Street\, Litchfield\, CT\, 06759\, United States
CATEGORIES:Church Event,Parish Events
END:VEVENT
BEGIN:VEVENT
DTSTART;TZID=America/New_York:20280507T110000
DTEND;TZID=America/New_York:20280507T140000
DTSTAMP:20260423T053050
CREATED:20230711T182541Z
LAST-MODIFIED:20250806T192214Z
UID:10012163-1841310000-1841320800@stmichaels-litchfield.org
SUMMARY:Coffee and Fellowship in the Community House
DESCRIPTION:
URL:https://stmichaels-litchfield.org/event/coffee-and-congregation-in-the-community-house/2028-05-07/
LOCATION:Community House in Library from April 9th forward
CATEGORIES:Church Event
END:VEVENT
BEGIN:VEVENT
DTSTART;TZID=America/New_York:20280507T190000
DTEND;TZID=America/New_York:20280507T200000
DTSTAMP:20260423T053050
CREATED:20230619T142544Z
LAST-MODIFIED:20260416T160049Z
UID:10010008-1841338800-1841342400@stmichaels-litchfield.org
SUMMARY:AA Meeting in Community House
DESCRIPTION:
URL:https://stmichaels-litchfield.org/event/aa-meeting-in-community-house/2028-05-07/
LOCATION:Community House in Library from April 9th forward
END:VEVENT
BEGIN:VEVENT
DTSTART;VALUE=DATE:20280508
DTEND;VALUE=DATE:20280509
DTSTAMP:20260423T053050
CREATED:20260128T181321Z
LAST-MODIFIED:20260128T181322Z
UID:10291259-1841356800-1841443199@stmichaels-litchfield.org
SUMMARY:Church Office Closed
DESCRIPTION:
URL:https://stmichaels-litchfield.org/event/summer-schedule-church-office-closed-2-2-2-3/2028-05-08/
LOCATION:Church Office\, 25 South Street\, Litchfield\, CT\, 06759\, United States
CATEGORIES:Church Office Event
END:VEVENT
END:VCALENDAR