BEGIN:VCALENDAR
VERSION:2.0
PRODID:-//St. Michael&#039;s Church - ECPv6.15.20//NONSGML v1.0//EN
CALSCALE:GREGORIAN
METHOD:PUBLISH
X-WR-CALNAME:St. Michael&#039;s Church
X-ORIGINAL-URL:https://stmichaels-litchfield.org
X-WR-CALDESC:Events for St. Michael&#039;s Church
REFRESH-INTERVAL;VALUE=DURATION:PT1H
X-Robots-Tag:noindex
X-PUBLISHED-TTL:PT1H
BEGIN:VTIMEZONE
TZID:America/New_York
BEGIN:DAYLIGHT
TZOFFSETFROM:-0500
TZOFFSETTO:-0400
TZNAME:EDT
DTSTART:20270314T070000
END:DAYLIGHT
BEGIN:STANDARD
TZOFFSETFROM:-0400
TZOFFSETTO:-0500
TZNAME:EST
DTSTART:20271107T060000
END:STANDARD
BEGIN:DAYLIGHT
TZOFFSETFROM:-0500
TZOFFSETTO:-0400
TZNAME:EDT
DTSTART:20280312T070000
END:DAYLIGHT
BEGIN:STANDARD
TZOFFSETFROM:-0400
TZOFFSETTO:-0500
TZNAME:EST
DTSTART:20281105T060000
END:STANDARD
BEGIN:DAYLIGHT
TZOFFSETFROM:-0500
TZOFFSETTO:-0400
TZNAME:EDT
DTSTART:20290311T070000
END:DAYLIGHT
BEGIN:STANDARD
TZOFFSETFROM:-0400
TZOFFSETTO:-0500
TZNAME:EST
DTSTART:20291104T060000
END:STANDARD
END:VTIMEZONE
BEGIN:VEVENT
DTSTART;TZID=America/New_York:20280616T070000
DTEND;TZID=America/New_York:20280616T073000
DTSTAMP:20260423T133447
CREATED:20230606T184551Z
LAST-MODIFIED:20230619T142647Z
UID:10010019-1844751600-1844753400@stmichaels-litchfield.org
SUMMARY:AA Meeting in the Parish House Library
DESCRIPTION:
URL:https://stmichaels-litchfield.org/event/aa-meeting-in-the-library/2028-06-16/
LOCATION:Parish House Library\, 25 South Street\, Litchfield\, CT\, 06759\, United States
CATEGORIES:AA/NA Events
END:VEVENT
BEGIN:VEVENT
DTSTART;TZID=America/New_York:20280616T093000
DTEND;TZID=America/New_York:20280616T143000
DTSTAMP:20260423T133447
CREATED:20260128T181432Z
LAST-MODIFIED:20260128T181726Z
UID:10291922-1844760600-1844778600@stmichaels-litchfield.org
SUMMARY:Church Office Open
DESCRIPTION:
URL:https://stmichaels-litchfield.org/event/church-office-open-14/2028-06-16/
LOCATION:Church Office\, 25 South Street\, Litchfield\, CT\, 06759\, United States
CATEGORIES:Church Office Event
END:VEVENT
BEGIN:VEVENT
DTSTART;TZID=America/New_York:20280617T083000
DTEND;TZID=America/New_York:20280617T093000
DTSTAMP:20260423T133447
CREATED:20230619T143626Z
LAST-MODIFIED:20230619T143720Z
UID:10010824-1844843400-1844847000@stmichaels-litchfield.org
SUMMARY:AA Meeting in Parish House Library
DESCRIPTION:
URL:https://stmichaels-litchfield.org/event/aa-meeting-in-community-house-2/2028-06-17/
LOCATION:Community House in Library from April 9th forward
CATEGORIES:AA/NA Events
END:VEVENT
BEGIN:VEVENT
DTSTART;TZID=America/New_York:20280618T080000
DTEND;TZID=America/New_York:20280618T090000
DTSTAMP:20260423T133447
CREATED:20211108T181651Z
LAST-MODIFIED:20260327T134504Z
UID:10020515-1844928000-1844931600@stmichaels-litchfield.org
SUMMARY:Eucharist\, Rite I
DESCRIPTION:Spoken\, no music
URL:https://stmichaels-litchfield.org/event/sunday-eucharist/2028-06-18/
LOCATION:Chapel\, 25 South Street\, Litchfield\, CT\, 06759\, United States
CATEGORIES:Church Event,Parish Events
END:VEVENT
BEGIN:VEVENT
DTSTART;TZID=America/New_York:20280618T100000
DTEND;TZID=America/New_York:20280618T110000
DTSTAMP:20260423T133447
CREATED:20250403T150154Z
LAST-MODIFIED:20260422T181447Z
UID:10012830-1844935200-1844938800@stmichaels-litchfield.org
SUMMARY:Sunday Eucharist\, Rite II
DESCRIPTION:Rite II with music \nFollowed by Coffee Hour in the Community House
URL:https://stmichaels-litchfield.org/event/sunday-eucharist-2-3/2028-06-18/
LOCATION:Church\, 25 South Street\, Litchfield\, CT\, 06759\, United States
CATEGORIES:Church Event,Parish Events
END:VEVENT
BEGIN:VEVENT
DTSTART;TZID=America/New_York:20280618T110000
DTEND;TZID=America/New_York:20280618T140000
DTSTAMP:20260423T133447
CREATED:20230711T182541Z
LAST-MODIFIED:20250806T192214Z
UID:10012169-1844938800-1844949600@stmichaels-litchfield.org
SUMMARY:Coffee and Fellowship in the Community House
DESCRIPTION:
URL:https://stmichaels-litchfield.org/event/coffee-and-congregation-in-the-community-house/2028-06-18/
LOCATION:Community House in Library from April 9th forward
CATEGORIES:Church Event
END:VEVENT
BEGIN:VEVENT
DTSTART;TZID=America/New_York:20280618T190000
DTEND;TZID=America/New_York:20280618T200000
DTSTAMP:20260423T133447
CREATED:20230619T142544Z
LAST-MODIFIED:20260416T160049Z
UID:10010014-1844967600-1844971200@stmichaels-litchfield.org
SUMMARY:AA Meeting in Community House
DESCRIPTION:
URL:https://stmichaels-litchfield.org/event/aa-meeting-in-community-house/2028-06-18/
LOCATION:Community House in Library from April 9th forward
END:VEVENT
BEGIN:VEVENT
DTSTART;VALUE=DATE:20280619
DTEND;VALUE=DATE:20280620
DTSTAMP:20260423T133447
CREATED:20260128T181321Z
LAST-MODIFIED:20260128T181322Z
UID:10291265-1844985600-1845071999@stmichaels-litchfield.org
SUMMARY:Church Office Closed
DESCRIPTION:
URL:https://stmichaels-litchfield.org/event/summer-schedule-church-office-closed-2-2-2-3/2028-06-19/
LOCATION:Church Office\, 25 South Street\, Litchfield\, CT\, 06759\, United States
CATEGORIES:Church Office Event
END:VEVENT
BEGIN:VEVENT
DTSTART;TZID=America/New_York:20280619T070000
DTEND;TZID=America/New_York:20280619T073000
DTSTAMP:20260423T133447
CREATED:20230606T184551Z
LAST-MODIFIED:20230619T142647Z
UID:10010020-1845010800-1845012600@stmichaels-litchfield.org
SUMMARY:AA Meeting in the Parish House Library
DESCRIPTION:
URL:https://stmichaels-litchfield.org/event/aa-meeting-in-the-library/2028-06-19/
LOCATION:Parish House Library\, 25 South Street\, Litchfield\, CT\, 06759\, United States
CATEGORIES:AA/NA Events
END:VEVENT
BEGIN:VEVENT
DTSTART;TZID=America/New_York:20280619T200000
DTEND;TZID=America/New_York:20280619T213000
DTSTAMP:20260423T133447
CREATED:20260218T173517Z
LAST-MODIFIED:20260218T173517Z
UID:10292688-1845057600-1845063000@stmichaels-litchfield.org
SUMMARY:AA meeting in the Community House
DESCRIPTION:
URL:https://stmichaels-litchfield.org/event/aa-meeting-in-the-community-house-2/2028-06-19/
LOCATION:CT
END:VEVENT
BEGIN:VEVENT
DTSTART;TZID=America/New_York:20280620T093000
DTEND;TZID=America/New_York:20280620T143000
DTSTAMP:20260423T133447
CREATED:20260128T181432Z
LAST-MODIFIED:20260128T181726Z
UID:10291923-1845106200-1845124200@stmichaels-litchfield.org
SUMMARY:Church Office Open
DESCRIPTION:
URL:https://stmichaels-litchfield.org/event/church-office-open-14/2028-06-20/
LOCATION:Church Office\, 25 South Street\, Litchfield\, CT\, 06759\, United States
CATEGORIES:Church Office Event
END:VEVENT
BEGIN:VEVENT
DTSTART;TZID=America/New_York:20280620T160000
DTEND;TZID=America/New_York:20280620T173000
DTSTAMP:20260423T133447
CREATED:20260331T205128Z
LAST-MODIFIED:20260331T205254Z
UID:10294812-1845129600-1845135000@stmichaels-litchfield.org
SUMMARY:Priest Search Committee
DESCRIPTION:
URL:https://stmichaels-litchfield.org/event/priest-search-committee-3-2-5/2028-06-20/
LOCATION:Parish House Library\, 25 South Street\, Litchfield\, CT\, 06759\, United States
END:VEVENT
BEGIN:VEVENT
DTSTART;TZID=America/New_York:20280620T190000
DTEND;TZID=America/New_York:20280620T200000
DTSTAMP:20260423T133447
CREATED:20211108T175914Z
LAST-MODIFIED:20260130T014621Z
UID:10286621-1845140400-1845144000@stmichaels-litchfield.org
SUMMARY:AA Meeting in Community House
DESCRIPTION:
URL:https://stmichaels-litchfield.org/event/aa-group-in-community-house-2/2028-06-20/
LOCATION:Community House in Library from April 9th forward
CATEGORIES:AA/NA Events
END:VEVENT
BEGIN:VEVENT
DTSTART;TZID=America/New_York:20280621T070000
DTEND;TZID=America/New_York:20280621T073000
DTSTAMP:20260423T133447
CREATED:20230606T184551Z
LAST-MODIFIED:20230619T142647Z
UID:10286855-1845183600-1845185400@stmichaels-litchfield.org
SUMMARY:AA Meeting in the Parish House Library
DESCRIPTION:
URL:https://stmichaels-litchfield.org/event/aa-meeting-in-the-library/2028-06-21/
LOCATION:Parish House Library\, 25 South Street\, Litchfield\, CT\, 06759\, United States
CATEGORIES:AA/NA Events
END:VEVENT
BEGIN:VEVENT
DTSTART;TZID=America/New_York:20280621T083000
DTEND;TZID=America/New_York:20280621T110000
DTSTAMP:20260423T133447
CREATED:20250109T152013Z
LAST-MODIFIED:20250109T152013Z
UID:10019556-1845189000-1845198000@stmichaels-litchfield.org
SUMMARY:Greenwoods Counseling
DESCRIPTION:
URL:https://stmichaels-litchfield.org/event/greenwoods-counseling-7/2028-06-21/
LOCATION:CT
CATEGORIES:Greenwoods Counseling
END:VEVENT
BEGIN:VEVENT
DTSTART;TZID=America/New_York:20280621T093000
DTEND;TZID=America/New_York:20280621T143000
DTSTAMP:20260423T133447
CREATED:20260128T181432Z
LAST-MODIFIED:20260128T181726Z
UID:10291924-1845192600-1845210600@stmichaels-litchfield.org
SUMMARY:Church Office Open
DESCRIPTION:
URL:https://stmichaels-litchfield.org/event/church-office-open-14/2028-06-21/
LOCATION:Church Office\, 25 South Street\, Litchfield\, CT\, 06759\, United States
CATEGORIES:Church Office Event
END:VEVENT
BEGIN:VEVENT
DTSTART;TZID=America/New_York:20280621T173000
DTEND;TZID=America/New_York:20280621T180000
DTSTAMP:20260423T133447
CREATED:20260327T155546Z
LAST-MODIFIED:20260422T175057Z
UID:10294553-1845221400-1845223200@stmichaels-litchfield.org
SUMMARY:Chanted Evening Prayer
DESCRIPTION:
URL:https://stmichaels-litchfield.org/event/chanted-evening-prayer-3/2028-06-21/
LOCATION:Chapel\, 25 South Street\, Litchfield\, CT\, 06759\, United States
CATEGORIES:Church Event
END:VEVENT
BEGIN:VEVENT
DTSTART;TZID=America/New_York:20280621T190000
DTEND;TZID=America/New_York:20280621T203000
DTSTAMP:20260423T133447
CREATED:20230817T183342Z
LAST-MODIFIED:20230817T183342Z
UID:10013248-1845226800-1845232200@stmichaels-litchfield.org
SUMMARY:Choir Rehearsal in Parish House Music Room
DESCRIPTION:
URL:https://stmichaels-litchfield.org/event/choir-rehearsal-in-parish-house-music-room/2028-06-21/
LOCATION:Parish House Music Room
CATEGORIES:Church Event
END:VEVENT
BEGIN:VEVENT
DTSTART;TZID=America/New_York:20280621T193000
DTEND;TZID=America/New_York:20280621T210000
DTSTAMP:20260423T133447
CREATED:20211108T180816Z
LAST-MODIFIED:20230714T003135Z
UID:10012572-1845228600-1845234000@stmichaels-litchfield.org
SUMMARY:NA meeting in Community House
DESCRIPTION:
URL:https://stmichaels-litchfield.org/event/narcotics-anonymous/2028-06-21/
LOCATION:Community House in Library from April 9th forward
CATEGORIES:AA/NA Events
END:VEVENT
BEGIN:VEVENT
DTSTART;TZID=America/New_York:20280622T093000
DTEND;TZID=America/New_York:20280622T143000
DTSTAMP:20260423T133447
CREATED:20260128T181432Z
LAST-MODIFIED:20260128T181726Z
UID:10291925-1845279000-1845297000@stmichaels-litchfield.org
SUMMARY:Church Office Open
DESCRIPTION:
URL:https://stmichaels-litchfield.org/event/church-office-open-14/2028-06-22/
LOCATION:Church Office\, 25 South Street\, Litchfield\, CT\, 06759\, United States
CATEGORIES:Church Office Event
END:VEVENT
BEGIN:VEVENT
DTSTART;TZID=America/New_York:20280623T070000
DTEND;TZID=America/New_York:20280623T073000
DTSTAMP:20260423T133447
CREATED:20230606T184551Z
LAST-MODIFIED:20230619T142647Z
UID:10286856-1845356400-1845358200@stmichaels-litchfield.org
SUMMARY:AA Meeting in the Parish House Library
DESCRIPTION:
URL:https://stmichaels-litchfield.org/event/aa-meeting-in-the-library/2028-06-23/
LOCATION:Parish House Library\, 25 South Street\, Litchfield\, CT\, 06759\, United States
CATEGORIES:AA/NA Events
END:VEVENT
BEGIN:VEVENT
DTSTART;TZID=America/New_York:20280623T093000
DTEND;TZID=America/New_York:20280623T143000
DTSTAMP:20260423T133447
CREATED:20260128T181432Z
LAST-MODIFIED:20260128T181726Z
UID:10291926-1845365400-1845383400@stmichaels-litchfield.org
SUMMARY:Church Office Open
DESCRIPTION:
URL:https://stmichaels-litchfield.org/event/church-office-open-14/2028-06-23/
LOCATION:Church Office\, 25 South Street\, Litchfield\, CT\, 06759\, United States
CATEGORIES:Church Office Event
END:VEVENT
BEGIN:VEVENT
DTSTART;TZID=America/New_York:20280625T080000
DTEND;TZID=America/New_York:20280625T090000
DTSTAMP:20260423T133447
CREATED:20211108T181651Z
LAST-MODIFIED:20260327T134504Z
UID:10020516-1845532800-1845536400@stmichaels-litchfield.org
SUMMARY:Eucharist\, Rite I
DESCRIPTION:Spoken\, no music
URL:https://stmichaels-litchfield.org/event/sunday-eucharist/2028-06-25/
LOCATION:Chapel\, 25 South Street\, Litchfield\, CT\, 06759\, United States
CATEGORIES:Church Event,Parish Events
END:VEVENT
BEGIN:VEVENT
DTSTART;TZID=America/New_York:20280625T100000
DTEND;TZID=America/New_York:20280625T110000
DTSTAMP:20260423T133447
CREATED:20250403T150154Z
LAST-MODIFIED:20260422T181447Z
UID:10012831-1845540000-1845543600@stmichaels-litchfield.org
SUMMARY:Sunday Eucharist\, Rite II
DESCRIPTION:Rite II with music \nFollowed by Coffee Hour in the Community House
URL:https://stmichaels-litchfield.org/event/sunday-eucharist-2-3/2028-06-25/
LOCATION:Church\, 25 South Street\, Litchfield\, CT\, 06759\, United States
CATEGORIES:Church Event,Parish Events
END:VEVENT
BEGIN:VEVENT
DTSTART;TZID=America/New_York:20280625T110000
DTEND;TZID=America/New_York:20280625T140000
DTSTAMP:20260423T133447
CREATED:20230711T182541Z
LAST-MODIFIED:20250806T192214Z
UID:10012170-1845543600-1845554400@stmichaels-litchfield.org
SUMMARY:Coffee and Fellowship in the Community House
DESCRIPTION:
URL:https://stmichaels-litchfield.org/event/coffee-and-congregation-in-the-community-house/2028-06-25/
LOCATION:Community House in Library from April 9th forward
CATEGORIES:Church Event
END:VEVENT
BEGIN:VEVENT
DTSTART;TZID=America/New_York:20280625T190000
DTEND;TZID=America/New_York:20280625T200000
DTSTAMP:20260423T133447
CREATED:20230619T142544Z
LAST-MODIFIED:20260416T160049Z
UID:10296105-1845572400-1845576000@stmichaels-litchfield.org
SUMMARY:AA Meeting in Community House
DESCRIPTION:
URL:https://stmichaels-litchfield.org/event/aa-meeting-in-community-house/2028-06-25/
LOCATION:Community House in Library from April 9th forward
END:VEVENT
BEGIN:VEVENT
DTSTART;VALUE=DATE:20280626
DTEND;VALUE=DATE:20280627
DTSTAMP:20260423T133447
CREATED:20260128T181321Z
LAST-MODIFIED:20260128T181322Z
UID:10291266-1845590400-1845676799@stmichaels-litchfield.org
SUMMARY:Church Office Closed
DESCRIPTION:
URL:https://stmichaels-litchfield.org/event/summer-schedule-church-office-closed-2-2-2-3/2028-06-26/
LOCATION:Church Office\, 25 South Street\, Litchfield\, CT\, 06759\, United States
CATEGORIES:Church Office Event
END:VEVENT
BEGIN:VEVENT
DTSTART;TZID=America/New_York:20280626T070000
DTEND;TZID=America/New_York:20280626T073000
DTSTAMP:20260423T133447
CREATED:20230606T184551Z
LAST-MODIFIED:20230619T142647Z
UID:10286857-1845615600-1845617400@stmichaels-litchfield.org
SUMMARY:AA Meeting in the Parish House Library
DESCRIPTION:
URL:https://stmichaels-litchfield.org/event/aa-meeting-in-the-library/2028-06-26/
LOCATION:Parish House Library\, 25 South Street\, Litchfield\, CT\, 06759\, United States
CATEGORIES:AA/NA Events
END:VEVENT
BEGIN:VEVENT
DTSTART;TZID=America/New_York:20280626T200000
DTEND;TZID=America/New_York:20280626T213000
DTSTAMP:20260423T133447
CREATED:20260218T173517Z
LAST-MODIFIED:20260218T173517Z
UID:10292689-1845662400-1845667800@stmichaels-litchfield.org
SUMMARY:AA meeting in the Community House
DESCRIPTION:
URL:https://stmichaels-litchfield.org/event/aa-meeting-in-the-community-house-2/2028-06-26/
LOCATION:CT
END:VEVENT
BEGIN:VEVENT
DTSTART;TZID=America/New_York:20280627T093000
DTEND;TZID=America/New_York:20280627T143000
DTSTAMP:20260423T133447
CREATED:20260128T181432Z
LAST-MODIFIED:20260128T181726Z
UID:10291927-1845711000-1845729000@stmichaels-litchfield.org
SUMMARY:Church Office Open
DESCRIPTION:
URL:https://stmichaels-litchfield.org/event/church-office-open-14/2028-06-27/
LOCATION:Church Office\, 25 South Street\, Litchfield\, CT\, 06759\, United States
CATEGORIES:Church Office Event
END:VEVENT
END:VCALENDAR