BEGIN:VCALENDAR
VERSION:2.0
PRODID:-//St. Michael&#039;s Church - ECPv6.15.20//NONSGML v1.0//EN
CALSCALE:GREGORIAN
METHOD:PUBLISH
X-WR-CALNAME:St. Michael&#039;s Church
X-ORIGINAL-URL:https://stmichaels-litchfield.org
X-WR-CALDESC:Events for St. Michael&#039;s Church
REFRESH-INTERVAL;VALUE=DURATION:PT1H
X-Robots-Tag:noindex
X-PUBLISHED-TTL:PT1H
BEGIN:VTIMEZONE
TZID:America/New_York
BEGIN:DAYLIGHT
TZOFFSETFROM:-0500
TZOFFSETTO:-0400
TZNAME:EDT
DTSTART:20270314T070000
END:DAYLIGHT
BEGIN:STANDARD
TZOFFSETFROM:-0400
TZOFFSETTO:-0500
TZNAME:EST
DTSTART:20271107T060000
END:STANDARD
BEGIN:DAYLIGHT
TZOFFSETFROM:-0500
TZOFFSETTO:-0400
TZNAME:EDT
DTSTART:20280312T070000
END:DAYLIGHT
BEGIN:STANDARD
TZOFFSETFROM:-0400
TZOFFSETTO:-0500
TZNAME:EST
DTSTART:20281105T060000
END:STANDARD
BEGIN:DAYLIGHT
TZOFFSETFROM:-0500
TZOFFSETTO:-0400
TZNAME:EDT
DTSTART:20290311T070000
END:DAYLIGHT
BEGIN:STANDARD
TZOFFSETFROM:-0400
TZOFFSETTO:-0500
TZNAME:EST
DTSTART:20291104T060000
END:STANDARD
END:VTIMEZONE
BEGIN:VEVENT
DTSTART;VALUE=DATE:20280724
DTEND;VALUE=DATE:20280725
DTSTAMP:20260423T160203
CREATED:20260128T181321Z
LAST-MODIFIED:20260128T181322Z
UID:10291270-1848009600-1848095999@stmichaels-litchfield.org
SUMMARY:Church Office Closed
DESCRIPTION:
URL:https://stmichaels-litchfield.org/event/summer-schedule-church-office-closed-2-2-2-3/2028-07-24/
LOCATION:Church Office\, 25 South Street\, Litchfield\, CT\, 06759\, United States
CATEGORIES:Church Office Event
END:VEVENT
BEGIN:VEVENT
DTSTART;TZID=America/New_York:20280724T070000
DTEND;TZID=America/New_York:20280724T073000
DTSTAMP:20260423T160203
CREATED:20230606T184551Z
LAST-MODIFIED:20230619T142647Z
UID:10286869-1848034800-1848036600@stmichaels-litchfield.org
SUMMARY:AA Meeting in the Parish House Library
DESCRIPTION:
URL:https://stmichaels-litchfield.org/event/aa-meeting-in-the-library/2028-07-24/
LOCATION:Parish House Library\, 25 South Street\, Litchfield\, CT\, 06759\, United States
CATEGORIES:AA/NA Events
END:VEVENT
BEGIN:VEVENT
DTSTART;TZID=America/New_York:20280724T200000
DTEND;TZID=America/New_York:20280724T213000
DTSTAMP:20260423T160203
CREATED:20260218T173517Z
LAST-MODIFIED:20260218T173517Z
UID:10292693-1848081600-1848087000@stmichaels-litchfield.org
SUMMARY:AA meeting in the Community House
DESCRIPTION:
URL:https://stmichaels-litchfield.org/event/aa-meeting-in-the-community-house-2/2028-07-24/
LOCATION:CT
END:VEVENT
BEGIN:VEVENT
DTSTART;TZID=America/New_York:20280725T093000
DTEND;TZID=America/New_York:20280725T143000
DTSTAMP:20260423T160204
CREATED:20260128T181432Z
LAST-MODIFIED:20260128T181726Z
UID:10291943-1848130200-1848148200@stmichaels-litchfield.org
SUMMARY:Church Office Open
DESCRIPTION:
URL:https://stmichaels-litchfield.org/event/church-office-open-14/2028-07-25/
LOCATION:Church Office\, 25 South Street\, Litchfield\, CT\, 06759\, United States
CATEGORIES:Church Office Event
END:VEVENT
BEGIN:VEVENT
DTSTART;TZID=America/New_York:20280725T160000
DTEND;TZID=America/New_York:20280725T173000
DTSTAMP:20260423T160204
CREATED:20260331T205128Z
LAST-MODIFIED:20260331T205254Z
UID:10294817-1848153600-1848159000@stmichaels-litchfield.org
SUMMARY:Priest Search Committee
DESCRIPTION:
URL:https://stmichaels-litchfield.org/event/priest-search-committee-3-2-5/2028-07-25/
LOCATION:Parish House Library\, 25 South Street\, Litchfield\, CT\, 06759\, United States
END:VEVENT
BEGIN:VEVENT
DTSTART;TZID=America/New_York:20280725T190000
DTEND;TZID=America/New_York:20280725T200000
DTSTAMP:20260423T160204
CREATED:20211108T175914Z
LAST-MODIFIED:20260130T014621Z
UID:10286626-1848164400-1848168000@stmichaels-litchfield.org
SUMMARY:AA Meeting in Community House
DESCRIPTION:
URL:https://stmichaels-litchfield.org/event/aa-group-in-community-house-2/2028-07-25/
LOCATION:Community House in Library from April 9th forward
CATEGORIES:AA/NA Events
END:VEVENT
BEGIN:VEVENT
DTSTART;TZID=America/New_York:20280726T070000
DTEND;TZID=America/New_York:20280726T073000
DTSTAMP:20260423T160204
CREATED:20230606T184551Z
LAST-MODIFIED:20230619T142647Z
UID:10286870-1848207600-1848209400@stmichaels-litchfield.org
SUMMARY:AA Meeting in the Parish House Library
DESCRIPTION:
URL:https://stmichaels-litchfield.org/event/aa-meeting-in-the-library/2028-07-26/
LOCATION:Parish House Library\, 25 South Street\, Litchfield\, CT\, 06759\, United States
CATEGORIES:AA/NA Events
END:VEVENT
BEGIN:VEVENT
DTSTART;TZID=America/New_York:20280726T083000
DTEND;TZID=America/New_York:20280726T110000
DTSTAMP:20260423T160204
CREATED:20250109T152013Z
LAST-MODIFIED:20250109T152013Z
UID:10019561-1848213000-1848222000@stmichaels-litchfield.org
SUMMARY:Greenwoods Counseling
DESCRIPTION:
URL:https://stmichaels-litchfield.org/event/greenwoods-counseling-7/2028-07-26/
LOCATION:CT
CATEGORIES:Greenwoods Counseling
END:VEVENT
BEGIN:VEVENT
DTSTART;TZID=America/New_York:20280726T093000
DTEND;TZID=America/New_York:20280726T143000
DTSTAMP:20260423T160204
CREATED:20260128T181432Z
LAST-MODIFIED:20260128T181726Z
UID:10291944-1848216600-1848234600@stmichaels-litchfield.org
SUMMARY:Church Office Open
DESCRIPTION:
URL:https://stmichaels-litchfield.org/event/church-office-open-14/2028-07-26/
LOCATION:Church Office\, 25 South Street\, Litchfield\, CT\, 06759\, United States
CATEGORIES:Church Office Event
END:VEVENT
BEGIN:VEVENT
DTSTART;TZID=America/New_York:20280726T110000
DTEND;TZID=America/New_York:20280726T133000
DTSTAMP:20260423T160204
CREATED:20231012T152740Z
LAST-MODIFIED:20231012T152740Z
UID:10013935-1848222000-1848231000@stmichaels-litchfield.org
SUMMARY:Greenwoods Counselling All Staff Meeting in the Community House
DESCRIPTION:
URL:https://stmichaels-litchfield.org/event/greenwoods-counselling-all-staff-meeting-in-the-community-house/2028-07-26/
LOCATION:Community House in Library from April 9th forward
CATEGORIES:Greenwoods Counseling
END:VEVENT
BEGIN:VEVENT
DTSTART;TZID=America/New_York:20280726T173000
DTEND;TZID=America/New_York:20280726T180000
DTSTAMP:20260423T160204
CREATED:20260327T155546Z
LAST-MODIFIED:20260422T175057Z
UID:10294558-1848245400-1848247200@stmichaels-litchfield.org
SUMMARY:Chanted Evening Prayer
DESCRIPTION:
URL:https://stmichaels-litchfield.org/event/chanted-evening-prayer-3/2028-07-26/
LOCATION:Chapel\, 25 South Street\, Litchfield\, CT\, 06759\, United States
CATEGORIES:Church Event
END:VEVENT
BEGIN:VEVENT
DTSTART;TZID=America/New_York:20280726T190000
DTEND;TZID=America/New_York:20280726T203000
DTSTAMP:20260423T160204
CREATED:20230817T183342Z
LAST-MODIFIED:20230817T183342Z
UID:10013253-1848250800-1848256200@stmichaels-litchfield.org
SUMMARY:Choir Rehearsal in Parish House Music Room
DESCRIPTION:
URL:https://stmichaels-litchfield.org/event/choir-rehearsal-in-parish-house-music-room/2028-07-26/
LOCATION:Parish House Music Room
CATEGORIES:Church Event
END:VEVENT
BEGIN:VEVENT
DTSTART;TZID=America/New_York:20280726T193000
DTEND;TZID=America/New_York:20280726T210000
DTSTAMP:20260423T160204
CREATED:20211108T180816Z
LAST-MODIFIED:20230714T003135Z
UID:10286726-1848252600-1848258000@stmichaels-litchfield.org
SUMMARY:NA meeting in Community House
DESCRIPTION:
URL:https://stmichaels-litchfield.org/event/narcotics-anonymous/2028-07-26/
LOCATION:Community House in Library from April 9th forward
CATEGORIES:AA/NA Events
END:VEVENT
BEGIN:VEVENT
DTSTART;TZID=America/New_York:20280727T093000
DTEND;TZID=America/New_York:20280727T143000
DTSTAMP:20260423T160204
CREATED:20260128T181432Z
LAST-MODIFIED:20260128T181726Z
UID:10291945-1848303000-1848321000@stmichaels-litchfield.org
SUMMARY:Church Office Open
DESCRIPTION:
URL:https://stmichaels-litchfield.org/event/church-office-open-14/2028-07-27/
LOCATION:Church Office\, 25 South Street\, Litchfield\, CT\, 06759\, United States
CATEGORIES:Church Office Event
END:VEVENT
BEGIN:VEVENT
DTSTART;TZID=America/New_York:20280728T070000
DTEND;TZID=America/New_York:20280728T073000
DTSTAMP:20260423T160204
CREATED:20230606T184551Z
LAST-MODIFIED:20230619T142647Z
UID:10286871-1848380400-1848382200@stmichaels-litchfield.org
SUMMARY:AA Meeting in the Parish House Library
DESCRIPTION:
URL:https://stmichaels-litchfield.org/event/aa-meeting-in-the-library/2028-07-28/
LOCATION:Parish House Library\, 25 South Street\, Litchfield\, CT\, 06759\, United States
CATEGORIES:AA/NA Events
END:VEVENT
BEGIN:VEVENT
DTSTART;TZID=America/New_York:20280728T093000
DTEND;TZID=America/New_York:20280728T143000
DTSTAMP:20260423T160204
CREATED:20260128T181432Z
LAST-MODIFIED:20260128T181726Z
UID:10291946-1848389400-1848407400@stmichaels-litchfield.org
SUMMARY:Church Office Open
DESCRIPTION:
URL:https://stmichaels-litchfield.org/event/church-office-open-14/2028-07-28/
LOCATION:Church Office\, 25 South Street\, Litchfield\, CT\, 06759\, United States
CATEGORIES:Church Office Event
END:VEVENT
BEGIN:VEVENT
DTSTART;TZID=America/New_York:20280730T080000
DTEND;TZID=America/New_York:20280730T090000
DTSTAMP:20260423T160204
CREATED:20211108T181651Z
LAST-MODIFIED:20260327T134504Z
UID:10020521-1848556800-1848560400@stmichaels-litchfield.org
SUMMARY:Eucharist\, Rite I
DESCRIPTION:Spoken\, no music
URL:https://stmichaels-litchfield.org/event/sunday-eucharist/2028-07-30/
LOCATION:Chapel\, 25 South Street\, Litchfield\, CT\, 06759\, United States
CATEGORIES:Church Event,Parish Events
END:VEVENT
BEGIN:VEVENT
DTSTART;TZID=America/New_York:20280730T100000
DTEND;TZID=America/New_York:20280730T110000
DTSTAMP:20260423T160204
CREATED:20250403T150154Z
LAST-MODIFIED:20260422T181447Z
UID:10012836-1848564000-1848567600@stmichaels-litchfield.org
SUMMARY:Sunday Eucharist\, Rite II
DESCRIPTION:Rite II with music \nFollowed by Coffee Hour in the Community House
URL:https://stmichaels-litchfield.org/event/sunday-eucharist-2-3/2028-07-30/
LOCATION:Church\, 25 South Street\, Litchfield\, CT\, 06759\, United States
CATEGORIES:Church Event,Parish Events
END:VEVENT
BEGIN:VEVENT
DTSTART;TZID=America/New_York:20280730T110000
DTEND;TZID=America/New_York:20280730T140000
DTSTAMP:20260423T160204
CREATED:20230711T182541Z
LAST-MODIFIED:20250806T192214Z
UID:10013868-1848567600-1848578400@stmichaels-litchfield.org
SUMMARY:Coffee and Fellowship in the Community House
DESCRIPTION:
URL:https://stmichaels-litchfield.org/event/coffee-and-congregation-in-the-community-house/2028-07-30/
LOCATION:Community House in Library from April 9th forward
CATEGORIES:Church Event
END:VEVENT
BEGIN:VEVENT
DTSTART;TZID=America/New_York:20280730T190000
DTEND;TZID=America/New_York:20280730T200000
DTSTAMP:20260423T160204
CREATED:20230619T142544Z
LAST-MODIFIED:20260416T160049Z
UID:10296110-1848596400-1848600000@stmichaels-litchfield.org
SUMMARY:AA Meeting in Community House
DESCRIPTION:
URL:https://stmichaels-litchfield.org/event/aa-meeting-in-community-house/2028-07-30/
LOCATION:Community House in Library from April 9th forward
END:VEVENT
BEGIN:VEVENT
DTSTART;VALUE=DATE:20280731
DTEND;VALUE=DATE:20280801
DTSTAMP:20260423T160204
CREATED:20260128T181321Z
LAST-MODIFIED:20260128T181322Z
UID:10291271-1848614400-1848700799@stmichaels-litchfield.org
SUMMARY:Church Office Closed
DESCRIPTION:
URL:https://stmichaels-litchfield.org/event/summer-schedule-church-office-closed-2-2-2-3/2028-07-31/
LOCATION:Church Office\, 25 South Street\, Litchfield\, CT\, 06759\, United States
CATEGORIES:Church Office Event
END:VEVENT
BEGIN:VEVENT
DTSTART;TZID=America/New_York:20280731T070000
DTEND;TZID=America/New_York:20280731T073000
DTSTAMP:20260423T160204
CREATED:20230606T184551Z
LAST-MODIFIED:20230619T142647Z
UID:10286872-1848639600-1848641400@stmichaels-litchfield.org
SUMMARY:AA Meeting in the Parish House Library
DESCRIPTION:
URL:https://stmichaels-litchfield.org/event/aa-meeting-in-the-library/2028-07-31/
LOCATION:Parish House Library\, 25 South Street\, Litchfield\, CT\, 06759\, United States
CATEGORIES:AA/NA Events
END:VEVENT
BEGIN:VEVENT
DTSTART;TZID=America/New_York:20280731T200000
DTEND;TZID=America/New_York:20280731T213000
DTSTAMP:20260423T160204
CREATED:20260218T173517Z
LAST-MODIFIED:20260218T173517Z
UID:10292694-1848686400-1848691800@stmichaels-litchfield.org
SUMMARY:AA meeting in the Community House
DESCRIPTION:
URL:https://stmichaels-litchfield.org/event/aa-meeting-in-the-community-house-2/2028-07-31/
LOCATION:CT
END:VEVENT
BEGIN:VEVENT
DTSTART;TZID=America/New_York:20280801T093000
DTEND;TZID=America/New_York:20280801T143000
DTSTAMP:20260423T160204
CREATED:20260128T181432Z
LAST-MODIFIED:20260128T181726Z
UID:10291947-1848735000-1848753000@stmichaels-litchfield.org
SUMMARY:Church Office Open
DESCRIPTION:
URL:https://stmichaels-litchfield.org/event/church-office-open-14/2028-08-01/
LOCATION:Church Office\, 25 South Street\, Litchfield\, CT\, 06759\, United States
CATEGORIES:Church Office Event
END:VEVENT
BEGIN:VEVENT
DTSTART;TZID=America/New_York:20280801T160000
DTEND;TZID=America/New_York:20280801T173000
DTSTAMP:20260423T160204
CREATED:20260331T205128Z
LAST-MODIFIED:20260331T205254Z
UID:10294818-1848758400-1848763800@stmichaels-litchfield.org
SUMMARY:Priest Search Committee
DESCRIPTION:
URL:https://stmichaels-litchfield.org/event/priest-search-committee-3-2-5/2028-08-01/
LOCATION:Parish House Library\, 25 South Street\, Litchfield\, CT\, 06759\, United States
END:VEVENT
BEGIN:VEVENT
DTSTART;TZID=America/New_York:20280801T171500
DTEND;TZID=America/New_York:20280801T183000
DTSTAMP:20260423T160204
CREATED:20231227T151453Z
LAST-MODIFIED:20260317T155826Z
UID:10293665-1848762900-1848767400@stmichaels-litchfield.org
SUMMARY:Property Committee Meeting in Parish House Library
DESCRIPTION:
URL:https://stmichaels-litchfield.org/event/property-committee-meeting-in-parish-house-library-3/2028-08-01/
LOCATION:Parish House Library\, 25 South Street\, Litchfield\, CT\, 06759\, United States
CATEGORIES:Church Event
END:VEVENT
BEGIN:VEVENT
DTSTART;TZID=America/New_York:20280801T190000
DTEND;TZID=America/New_York:20280801T200000
DTSTAMP:20260423T160204
CREATED:20211108T175914Z
LAST-MODIFIED:20260130T014621Z
UID:10286627-1848769200-1848772800@stmichaels-litchfield.org
SUMMARY:AA Meeting in Community House
DESCRIPTION:
URL:https://stmichaels-litchfield.org/event/aa-group-in-community-house-2/2028-08-01/
LOCATION:Community House in Library from April 9th forward
CATEGORIES:AA/NA Events
END:VEVENT
BEGIN:VEVENT
DTSTART;TZID=America/New_York:20280802T070000
DTEND;TZID=America/New_York:20280802T073000
DTSTAMP:20260423T160204
CREATED:20230606T184551Z
LAST-MODIFIED:20230619T142647Z
UID:10286873-1848812400-1848814200@stmichaels-litchfield.org
SUMMARY:AA Meeting in the Parish House Library
DESCRIPTION:
URL:https://stmichaels-litchfield.org/event/aa-meeting-in-the-library/2028-08-02/
LOCATION:Parish House Library\, 25 South Street\, Litchfield\, CT\, 06759\, United States
CATEGORIES:AA/NA Events
END:VEVENT
BEGIN:VEVENT
DTSTART;TZID=America/New_York:20280802T083000
DTEND;TZID=America/New_York:20280802T110000
DTSTAMP:20260423T160204
CREATED:20250109T152013Z
LAST-MODIFIED:20250109T152013Z
UID:10019562-1848817800-1848826800@stmichaels-litchfield.org
SUMMARY:Greenwoods Counseling
DESCRIPTION:
URL:https://stmichaels-litchfield.org/event/greenwoods-counseling-7/2028-08-02/
LOCATION:CT
CATEGORIES:Greenwoods Counseling
END:VEVENT
BEGIN:VEVENT
DTSTART;TZID=America/New_York:20280802T093000
DTEND;TZID=America/New_York:20280802T143000
DTSTAMP:20260423T160204
CREATED:20260128T181432Z
LAST-MODIFIED:20260128T181726Z
UID:10291948-1848821400-1848839400@stmichaels-litchfield.org
SUMMARY:Church Office Open
DESCRIPTION:
URL:https://stmichaels-litchfield.org/event/church-office-open-14/2028-08-02/
LOCATION:Church Office\, 25 South Street\, Litchfield\, CT\, 06759\, United States
CATEGORIES:Church Office Event
END:VEVENT
END:VCALENDAR