BEGIN:VCALENDAR
VERSION:2.0
PRODID:-//St. Michael&#039;s Church - ECPv6.15.20//NONSGML v1.0//EN
CALSCALE:GREGORIAN
METHOD:PUBLISH
X-WR-CALNAME:St. Michael&#039;s Church
X-ORIGINAL-URL:https://stmichaels-litchfield.org
X-WR-CALDESC:Events for St. Michael&#039;s Church
REFRESH-INTERVAL;VALUE=DURATION:PT1H
X-Robots-Tag:noindex
X-PUBLISHED-TTL:PT1H
BEGIN:VTIMEZONE
TZID:America/New_York
BEGIN:DAYLIGHT
TZOFFSETFROM:-0500
TZOFFSETTO:-0400
TZNAME:EDT
DTSTART:20270314T070000
END:DAYLIGHT
BEGIN:STANDARD
TZOFFSETFROM:-0400
TZOFFSETTO:-0500
TZNAME:EST
DTSTART:20271107T060000
END:STANDARD
BEGIN:DAYLIGHT
TZOFFSETFROM:-0500
TZOFFSETTO:-0400
TZNAME:EDT
DTSTART:20280312T070000
END:DAYLIGHT
BEGIN:STANDARD
TZOFFSETFROM:-0400
TZOFFSETTO:-0500
TZNAME:EST
DTSTART:20281105T060000
END:STANDARD
BEGIN:DAYLIGHT
TZOFFSETFROM:-0500
TZOFFSETTO:-0400
TZNAME:EDT
DTSTART:20290311T070000
END:DAYLIGHT
BEGIN:STANDARD
TZOFFSETFROM:-0400
TZOFFSETTO:-0500
TZNAME:EST
DTSTART:20291104T060000
END:STANDARD
END:VTIMEZONE
BEGIN:VEVENT
DTSTART;TZID=America/New_York:20280912T093000
DTEND;TZID=America/New_York:20280912T143000
DTSTAMP:20260423T194808
CREATED:20260128T181432Z
LAST-MODIFIED:20260128T181726Z
UID:10291971-1852363800-1852381800@stmichaels-litchfield.org
SUMMARY:Church Office Open
DESCRIPTION:
URL:https://stmichaels-litchfield.org/event/church-office-open-14/2028-09-12/
LOCATION:Church Office\, 25 South Street\, Litchfield\, CT\, 06759\, United States
CATEGORIES:Church Office Event
END:VEVENT
BEGIN:VEVENT
DTSTART;TZID=America/New_York:20280912T120000
DTEND;TZID=America/New_York:20280912T130000
DTSTAMP:20260423T194808
CREATED:20260223T205039Z
LAST-MODIFIED:20260223T205039Z
UID:10293195-1852372800-1852376400@stmichaels-litchfield.org
SUMMARY:Lunch with Meredith
DESCRIPTION:
URL:https://stmichaels-litchfield.org/event/lunch-with-meredith-2/2028-09-12/
LOCATION:Community House in Library from April 9th forward
CATEGORIES:Church Event,Parish Events
END:VEVENT
BEGIN:VEVENT
DTSTART;TZID=America/New_York:20280912T151500
DTEND;TZID=America/New_York:20280912T163000
DTSTAMP:20260423T194808
CREATED:20260223T204456Z
LAST-MODIFIED:20260304T185946Z
UID:10293583-1852384500-1852389000@stmichaels-litchfield.org
SUMMARY:Property Committee meeting in Parish House Library
DESCRIPTION:
URL:https://stmichaels-litchfield.org/event/property-committee-meeting-in-parish-house-library-4/2028-09-12/
LOCATION:Parish House Library\, 25 South Street\, Litchfield\, CT\, 06759\, United States
CATEGORIES:Church Event
END:VEVENT
BEGIN:VEVENT
DTSTART;TZID=America/New_York:20280912T160000
DTEND;TZID=America/New_York:20280912T173000
DTSTAMP:20260423T194808
CREATED:20260331T205128Z
LAST-MODIFIED:20260331T205254Z
UID:10294824-1852387200-1852392600@stmichaels-litchfield.org
SUMMARY:Priest Search Committee
DESCRIPTION:
URL:https://stmichaels-litchfield.org/event/priest-search-committee-3-2-5/2028-09-12/
LOCATION:Parish House Library\, 25 South Street\, Litchfield\, CT\, 06759\, United States
END:VEVENT
BEGIN:VEVENT
DTSTART;TZID=America/New_York:20280912T190000
DTEND;TZID=America/New_York:20280912T200000
DTSTAMP:20260423T194808
CREATED:20211108T175914Z
LAST-MODIFIED:20260130T014621Z
UID:10286633-1852398000-1852401600@stmichaels-litchfield.org
SUMMARY:AA Meeting in Community House
DESCRIPTION:
URL:https://stmichaels-litchfield.org/event/aa-group-in-community-house-2/2028-09-12/
LOCATION:Community House in Library from April 9th forward
CATEGORIES:AA/NA Events
END:VEVENT
BEGIN:VEVENT
DTSTART;TZID=America/New_York:20280913T070000
DTEND;TZID=America/New_York:20280913T073000
DTSTAMP:20260423T194808
CREATED:20230606T184551Z
LAST-MODIFIED:20230619T142647Z
UID:10286891-1852441200-1852443000@stmichaels-litchfield.org
SUMMARY:AA Meeting in the Parish House Library
DESCRIPTION:
URL:https://stmichaels-litchfield.org/event/aa-meeting-in-the-library/2028-09-13/
LOCATION:Parish House Library\, 25 South Street\, Litchfield\, CT\, 06759\, United States
CATEGORIES:AA/NA Events
END:VEVENT
BEGIN:VEVENT
DTSTART;TZID=America/New_York:20280913T083000
DTEND;TZID=America/New_York:20280913T110000
DTSTAMP:20260423T194808
CREATED:20250109T152013Z
LAST-MODIFIED:20250109T152013Z
UID:10019568-1852446600-1852455600@stmichaels-litchfield.org
SUMMARY:Greenwoods Counseling
DESCRIPTION:
URL:https://stmichaels-litchfield.org/event/greenwoods-counseling-7/2028-09-13/
CATEGORIES:Greenwoods Counseling
END:VEVENT
BEGIN:VEVENT
DTSTART;TZID=America/New_York:20280913T093000
DTEND;TZID=America/New_York:20280913T143000
DTSTAMP:20260423T194808
CREATED:20260128T181432Z
LAST-MODIFIED:20260128T181726Z
UID:10291972-1852450200-1852468200@stmichaels-litchfield.org
SUMMARY:Church Office Open
DESCRIPTION:
URL:https://stmichaels-litchfield.org/event/church-office-open-14/2028-09-13/
LOCATION:Church Office\, 25 South Street\, Litchfield\, CT\, 06759\, United States
CATEGORIES:Church Office Event
END:VEVENT
BEGIN:VEVENT
DTSTART;TZID=America/New_York:20280913T173000
DTEND;TZID=America/New_York:20280913T180000
DTSTAMP:20260423T194808
CREATED:20260327T155546Z
LAST-MODIFIED:20260422T175057Z
UID:10294565-1852479000-1852480800@stmichaels-litchfield.org
SUMMARY:Chanted Evening Prayer
DESCRIPTION:
URL:https://stmichaels-litchfield.org/event/chanted-evening-prayer-3/2028-09-13/
LOCATION:Chapel\, 25 South Street\, Litchfield\, CT\, 06759\, United States
CATEGORIES:Church Event
END:VEVENT
BEGIN:VEVENT
DTSTART;TZID=America/New_York:20280913T193000
DTEND;TZID=America/New_York:20280913T210000
DTSTAMP:20260423T194808
CREATED:20211108T180816Z
LAST-MODIFIED:20230714T003135Z
UID:10286733-1852486200-1852491600@stmichaels-litchfield.org
SUMMARY:NA meeting in Community House
DESCRIPTION:
URL:https://stmichaels-litchfield.org/event/narcotics-anonymous/2028-09-13/
LOCATION:Community House in Library from April 9th forward
CATEGORIES:AA/NA Events
END:VEVENT
BEGIN:VEVENT
DTSTART;TZID=America/New_York:20280914T093000
DTEND;TZID=America/New_York:20280914T143000
DTSTAMP:20260423T194808
CREATED:20260128T181432Z
LAST-MODIFIED:20260128T181726Z
UID:10291973-1852536600-1852554600@stmichaels-litchfield.org
SUMMARY:Church Office Open
DESCRIPTION:
URL:https://stmichaels-litchfield.org/event/church-office-open-14/2028-09-14/
LOCATION:Church Office\, 25 South Street\, Litchfield\, CT\, 06759\, United States
CATEGORIES:Church Office Event
END:VEVENT
BEGIN:VEVENT
DTSTART;TZID=America/New_York:20280915T070000
DTEND;TZID=America/New_York:20280915T073000
DTSTAMP:20260423T194808
CREATED:20230606T184551Z
LAST-MODIFIED:20230619T142647Z
UID:10286892-1852614000-1852615800@stmichaels-litchfield.org
SUMMARY:AA Meeting in the Parish House Library
DESCRIPTION:
URL:https://stmichaels-litchfield.org/event/aa-meeting-in-the-library/2028-09-15/
LOCATION:Parish House Library\, 25 South Street\, Litchfield\, CT\, 06759\, United States
CATEGORIES:AA/NA Events
END:VEVENT
BEGIN:VEVENT
DTSTART;TZID=America/New_York:20280915T093000
DTEND;TZID=America/New_York:20280915T143000
DTSTAMP:20260423T194808
CREATED:20260128T181432Z
LAST-MODIFIED:20260128T181726Z
UID:10291974-1852623000-1852641000@stmichaels-litchfield.org
SUMMARY:Church Office Open
DESCRIPTION:
URL:https://stmichaels-litchfield.org/event/church-office-open-14/2028-09-15/
LOCATION:Church Office\, 25 South Street\, Litchfield\, CT\, 06759\, United States
CATEGORIES:Church Office Event
END:VEVENT
BEGIN:VEVENT
DTSTART;TZID=America/New_York:20280917T080000
DTEND;TZID=America/New_York:20280917T090000
DTSTAMP:20260423T194808
CREATED:20211108T181651Z
LAST-MODIFIED:20260327T134504Z
UID:10020528-1852790400-1852794000@stmichaels-litchfield.org
SUMMARY:Eucharist\, Rite I
DESCRIPTION:Spoken\, no music
URL:https://stmichaels-litchfield.org/event/sunday-eucharist/2028-09-17/
LOCATION:Chapel\, 25 South Street\, Litchfield\, CT\, 06759\, United States
CATEGORIES:Church Event,Parish Events
END:VEVENT
BEGIN:VEVENT
DTSTART;TZID=America/New_York:20280917T100000
DTEND;TZID=America/New_York:20280917T110000
DTSTAMP:20260423T194809
CREATED:20250403T150154Z
LAST-MODIFIED:20260422T181447Z
UID:10020614-1852797600-1852801200@stmichaels-litchfield.org
SUMMARY:Sunday Eucharist\, Rite II
DESCRIPTION:Rite II with music \nFollowed by Coffee Hour in the Community House
URL:https://stmichaels-litchfield.org/event/sunday-eucharist-2-3/2028-09-17/
LOCATION:Church\, 25 South Street\, Litchfield\, CT\, 06759\, United States
CATEGORIES:Church Event,Parish Events
END:VEVENT
BEGIN:VEVENT
DTSTART;TZID=America/New_York:20280917T110000
DTEND;TZID=America/New_York:20280917T140000
DTSTAMP:20260423T194809
CREATED:20230711T182541Z
LAST-MODIFIED:20250806T192214Z
UID:10013875-1852801200-1852812000@stmichaels-litchfield.org
SUMMARY:Coffee and Fellowship in the Community House
DESCRIPTION:
URL:https://stmichaels-litchfield.org/event/coffee-and-congregation-in-the-community-house/2028-09-17/
LOCATION:Community House in Library from April 9th forward
CATEGORIES:Church Event
END:VEVENT
BEGIN:VEVENT
DTSTART;TZID=America/New_York:20280917T190000
DTEND;TZID=America/New_York:20280917T200000
DTSTAMP:20260423T194809
CREATED:20230619T142544Z
LAST-MODIFIED:20260416T160049Z
UID:10296117-1852830000-1852833600@stmichaels-litchfield.org
SUMMARY:AA Meeting in Community House
DESCRIPTION:
URL:https://stmichaels-litchfield.org/event/aa-meeting-in-community-house/2028-09-17/
LOCATION:Community House in Library from April 9th forward
END:VEVENT
BEGIN:VEVENT
DTSTART;VALUE=DATE:20280918
DTEND;VALUE=DATE:20280919
DTSTAMP:20260423T194809
CREATED:20260128T181321Z
LAST-MODIFIED:20260128T181322Z
UID:10291278-1852848000-1852934399@stmichaels-litchfield.org
SUMMARY:Church Office Closed
DESCRIPTION:
URL:https://stmichaels-litchfield.org/event/summer-schedule-church-office-closed-2-2-2-3/2028-09-18/
LOCATION:Church Office\, 25 South Street\, Litchfield\, CT\, 06759\, United States
CATEGORIES:Church Office Event
END:VEVENT
BEGIN:VEVENT
DTSTART;TZID=America/New_York:20280918T070000
DTEND;TZID=America/New_York:20280918T073000
DTSTAMP:20260423T194809
CREATED:20230606T184551Z
LAST-MODIFIED:20230619T142647Z
UID:10286893-1852873200-1852875000@stmichaels-litchfield.org
SUMMARY:AA Meeting in the Parish House Library
DESCRIPTION:
URL:https://stmichaels-litchfield.org/event/aa-meeting-in-the-library/2028-09-18/
LOCATION:Parish House Library\, 25 South Street\, Litchfield\, CT\, 06759\, United States
CATEGORIES:AA/NA Events
END:VEVENT
BEGIN:VEVENT
DTSTART;TZID=America/New_York:20280918T200000
DTEND;TZID=America/New_York:20280918T213000
DTSTAMP:20260423T194809
CREATED:20260218T173517Z
LAST-MODIFIED:20260218T173517Z
UID:10292701-1852920000-1852925400@stmichaels-litchfield.org
SUMMARY:AA meeting in the Community House
DESCRIPTION:
URL:https://stmichaels-litchfield.org/event/aa-meeting-in-the-community-house-2/2028-09-18/
END:VEVENT
BEGIN:VEVENT
DTSTART;TZID=America/New_York:20280919T093000
DTEND;TZID=America/New_York:20280919T143000
DTSTAMP:20260423T194809
CREATED:20260128T181432Z
LAST-MODIFIED:20260128T181726Z
UID:10291975-1852968600-1852986600@stmichaels-litchfield.org
SUMMARY:Church Office Open
DESCRIPTION:
URL:https://stmichaels-litchfield.org/event/church-office-open-14/2028-09-19/
LOCATION:Church Office\, 25 South Street\, Litchfield\, CT\, 06759\, United States
CATEGORIES:Church Office Event
END:VEVENT
BEGIN:VEVENT
DTSTART;TZID=America/New_York:20280919T160000
DTEND;TZID=America/New_York:20280919T173000
DTSTAMP:20260423T194809
CREATED:20260331T205128Z
LAST-MODIFIED:20260331T205254Z
UID:10294825-1852992000-1852997400@stmichaels-litchfield.org
SUMMARY:Priest Search Committee
DESCRIPTION:
URL:https://stmichaels-litchfield.org/event/priest-search-committee-3-2-5/2028-09-19/
LOCATION:Parish House Library\, 25 South Street\, Litchfield\, CT\, 06759\, United States
END:VEVENT
BEGIN:VEVENT
DTSTART;TZID=America/New_York:20280919T190000
DTEND;TZID=America/New_York:20280919T200000
DTSTAMP:20260423T194809
CREATED:20211108T175914Z
LAST-MODIFIED:20260130T014621Z
UID:10286634-1853002800-1853006400@stmichaels-litchfield.org
SUMMARY:AA Meeting in Community House
DESCRIPTION:
URL:https://stmichaels-litchfield.org/event/aa-group-in-community-house-2/2028-09-19/
LOCATION:Community House in Library from April 9th forward
CATEGORIES:AA/NA Events
END:VEVENT
BEGIN:VEVENT
DTSTART;TZID=America/New_York:20280920T070000
DTEND;TZID=America/New_York:20280920T073000
DTSTAMP:20260423T194809
CREATED:20230606T184551Z
LAST-MODIFIED:20230619T142647Z
UID:10286894-1853046000-1853047800@stmichaels-litchfield.org
SUMMARY:AA Meeting in the Parish House Library
DESCRIPTION:
URL:https://stmichaels-litchfield.org/event/aa-meeting-in-the-library/2028-09-20/
LOCATION:Parish House Library\, 25 South Street\, Litchfield\, CT\, 06759\, United States
CATEGORIES:AA/NA Events
END:VEVENT
BEGIN:VEVENT
DTSTART;TZID=America/New_York:20280920T083000
DTEND;TZID=America/New_York:20280920T110000
DTSTAMP:20260423T194809
CREATED:20250109T152013Z
LAST-MODIFIED:20250109T152013Z
UID:10019569-1853051400-1853060400@stmichaels-litchfield.org
SUMMARY:Greenwoods Counseling
DESCRIPTION:
URL:https://stmichaels-litchfield.org/event/greenwoods-counseling-7/2028-09-20/
CATEGORIES:Greenwoods Counseling
END:VEVENT
BEGIN:VEVENT
DTSTART;TZID=America/New_York:20280920T093000
DTEND;TZID=America/New_York:20280920T143000
DTSTAMP:20260423T194809
CREATED:20260128T181432Z
LAST-MODIFIED:20260128T181726Z
UID:10291976-1853055000-1853073000@stmichaels-litchfield.org
SUMMARY:Church Office Open
DESCRIPTION:
URL:https://stmichaels-litchfield.org/event/church-office-open-14/2028-09-20/
LOCATION:Church Office\, 25 South Street\, Litchfield\, CT\, 06759\, United States
CATEGORIES:Church Office Event
END:VEVENT
BEGIN:VEVENT
DTSTART;TZID=America/New_York:20280920T173000
DTEND;TZID=America/New_York:20280920T180000
DTSTAMP:20260423T194809
CREATED:20260327T155546Z
LAST-MODIFIED:20260422T175057Z
UID:10294566-1853083800-1853085600@stmichaels-litchfield.org
SUMMARY:Chanted Evening Prayer
DESCRIPTION:
URL:https://stmichaels-litchfield.org/event/chanted-evening-prayer-3/2028-09-20/
LOCATION:Chapel\, 25 South Street\, Litchfield\, CT\, 06759\, United States
CATEGORIES:Church Event
END:VEVENT
BEGIN:VEVENT
DTSTART;TZID=America/New_York:20280920T193000
DTEND;TZID=America/New_York:20280920T210000
DTSTAMP:20260423T194809
CREATED:20211108T180816Z
LAST-MODIFIED:20230714T003135Z
UID:10286734-1853091000-1853096400@stmichaels-litchfield.org
SUMMARY:NA meeting in Community House
DESCRIPTION:
URL:https://stmichaels-litchfield.org/event/narcotics-anonymous/2028-09-20/
LOCATION:Community House in Library from April 9th forward
CATEGORIES:AA/NA Events
END:VEVENT
BEGIN:VEVENT
DTSTART;TZID=America/New_York:20280921T093000
DTEND;TZID=America/New_York:20280921T143000
DTSTAMP:20260423T194809
CREATED:20260128T181432Z
LAST-MODIFIED:20260128T181726Z
UID:10291977-1853141400-1853159400@stmichaels-litchfield.org
SUMMARY:Church Office Open
DESCRIPTION:
URL:https://stmichaels-litchfield.org/event/church-office-open-14/2028-09-21/
LOCATION:Church Office\, 25 South Street\, Litchfield\, CT\, 06759\, United States
CATEGORIES:Church Office Event
END:VEVENT
BEGIN:VEVENT
DTSTART;TZID=America/New_York:20280922T070000
DTEND;TZID=America/New_York:20280922T073000
DTSTAMP:20260423T194809
CREATED:20230606T184551Z
LAST-MODIFIED:20230619T142647Z
UID:10286895-1853218800-1853220600@stmichaels-litchfield.org
SUMMARY:AA Meeting in the Parish House Library
DESCRIPTION:
URL:https://stmichaels-litchfield.org/event/aa-meeting-in-the-library/2028-09-22/
LOCATION:Parish House Library\, 25 South Street\, Litchfield\, CT\, 06759\, United States
CATEGORIES:AA/NA Events
END:VEVENT
END:VCALENDAR