BEGIN:VCALENDAR
VERSION:2.0
PRODID:-//St. Michael&#039;s Church - ECPv6.15.20//NONSGML v1.0//EN
CALSCALE:GREGORIAN
METHOD:PUBLISH
X-WR-CALNAME:St. Michael&#039;s Church
X-ORIGINAL-URL:https://stmichaels-litchfield.org
X-WR-CALDESC:Events for St. Michael&#039;s Church
REFRESH-INTERVAL;VALUE=DURATION:PT1H
X-Robots-Tag:noindex
X-PUBLISHED-TTL:PT1H
BEGIN:VTIMEZONE
TZID:America/New_York
BEGIN:DAYLIGHT
TZOFFSETFROM:-0500
TZOFFSETTO:-0400
TZNAME:EDT
DTSTART:20280312T070000
END:DAYLIGHT
BEGIN:STANDARD
TZOFFSETFROM:-0400
TZOFFSETTO:-0500
TZNAME:EST
DTSTART:20281105T060000
END:STANDARD
BEGIN:DAYLIGHT
TZOFFSETFROM:-0500
TZOFFSETTO:-0400
TZNAME:EDT
DTSTART:20290311T070000
END:DAYLIGHT
BEGIN:STANDARD
TZOFFSETFROM:-0400
TZOFFSETTO:-0500
TZNAME:EST
DTSTART:20291104T060000
END:STANDARD
BEGIN:DAYLIGHT
TZOFFSETFROM:-0500
TZOFFSETTO:-0400
TZNAME:EDT
DTSTART:20300310T070000
END:DAYLIGHT
BEGIN:STANDARD
TZOFFSETFROM:-0400
TZOFFSETTO:-0500
TZNAME:EST
DTSTART:20301103T060000
END:STANDARD
END:VTIMEZONE
BEGIN:VEVENT
DTSTART;VALUE=DATE:20290212
DTEND;VALUE=DATE:20290213
DTSTAMP:20260424T075755
CREATED:20260128T181321Z
LAST-MODIFIED:20260128T181322Z
UID:10291299-1865548800-1865635199@stmichaels-litchfield.org
SUMMARY:Church Office Closed
DESCRIPTION:
URL:https://stmichaels-litchfield.org/event/summer-schedule-church-office-closed-2-2-2-3/2029-02-12/
LOCATION:Church Office\, 25 South Street\, Litchfield\, CT\, 06759\, United States
CATEGORIES:Church Office Event
END:VEVENT
BEGIN:VEVENT
DTSTART;TZID=America/New_York:20290212T070000
DTEND;TZID=America/New_York:20290212T073000
DTSTAMP:20260424T075755
CREATED:20230606T184551Z
LAST-MODIFIED:20230619T142647Z
UID:10286956-1865574000-1865575800@stmichaels-litchfield.org
SUMMARY:AA Meeting in the Parish House Library
DESCRIPTION:
URL:https://stmichaels-litchfield.org/event/aa-meeting-in-the-library/2029-02-12/
LOCATION:Parish House Library\, 25 South Street\, Litchfield\, CT\, 06759\, United States
CATEGORIES:AA/NA Events
END:VEVENT
BEGIN:VEVENT
DTSTART;TZID=America/New_York:20290212T200000
DTEND;TZID=America/New_York:20290212T213000
DTSTAMP:20260424T075755
CREATED:20260218T173517Z
LAST-MODIFIED:20260218T173517Z
UID:10292722-1865620800-1865626200@stmichaels-litchfield.org
SUMMARY:AA meeting in the Community House
DESCRIPTION:
URL:https://stmichaels-litchfield.org/event/aa-meeting-in-the-community-house-2/2029-02-12/
END:VEVENT
BEGIN:VEVENT
DTSTART;TZID=America/New_York:20290213T093000
DTEND;TZID=America/New_York:20290213T143000
DTSTAMP:20260424T075755
CREATED:20260128T181432Z
LAST-MODIFIED:20260128T181726Z
UID:10292059-1865669400-1865687400@stmichaels-litchfield.org
SUMMARY:Church Office Open
DESCRIPTION:
URL:https://stmichaels-litchfield.org/event/church-office-open-14/2029-02-13/
LOCATION:Church Office\, 25 South Street\, Litchfield\, CT\, 06759\, United States
CATEGORIES:Church Office Event
END:VEVENT
BEGIN:VEVENT
DTSTART;TZID=America/New_York:20290213T120000
DTEND;TZID=America/New_York:20290213T130000
DTSTAMP:20260424T075755
CREATED:20260223T205039Z
LAST-MODIFIED:20260223T205039Z
UID:10293200-1865678400-1865682000@stmichaels-litchfield.org
SUMMARY:Lunch with Meredith
DESCRIPTION:
URL:https://stmichaels-litchfield.org/event/lunch-with-meredith-2/2029-02-13/
LOCATION:Community House in Library from April 9th forward
CATEGORIES:Church Event,Parish Events
END:VEVENT
BEGIN:VEVENT
DTSTART;TZID=America/New_York:20290213T151500
DTEND;TZID=America/New_York:20290213T163000
DTSTAMP:20260424T075755
CREATED:20260223T204456Z
LAST-MODIFIED:20260304T185946Z
UID:10293588-1865690100-1865694600@stmichaels-litchfield.org
SUMMARY:Property Committee meeting in Parish House Library
DESCRIPTION:
URL:https://stmichaels-litchfield.org/event/property-committee-meeting-in-parish-house-library-4/2029-02-13/
LOCATION:Parish House Library\, 25 South Street\, Litchfield\, CT\, 06759\, United States
CATEGORIES:Church Event
END:VEVENT
BEGIN:VEVENT
DTSTART;TZID=America/New_York:20290213T160000
DTEND;TZID=America/New_York:20290213T173000
DTSTAMP:20260424T075755
CREATED:20260331T205128Z
LAST-MODIFIED:20260331T205254Z
UID:10294846-1865692800-1865698200@stmichaels-litchfield.org
SUMMARY:Priest Search Committee
DESCRIPTION:
URL:https://stmichaels-litchfield.org/event/priest-search-committee-3-2-5/2029-02-13/
LOCATION:Parish House Library\, 25 South Street\, Litchfield\, CT\, 06759\, United States
END:VEVENT
BEGIN:VEVENT
DTSTART;TZID=America/New_York:20290213T190000
DTEND;TZID=America/New_York:20290213T200000
DTSTAMP:20260424T075755
CREATED:20211108T175914Z
LAST-MODIFIED:20260130T014621Z
UID:10286655-1865703600-1865707200@stmichaels-litchfield.org
SUMMARY:AA Meeting in Community House
DESCRIPTION:
URL:https://stmichaels-litchfield.org/event/aa-group-in-community-house-2/2029-02-13/
LOCATION:Community House in Library from April 9th forward
CATEGORIES:AA/NA Events
END:VEVENT
BEGIN:VEVENT
DTSTART;TZID=America/New_York:20290214T070000
DTEND;TZID=America/New_York:20290214T073000
DTSTAMP:20260424T075755
CREATED:20230606T184551Z
LAST-MODIFIED:20230619T142647Z
UID:10286957-1865746800-1865748600@stmichaels-litchfield.org
SUMMARY:AA Meeting in the Parish House Library
DESCRIPTION:
URL:https://stmichaels-litchfield.org/event/aa-meeting-in-the-library/2029-02-14/
LOCATION:Parish House Library\, 25 South Street\, Litchfield\, CT\, 06759\, United States
CATEGORIES:AA/NA Events
END:VEVENT
BEGIN:VEVENT
DTSTART;TZID=America/New_York:20290214T083000
DTEND;TZID=America/New_York:20290214T110000
DTSTAMP:20260424T075755
CREATED:20250109T152013Z
LAST-MODIFIED:20250109T152013Z
UID:10019590-1865752200-1865761200@stmichaels-litchfield.org
SUMMARY:Greenwoods Counseling
DESCRIPTION:
URL:https://stmichaels-litchfield.org/event/greenwoods-counseling-7/2029-02-14/
CATEGORIES:Greenwoods Counseling
END:VEVENT
BEGIN:VEVENT
DTSTART;TZID=America/New_York:20290214T093000
DTEND;TZID=America/New_York:20290214T143000
DTSTAMP:20260424T075755
CREATED:20260128T181432Z
LAST-MODIFIED:20260128T181726Z
UID:10292060-1865755800-1865773800@stmichaels-litchfield.org
SUMMARY:Church Office Open
DESCRIPTION:
URL:https://stmichaels-litchfield.org/event/church-office-open-14/2029-02-14/
LOCATION:Church Office\, 25 South Street\, Litchfield\, CT\, 06759\, United States
CATEGORIES:Church Office Event
END:VEVENT
BEGIN:VEVENT
DTSTART;TZID=America/New_York:20290214T173000
DTEND;TZID=America/New_York:20290214T180000
DTSTAMP:20260424T075755
CREATED:20260327T155546Z
LAST-MODIFIED:20260422T175057Z
UID:10294587-1865784600-1865786400@stmichaels-litchfield.org
SUMMARY:Chanted Evening Prayer
DESCRIPTION:
URL:https://stmichaels-litchfield.org/event/chanted-evening-prayer-3/2029-02-14/
LOCATION:Chapel\, 25 South Street\, Litchfield\, CT\, 06759\, United States
CATEGORIES:Church Event
END:VEVENT
BEGIN:VEVENT
DTSTART;TZID=America/New_York:20290214T193000
DTEND;TZID=America/New_York:20290214T210000
DTSTAMP:20260424T075755
CREATED:20211108T180816Z
LAST-MODIFIED:20230714T003135Z
UID:10286755-1865791800-1865797200@stmichaels-litchfield.org
SUMMARY:NA meeting in Community House
DESCRIPTION:
URL:https://stmichaels-litchfield.org/event/narcotics-anonymous/2029-02-14/
LOCATION:Community House in Library from April 9th forward
CATEGORIES:AA/NA Events
END:VEVENT
BEGIN:VEVENT
DTSTART;TZID=America/New_York:20290215T093000
DTEND;TZID=America/New_York:20290215T143000
DTSTAMP:20260424T075755
CREATED:20260128T181432Z
LAST-MODIFIED:20260128T181726Z
UID:10292061-1865842200-1865860200@stmichaels-litchfield.org
SUMMARY:Church Office Open
DESCRIPTION:
URL:https://stmichaels-litchfield.org/event/church-office-open-14/2029-02-15/
LOCATION:Church Office\, 25 South Street\, Litchfield\, CT\, 06759\, United States
CATEGORIES:Church Office Event
END:VEVENT
BEGIN:VEVENT
DTSTART;TZID=America/New_York:20290216T070000
DTEND;TZID=America/New_York:20290216T073000
DTSTAMP:20260424T075755
CREATED:20230606T184551Z
LAST-MODIFIED:20230619T142647Z
UID:10286958-1865919600-1865921400@stmichaels-litchfield.org
SUMMARY:AA Meeting in the Parish House Library
DESCRIPTION:
URL:https://stmichaels-litchfield.org/event/aa-meeting-in-the-library/2029-02-16/
LOCATION:Parish House Library\, 25 South Street\, Litchfield\, CT\, 06759\, United States
CATEGORIES:AA/NA Events
END:VEVENT
BEGIN:VEVENT
DTSTART;TZID=America/New_York:20290216T093000
DTEND;TZID=America/New_York:20290216T143000
DTSTAMP:20260424T075755
CREATED:20260128T181432Z
LAST-MODIFIED:20260128T181726Z
UID:10292062-1865928600-1865946600@stmichaels-litchfield.org
SUMMARY:Church Office Open
DESCRIPTION:
URL:https://stmichaels-litchfield.org/event/church-office-open-14/2029-02-16/
LOCATION:Church Office\, 25 South Street\, Litchfield\, CT\, 06759\, United States
CATEGORIES:Church Office Event
END:VEVENT
BEGIN:VEVENT
DTSTART;TZID=America/New_York:20290218T080000
DTEND;TZID=America/New_York:20290218T090000
DTSTAMP:20260424T075755
CREATED:20211108T181651Z
LAST-MODIFIED:20260327T134504Z
UID:10020550-1866096000-1866099600@stmichaels-litchfield.org
SUMMARY:Eucharist\, Rite I
DESCRIPTION:Spoken\, no music
URL:https://stmichaels-litchfield.org/event/sunday-eucharist/2029-02-18/
LOCATION:Chapel\, 25 South Street\, Litchfield\, CT\, 06759\, United States
CATEGORIES:Church Event,Parish Events
END:VEVENT
BEGIN:VEVENT
DTSTART;TZID=America/New_York:20290218T100000
DTEND;TZID=America/New_York:20290218T110000
DTSTAMP:20260424T075755
CREATED:20250403T150154Z
LAST-MODIFIED:20260422T181447Z
UID:10020636-1866103200-1866106800@stmichaels-litchfield.org
SUMMARY:Sunday Eucharist\, Rite II
DESCRIPTION:Rite II with music \nFollowed by Coffee Hour in the Community House
URL:https://stmichaels-litchfield.org/event/sunday-eucharist-2-3/2029-02-18/
LOCATION:Church\, 25 South Street\, Litchfield\, CT\, 06759\, United States
CATEGORIES:Church Event,Parish Events
END:VEVENT
BEGIN:VEVENT
DTSTART;TZID=America/New_York:20290218T110000
DTEND;TZID=America/New_York:20290218T140000
DTSTAMP:20260424T075755
CREATED:20230711T182541Z
LAST-MODIFIED:20250806T192214Z
UID:10287240-1866106800-1866117600@stmichaels-litchfield.org
SUMMARY:Coffee and Fellowship in the Community House
DESCRIPTION:
URL:https://stmichaels-litchfield.org/event/coffee-and-congregation-in-the-community-house/2029-02-18/
LOCATION:Community House in Library from April 9th forward
CATEGORIES:Church Event
END:VEVENT
BEGIN:VEVENT
DTSTART;TZID=America/New_York:20290218T190000
DTEND;TZID=America/New_York:20290218T200000
DTSTAMP:20260424T075755
CREATED:20230619T142544Z
LAST-MODIFIED:20260416T160049Z
UID:10296139-1866135600-1866139200@stmichaels-litchfield.org
SUMMARY:AA Meeting in Community House
DESCRIPTION:
URL:https://stmichaels-litchfield.org/event/aa-meeting-in-community-house/2029-02-18/
LOCATION:Community House in Library from April 9th forward
END:VEVENT
BEGIN:VEVENT
DTSTART;VALUE=DATE:20290219
DTEND;VALUE=DATE:20290220
DTSTAMP:20260424T075755
CREATED:20260128T181321Z
LAST-MODIFIED:20260128T181322Z
UID:10291300-1866153600-1866239999@stmichaels-litchfield.org
SUMMARY:Church Office Closed
DESCRIPTION:
URL:https://stmichaels-litchfield.org/event/summer-schedule-church-office-closed-2-2-2-3/2029-02-19/
LOCATION:Church Office\, 25 South Street\, Litchfield\, CT\, 06759\, United States
CATEGORIES:Church Office Event
END:VEVENT
BEGIN:VEVENT
DTSTART;TZID=America/New_York:20290219T070000
DTEND;TZID=America/New_York:20290219T073000
DTSTAMP:20260424T075755
CREATED:20230606T184551Z
LAST-MODIFIED:20230619T142647Z
UID:10286959-1866178800-1866180600@stmichaels-litchfield.org
SUMMARY:AA Meeting in the Parish House Library
DESCRIPTION:
URL:https://stmichaels-litchfield.org/event/aa-meeting-in-the-library/2029-02-19/
LOCATION:Parish House Library\, 25 South Street\, Litchfield\, CT\, 06759\, United States
CATEGORIES:AA/NA Events
END:VEVENT
BEGIN:VEVENT
DTSTART;TZID=America/New_York:20290219T200000
DTEND;TZID=America/New_York:20290219T213000
DTSTAMP:20260424T075755
CREATED:20260218T173517Z
LAST-MODIFIED:20260218T173517Z
UID:10292723-1866225600-1866231000@stmichaels-litchfield.org
SUMMARY:AA meeting in the Community House
DESCRIPTION:
URL:https://stmichaels-litchfield.org/event/aa-meeting-in-the-community-house-2/2029-02-19/
END:VEVENT
BEGIN:VEVENT
DTSTART;TZID=America/New_York:20290220T093000
DTEND;TZID=America/New_York:20290220T143000
DTSTAMP:20260424T075755
CREATED:20260128T181432Z
LAST-MODIFIED:20260128T181726Z
UID:10292063-1866274200-1866292200@stmichaels-litchfield.org
SUMMARY:Church Office Open
DESCRIPTION:
URL:https://stmichaels-litchfield.org/event/church-office-open-14/2029-02-20/
LOCATION:Church Office\, 25 South Street\, Litchfield\, CT\, 06759\, United States
CATEGORIES:Church Office Event
END:VEVENT
BEGIN:VEVENT
DTSTART;TZID=America/New_York:20290220T160000
DTEND;TZID=America/New_York:20290220T173000
DTSTAMP:20260424T075755
CREATED:20260331T205128Z
LAST-MODIFIED:20260331T205254Z
UID:10294847-1866297600-1866303000@stmichaels-litchfield.org
SUMMARY:Priest Search Committee
DESCRIPTION:
URL:https://stmichaels-litchfield.org/event/priest-search-committee-3-2-5/2029-02-20/
LOCATION:Parish House Library\, 25 South Street\, Litchfield\, CT\, 06759\, United States
END:VEVENT
BEGIN:VEVENT
DTSTART;TZID=America/New_York:20290220T190000
DTEND;TZID=America/New_York:20290220T200000
DTSTAMP:20260424T075755
CREATED:20211108T175914Z
LAST-MODIFIED:20260130T014621Z
UID:10286656-1866308400-1866312000@stmichaels-litchfield.org
SUMMARY:AA Meeting in Community House
DESCRIPTION:
URL:https://stmichaels-litchfield.org/event/aa-group-in-community-house-2/2029-02-20/
LOCATION:Community House in Library from April 9th forward
CATEGORIES:AA/NA Events
END:VEVENT
BEGIN:VEVENT
DTSTART;TZID=America/New_York:20290221T070000
DTEND;TZID=America/New_York:20290221T073000
DTSTAMP:20260424T075755
CREATED:20230606T184551Z
LAST-MODIFIED:20230619T142647Z
UID:10286960-1866351600-1866353400@stmichaels-litchfield.org
SUMMARY:AA Meeting in the Parish House Library
DESCRIPTION:
URL:https://stmichaels-litchfield.org/event/aa-meeting-in-the-library/2029-02-21/
LOCATION:Parish House Library\, 25 South Street\, Litchfield\, CT\, 06759\, United States
CATEGORIES:AA/NA Events
END:VEVENT
BEGIN:VEVENT
DTSTART;TZID=America/New_York:20290221T083000
DTEND;TZID=America/New_York:20290221T110000
DTSTAMP:20260424T075755
CREATED:20250109T152013Z
LAST-MODIFIED:20250109T152013Z
UID:10019591-1866357000-1866366000@stmichaels-litchfield.org
SUMMARY:Greenwoods Counseling
DESCRIPTION:
URL:https://stmichaels-litchfield.org/event/greenwoods-counseling-7/2029-02-21/
CATEGORIES:Greenwoods Counseling
END:VEVENT
BEGIN:VEVENT
DTSTART;TZID=America/New_York:20290221T093000
DTEND;TZID=America/New_York:20290221T143000
DTSTAMP:20260424T075755
CREATED:20260128T181432Z
LAST-MODIFIED:20260128T181726Z
UID:10292064-1866360600-1866378600@stmichaels-litchfield.org
SUMMARY:Church Office Open
DESCRIPTION:
URL:https://stmichaels-litchfield.org/event/church-office-open-14/2029-02-21/
LOCATION:Church Office\, 25 South Street\, Litchfield\, CT\, 06759\, United States
CATEGORIES:Church Office Event
END:VEVENT
BEGIN:VEVENT
DTSTART;TZID=America/New_York:20290221T173000
DTEND;TZID=America/New_York:20290221T180000
DTSTAMP:20260424T075755
CREATED:20260327T155546Z
LAST-MODIFIED:20260422T175057Z
UID:10294588-1866389400-1866391200@stmichaels-litchfield.org
SUMMARY:Chanted Evening Prayer
DESCRIPTION:
URL:https://stmichaels-litchfield.org/event/chanted-evening-prayer-3/2029-02-21/
LOCATION:Chapel\, 25 South Street\, Litchfield\, CT\, 06759\, United States
CATEGORIES:Church Event
END:VEVENT
END:VCALENDAR