BEGIN:VCALENDAR
VERSION:2.0
PRODID:-//St. Michael&#039;s Church - ECPv6.15.20//NONSGML v1.0//EN
CALSCALE:GREGORIAN
METHOD:PUBLISH
X-WR-CALNAME:St. Michael&#039;s Church
X-ORIGINAL-URL:https://stmichaels-litchfield.org
X-WR-CALDESC:Events for St. Michael&#039;s Church
REFRESH-INTERVAL;VALUE=DURATION:PT1H
X-Robots-Tag:noindex
X-PUBLISHED-TTL:PT1H
BEGIN:VTIMEZONE
TZID:America/New_York
BEGIN:DAYLIGHT
TZOFFSETFROM:-0500
TZOFFSETTO:-0400
TZNAME:EDT
DTSTART:20280312T070000
END:DAYLIGHT
BEGIN:STANDARD
TZOFFSETFROM:-0400
TZOFFSETTO:-0500
TZNAME:EST
DTSTART:20281105T060000
END:STANDARD
BEGIN:DAYLIGHT
TZOFFSETFROM:-0500
TZOFFSETTO:-0400
TZNAME:EDT
DTSTART:20290311T070000
END:DAYLIGHT
BEGIN:STANDARD
TZOFFSETFROM:-0400
TZOFFSETTO:-0500
TZNAME:EST
DTSTART:20291104T060000
END:STANDARD
BEGIN:DAYLIGHT
TZOFFSETFROM:-0500
TZOFFSETTO:-0400
TZNAME:EDT
DTSTART:20300310T070000
END:DAYLIGHT
BEGIN:STANDARD
TZOFFSETFROM:-0400
TZOFFSETTO:-0500
TZNAME:EST
DTSTART:20301103T060000
END:STANDARD
END:VTIMEZONE
BEGIN:VEVENT
DTSTART;TZID=America/New_York:20290624T080000
DTEND;TZID=America/New_York:20290624T090000
DTSTAMP:20260424T155016
CREATED:20211108T181651Z
LAST-MODIFIED:20260327T134504Z
UID:10020568-1876982400-1876986000@stmichaels-litchfield.org
SUMMARY:Eucharist\, Rite I
DESCRIPTION:Spoken\, no music
URL:https://stmichaels-litchfield.org/event/sunday-eucharist/2029-06-24/
LOCATION:Chapel\, 25 South Street\, Litchfield\, CT\, 06759\, United States
CATEGORIES:Church Event,Parish Events
END:VEVENT
BEGIN:VEVENT
DTSTART;TZID=America/New_York:20290624T100000
DTEND;TZID=America/New_York:20290624T110000
DTSTAMP:20260424T155016
CREATED:20250403T150154Z
LAST-MODIFIED:20260422T181447Z
UID:10020654-1876989600-1876993200@stmichaels-litchfield.org
SUMMARY:Sunday Eucharist\, Rite II
DESCRIPTION:Rite II with music \nFollowed by Coffee Hour in the Community House
URL:https://stmichaels-litchfield.org/event/sunday-eucharist-2-3/2029-06-24/
LOCATION:Church\, 25 South Street\, Litchfield\, CT\, 06759\, United States
CATEGORIES:Church Event,Parish Events
END:VEVENT
BEGIN:VEVENT
DTSTART;TZID=America/New_York:20290624T110000
DTEND;TZID=America/New_York:20290624T140000
DTSTAMP:20260424T155016
CREATED:20230711T182541Z
LAST-MODIFIED:20250806T192214Z
UID:10287258-1876993200-1877004000@stmichaels-litchfield.org
SUMMARY:Coffee and Fellowship in the Community House
DESCRIPTION:
URL:https://stmichaels-litchfield.org/event/coffee-and-congregation-in-the-community-house/2029-06-24/
LOCATION:Community House in Library from April 9th forward
CATEGORIES:Church Event
END:VEVENT
BEGIN:VEVENT
DTSTART;TZID=America/New_York:20290624T190000
DTEND;TZID=America/New_York:20290624T200000
DTSTAMP:20260424T155016
CREATED:20230619T142544Z
LAST-MODIFIED:20260416T160049Z
UID:10296157-1877022000-1877025600@stmichaels-litchfield.org
SUMMARY:AA Meeting in Community House
DESCRIPTION:
URL:https://stmichaels-litchfield.org/event/aa-meeting-in-community-house/2029-06-24/
LOCATION:Community House in Library from April 9th forward
END:VEVENT
BEGIN:VEVENT
DTSTART;VALUE=DATE:20290625
DTEND;VALUE=DATE:20290626
DTSTAMP:20260424T155016
CREATED:20260128T181321Z
LAST-MODIFIED:20260128T181322Z
UID:10291318-1877040000-1877126399@stmichaels-litchfield.org
SUMMARY:Church Office Closed
DESCRIPTION:
URL:https://stmichaels-litchfield.org/event/summer-schedule-church-office-closed-2-2-2-3/2029-06-25/
LOCATION:Church Office\, 25 South Street\, Litchfield\, CT\, 06759\, United States
CATEGORIES:Church Office Event
END:VEVENT
BEGIN:VEVENT
DTSTART;TZID=America/New_York:20290625T070000
DTEND;TZID=America/New_York:20290625T073000
DTSTAMP:20260424T155016
CREATED:20230606T184551Z
LAST-MODIFIED:20230619T142647Z
UID:10287013-1877065200-1877067000@stmichaels-litchfield.org
SUMMARY:AA Meeting in the Parish House Library
DESCRIPTION:
URL:https://stmichaels-litchfield.org/event/aa-meeting-in-the-library/2029-06-25/
LOCATION:Parish House Library\, 25 South Street\, Litchfield\, CT\, 06759\, United States
CATEGORIES:AA/NA Events
END:VEVENT
BEGIN:VEVENT
DTSTART;TZID=America/New_York:20290625T200000
DTEND;TZID=America/New_York:20290625T213000
DTSTAMP:20260424T155016
CREATED:20260218T173517Z
LAST-MODIFIED:20260218T173517Z
UID:10292741-1877112000-1877117400@stmichaels-litchfield.org
SUMMARY:AA meeting in the Community House
DESCRIPTION:
URL:https://stmichaels-litchfield.org/event/aa-meeting-in-the-community-house-2/2029-06-25/
END:VEVENT
BEGIN:VEVENT
DTSTART;TZID=America/New_York:20290626T093000
DTEND;TZID=America/New_York:20290626T143000
DTSTAMP:20260424T155016
CREATED:20260128T181432Z
LAST-MODIFIED:20260128T181726Z
UID:10292135-1877160600-1877178600@stmichaels-litchfield.org
SUMMARY:Church Office Open
DESCRIPTION:
URL:https://stmichaels-litchfield.org/event/church-office-open-14/2029-06-26/
LOCATION:Church Office\, 25 South Street\, Litchfield\, CT\, 06759\, United States
CATEGORIES:Church Office Event
END:VEVENT
BEGIN:VEVENT
DTSTART;TZID=America/New_York:20290626T160000
DTEND;TZID=America/New_York:20290626T173000
DTSTAMP:20260424T155016
CREATED:20260331T205128Z
LAST-MODIFIED:20260331T205254Z
UID:10294865-1877184000-1877189400@stmichaels-litchfield.org
SUMMARY:Priest Search Committee
DESCRIPTION:
URL:https://stmichaels-litchfield.org/event/priest-search-committee-3-2-5/2029-06-26/
LOCATION:Parish House Library\, 25 South Street\, Litchfield\, CT\, 06759\, United States
END:VEVENT
BEGIN:VEVENT
DTSTART;TZID=America/New_York:20290626T190000
DTEND;TZID=America/New_York:20290626T200000
DTSTAMP:20260424T155016
CREATED:20211108T175914Z
LAST-MODIFIED:20260130T014621Z
UID:10286674-1877194800-1877198400@stmichaels-litchfield.org
SUMMARY:AA Meeting in Community House
DESCRIPTION:
URL:https://stmichaels-litchfield.org/event/aa-group-in-community-house-2/2029-06-26/
LOCATION:Community House in Library from April 9th forward
CATEGORIES:AA/NA Events
END:VEVENT
BEGIN:VEVENT
DTSTART;TZID=America/New_York:20290627T070000
DTEND;TZID=America/New_York:20290627T073000
DTSTAMP:20260424T155016
CREATED:20230606T184551Z
LAST-MODIFIED:20230619T142647Z
UID:10287014-1877238000-1877239800@stmichaels-litchfield.org
SUMMARY:AA Meeting in the Parish House Library
DESCRIPTION:
URL:https://stmichaels-litchfield.org/event/aa-meeting-in-the-library/2029-06-27/
LOCATION:Parish House Library\, 25 South Street\, Litchfield\, CT\, 06759\, United States
CATEGORIES:AA/NA Events
END:VEVENT
BEGIN:VEVENT
DTSTART;TZID=America/New_York:20290627T083000
DTEND;TZID=America/New_York:20290627T110000
DTSTAMP:20260424T155016
CREATED:20250109T152013Z
LAST-MODIFIED:20250109T152013Z
UID:10019609-1877243400-1877252400@stmichaels-litchfield.org
SUMMARY:Greenwoods Counseling
DESCRIPTION:
URL:https://stmichaels-litchfield.org/event/greenwoods-counseling-7/2029-06-27/
CATEGORIES:Greenwoods Counseling
END:VEVENT
BEGIN:VEVENT
DTSTART;TZID=America/New_York:20290627T093000
DTEND;TZID=America/New_York:20290627T143000
DTSTAMP:20260424T155016
CREATED:20260128T181432Z
LAST-MODIFIED:20260128T181726Z
UID:10292136-1877247000-1877265000@stmichaels-litchfield.org
SUMMARY:Church Office Open
DESCRIPTION:
URL:https://stmichaels-litchfield.org/event/church-office-open-14/2029-06-27/
LOCATION:Church Office\, 25 South Street\, Litchfield\, CT\, 06759\, United States
CATEGORIES:Church Office Event
END:VEVENT
BEGIN:VEVENT
DTSTART;TZID=America/New_York:20290627T173000
DTEND;TZID=America/New_York:20290627T180000
DTSTAMP:20260424T155016
CREATED:20260327T155546Z
LAST-MODIFIED:20260422T175057Z
UID:10294606-1877275800-1877277600@stmichaels-litchfield.org
SUMMARY:Chanted Evening Prayer
DESCRIPTION:
URL:https://stmichaels-litchfield.org/event/chanted-evening-prayer-3/2029-06-27/
LOCATION:Chapel\, 25 South Street\, Litchfield\, CT\, 06759\, United States
CATEGORIES:Church Event
END:VEVENT
BEGIN:VEVENT
DTSTART;TZID=America/New_York:20290627T193000
DTEND;TZID=America/New_York:20290627T210000
DTSTAMP:20260424T155016
CREATED:20211108T180816Z
LAST-MODIFIED:20230714T003135Z
UID:10286774-1877283000-1877288400@stmichaels-litchfield.org
SUMMARY:NA meeting in Community House
DESCRIPTION:
URL:https://stmichaels-litchfield.org/event/narcotics-anonymous/2029-06-27/
LOCATION:Community House in Library from April 9th forward
CATEGORIES:AA/NA Events
END:VEVENT
BEGIN:VEVENT
DTSTART;TZID=America/New_York:20290628T093000
DTEND;TZID=America/New_York:20290628T143000
DTSTAMP:20260424T155016
CREATED:20260128T181432Z
LAST-MODIFIED:20260128T181726Z
UID:10292137-1877333400-1877351400@stmichaels-litchfield.org
SUMMARY:Church Office Open
DESCRIPTION:
URL:https://stmichaels-litchfield.org/event/church-office-open-14/2029-06-28/
LOCATION:Church Office\, 25 South Street\, Litchfield\, CT\, 06759\, United States
CATEGORIES:Church Office Event
END:VEVENT
BEGIN:VEVENT
DTSTART;TZID=America/New_York:20290629T070000
DTEND;TZID=America/New_York:20290629T073000
DTSTAMP:20260424T155016
CREATED:20230606T184551Z
LAST-MODIFIED:20230619T142647Z
UID:10287015-1877410800-1877412600@stmichaels-litchfield.org
SUMMARY:AA Meeting in the Parish House Library
DESCRIPTION:
URL:https://stmichaels-litchfield.org/event/aa-meeting-in-the-library/2029-06-29/
LOCATION:Parish House Library\, 25 South Street\, Litchfield\, CT\, 06759\, United States
CATEGORIES:AA/NA Events
END:VEVENT
BEGIN:VEVENT
DTSTART;TZID=America/New_York:20290629T093000
DTEND;TZID=America/New_York:20290629T143000
DTSTAMP:20260424T155016
CREATED:20260128T181432Z
LAST-MODIFIED:20260128T181726Z
UID:10292138-1877419800-1877437800@stmichaels-litchfield.org
SUMMARY:Church Office Open
DESCRIPTION:
URL:https://stmichaels-litchfield.org/event/church-office-open-14/2029-06-29/
LOCATION:Church Office\, 25 South Street\, Litchfield\, CT\, 06759\, United States
CATEGORIES:Church Office Event
END:VEVENT
BEGIN:VEVENT
DTSTART;TZID=America/New_York:20290701T080000
DTEND;TZID=America/New_York:20290701T090000
DTSTAMP:20260424T155016
CREATED:20211108T181651Z
LAST-MODIFIED:20260327T134504Z
UID:10020569-1877587200-1877590800@stmichaels-litchfield.org
SUMMARY:Eucharist\, Rite I
DESCRIPTION:Spoken\, no music
URL:https://stmichaels-litchfield.org/event/sunday-eucharist/2029-07-01/
LOCATION:Chapel\, 25 South Street\, Litchfield\, CT\, 06759\, United States
CATEGORIES:Church Event,Parish Events
END:VEVENT
BEGIN:VEVENT
DTSTART;TZID=America/New_York:20290701T100000
DTEND;TZID=America/New_York:20290701T110000
DTSTAMP:20260424T155016
CREATED:20250403T150154Z
LAST-MODIFIED:20260422T181447Z
UID:10020655-1877594400-1877598000@stmichaels-litchfield.org
SUMMARY:Sunday Eucharist\, Rite II
DESCRIPTION:Rite II with music \nFollowed by Coffee Hour in the Community House
URL:https://stmichaels-litchfield.org/event/sunday-eucharist-2-3/2029-07-01/
LOCATION:Church\, 25 South Street\, Litchfield\, CT\, 06759\, United States
CATEGORIES:Church Event,Parish Events
END:VEVENT
BEGIN:VEVENT
DTSTART;TZID=America/New_York:20290701T110000
DTEND;TZID=America/New_York:20290701T140000
DTSTAMP:20260424T155016
CREATED:20230711T182541Z
LAST-MODIFIED:20250806T192214Z
UID:10287259-1877598000-1877608800@stmichaels-litchfield.org
SUMMARY:Coffee and Fellowship in the Community House
DESCRIPTION:
URL:https://stmichaels-litchfield.org/event/coffee-and-congregation-in-the-community-house/2029-07-01/
LOCATION:Community House in Library from April 9th forward
CATEGORIES:Church Event
END:VEVENT
BEGIN:VEVENT
DTSTART;TZID=America/New_York:20290701T190000
DTEND;TZID=America/New_York:20290701T200000
DTSTAMP:20260424T155016
CREATED:20230619T142544Z
LAST-MODIFIED:20260416T160049Z
UID:10296158-1877626800-1877630400@stmichaels-litchfield.org
SUMMARY:AA Meeting in Community House
DESCRIPTION:
URL:https://stmichaels-litchfield.org/event/aa-meeting-in-community-house/2029-07-01/
LOCATION:Community House in Library from April 9th forward
END:VEVENT
BEGIN:VEVENT
DTSTART;VALUE=DATE:20290702
DTEND;VALUE=DATE:20290703
DTSTAMP:20260424T155016
CREATED:20260128T181321Z
LAST-MODIFIED:20260128T181322Z
UID:10291319-1877644800-1877731199@stmichaels-litchfield.org
SUMMARY:Church Office Closed
DESCRIPTION:
URL:https://stmichaels-litchfield.org/event/summer-schedule-church-office-closed-2-2-2-3/2029-07-02/
LOCATION:Church Office\, 25 South Street\, Litchfield\, CT\, 06759\, United States
CATEGORIES:Church Office Event
END:VEVENT
BEGIN:VEVENT
DTSTART;TZID=America/New_York:20290702T070000
DTEND;TZID=America/New_York:20290702T073000
DTSTAMP:20260424T155016
CREATED:20230606T184551Z
LAST-MODIFIED:20230619T142647Z
UID:10287016-1877670000-1877671800@stmichaels-litchfield.org
SUMMARY:AA Meeting in the Parish House Library
DESCRIPTION:
URL:https://stmichaels-litchfield.org/event/aa-meeting-in-the-library/2029-07-02/
LOCATION:Parish House Library\, 25 South Street\, Litchfield\, CT\, 06759\, United States
CATEGORIES:AA/NA Events
END:VEVENT
BEGIN:VEVENT
DTSTART;TZID=America/New_York:20290702T200000
DTEND;TZID=America/New_York:20290702T213000
DTSTAMP:20260424T155016
CREATED:20260218T173517Z
LAST-MODIFIED:20260218T173517Z
UID:10292742-1877716800-1877722200@stmichaels-litchfield.org
SUMMARY:AA meeting in the Community House
DESCRIPTION:
URL:https://stmichaels-litchfield.org/event/aa-meeting-in-the-community-house-2/2029-07-02/
END:VEVENT
BEGIN:VEVENT
DTSTART;TZID=America/New_York:20290703T093000
DTEND;TZID=America/New_York:20290703T143000
DTSTAMP:20260424T155016
CREATED:20260128T181432Z
LAST-MODIFIED:20260128T181726Z
UID:10292139-1877765400-1877783400@stmichaels-litchfield.org
SUMMARY:Church Office Open
DESCRIPTION:
URL:https://stmichaels-litchfield.org/event/church-office-open-14/2029-07-03/
LOCATION:Church Office\, 25 South Street\, Litchfield\, CT\, 06759\, United States
CATEGORIES:Church Office Event
END:VEVENT
BEGIN:VEVENT
DTSTART;TZID=America/New_York:20290703T160000
DTEND;TZID=America/New_York:20290703T173000
DTSTAMP:20260424T155016
CREATED:20260331T205128Z
LAST-MODIFIED:20260331T205254Z
UID:10294866-1877788800-1877794200@stmichaels-litchfield.org
SUMMARY:Priest Search Committee
DESCRIPTION:
URL:https://stmichaels-litchfield.org/event/priest-search-committee-3-2-5/2029-07-03/
LOCATION:Parish House Library\, 25 South Street\, Litchfield\, CT\, 06759\, United States
END:VEVENT
BEGIN:VEVENT
DTSTART;TZID=America/New_York:20290703T171500
DTEND;TZID=America/New_York:20290703T183000
DTSTAMP:20260424T155016
CREATED:20231227T151453Z
LAST-MODIFIED:20260317T155826Z
UID:10293676-1877793300-1877797800@stmichaels-litchfield.org
SUMMARY:Property Committee Meeting in Parish House Library
DESCRIPTION:
URL:https://stmichaels-litchfield.org/event/property-committee-meeting-in-parish-house-library-3/2029-07-03/
LOCATION:Parish House Library\, 25 South Street\, Litchfield\, CT\, 06759\, United States
CATEGORIES:Church Event
END:VEVENT
BEGIN:VEVENT
DTSTART;TZID=America/New_York:20290703T190000
DTEND;TZID=America/New_York:20290703T200000
DTSTAMP:20260424T155016
CREATED:20211108T175914Z
LAST-MODIFIED:20260130T014621Z
UID:10286675-1877799600-1877803200@stmichaels-litchfield.org
SUMMARY:AA Meeting in Community House
DESCRIPTION:
URL:https://stmichaels-litchfield.org/event/aa-group-in-community-house-2/2029-07-03/
LOCATION:Community House in Library from April 9th forward
CATEGORIES:AA/NA Events
END:VEVENT
BEGIN:VEVENT
DTSTART;TZID=America/New_York:20290704T070000
DTEND;TZID=America/New_York:20290704T073000
DTSTAMP:20260424T155016
CREATED:20230606T184551Z
LAST-MODIFIED:20230619T142647Z
UID:10287017-1877842800-1877844600@stmichaels-litchfield.org
SUMMARY:AA Meeting in the Parish House Library
DESCRIPTION:
URL:https://stmichaels-litchfield.org/event/aa-meeting-in-the-library/2029-07-04/
LOCATION:Parish House Library\, 25 South Street\, Litchfield\, CT\, 06759\, United States
CATEGORIES:AA/NA Events
END:VEVENT
END:VCALENDAR