BEGIN:VCALENDAR
VERSION:2.0
PRODID:-//St. Michael&#039;s Church - ECPv6.15.20//NONSGML v1.0//EN
CALSCALE:GREGORIAN
METHOD:PUBLISH
X-WR-CALNAME:St. Michael&#039;s Church
X-ORIGINAL-URL:https://stmichaels-litchfield.org
X-WR-CALDESC:Events for St. Michael&#039;s Church
REFRESH-INTERVAL;VALUE=DURATION:PT1H
X-Robots-Tag:noindex
X-PUBLISHED-TTL:PT1H
BEGIN:VTIMEZONE
TZID:America/New_York
BEGIN:DAYLIGHT
TZOFFSETFROM:-0500
TZOFFSETTO:-0400
TZNAME:EDT
DTSTART:20280312T070000
END:DAYLIGHT
BEGIN:STANDARD
TZOFFSETFROM:-0400
TZOFFSETTO:-0500
TZNAME:EST
DTSTART:20281105T060000
END:STANDARD
BEGIN:DAYLIGHT
TZOFFSETFROM:-0500
TZOFFSETTO:-0400
TZNAME:EDT
DTSTART:20290311T070000
END:DAYLIGHT
BEGIN:STANDARD
TZOFFSETFROM:-0400
TZOFFSETTO:-0500
TZNAME:EST
DTSTART:20291104T060000
END:STANDARD
BEGIN:DAYLIGHT
TZOFFSETFROM:-0500
TZOFFSETTO:-0400
TZNAME:EDT
DTSTART:20300310T070000
END:DAYLIGHT
BEGIN:STANDARD
TZOFFSETFROM:-0400
TZOFFSETTO:-0500
TZNAME:EST
DTSTART:20301103T060000
END:STANDARD
END:VTIMEZONE
BEGIN:VEVENT
DTSTART;TZID=America/New_York:20290718T070000
DTEND;TZID=America/New_York:20290718T073000
DTSTAMP:20260424T185305
CREATED:20230606T184551Z
LAST-MODIFIED:20230619T142647Z
UID:10287023-1879052400-1879054200@stmichaels-litchfield.org
SUMMARY:AA Meeting in the Parish House Library
DESCRIPTION:
URL:https://stmichaels-litchfield.org/event/aa-meeting-in-the-library/2029-07-18/
LOCATION:Parish House Library\, 25 South Street\, Litchfield\, CT\, 06759\, United States
CATEGORIES:AA/NA Events
END:VEVENT
BEGIN:VEVENT
DTSTART;TZID=America/New_York:20290718T083000
DTEND;TZID=America/New_York:20290718T110000
DTSTAMP:20260424T185305
CREATED:20250109T152013Z
LAST-MODIFIED:20250109T152013Z
UID:10019612-1879057800-1879066800@stmichaels-litchfield.org
SUMMARY:Greenwoods Counseling
DESCRIPTION:
URL:https://stmichaels-litchfield.org/event/greenwoods-counseling-7/2029-07-18/
CATEGORIES:Greenwoods Counseling
END:VEVENT
BEGIN:VEVENT
DTSTART;TZID=America/New_York:20290718T093000
DTEND;TZID=America/New_York:20290718T143000
DTSTAMP:20260424T185305
CREATED:20260128T181432Z
LAST-MODIFIED:20260128T181726Z
UID:10292148-1879061400-1879079400@stmichaels-litchfield.org
SUMMARY:Church Office Open
DESCRIPTION:
URL:https://stmichaels-litchfield.org/event/church-office-open-14/2029-07-18/
LOCATION:Church Office\, 25 South Street\, Litchfield\, CT\, 06759\, United States
CATEGORIES:Church Office Event
END:VEVENT
BEGIN:VEVENT
DTSTART;TZID=America/New_York:20290718T173000
DTEND;TZID=America/New_York:20290718T180000
DTSTAMP:20260424T185305
CREATED:20260327T155546Z
LAST-MODIFIED:20260422T175057Z
UID:10294609-1879090200-1879092000@stmichaels-litchfield.org
SUMMARY:Chanted Evening Prayer
DESCRIPTION:
URL:https://stmichaels-litchfield.org/event/chanted-evening-prayer-3/2029-07-18/
LOCATION:Chapel\, 25 South Street\, Litchfield\, CT\, 06759\, United States
CATEGORIES:Church Event
END:VEVENT
BEGIN:VEVENT
DTSTART;TZID=America/New_York:20290718T193000
DTEND;TZID=America/New_York:20290718T210000
DTSTAMP:20260424T185305
CREATED:20211108T180816Z
LAST-MODIFIED:20230714T003135Z
UID:10286777-1879097400-1879102800@stmichaels-litchfield.org
SUMMARY:NA meeting in Community House
DESCRIPTION:
URL:https://stmichaels-litchfield.org/event/narcotics-anonymous/2029-07-18/
LOCATION:Community House in Library from April 9th forward
CATEGORIES:AA/NA Events
END:VEVENT
BEGIN:VEVENT
DTSTART;TZID=America/New_York:20290719T093000
DTEND;TZID=America/New_York:20290719T143000
DTSTAMP:20260424T185305
CREATED:20260128T181432Z
LAST-MODIFIED:20260128T181726Z
UID:10292149-1879147800-1879165800@stmichaels-litchfield.org
SUMMARY:Church Office Open
DESCRIPTION:
URL:https://stmichaels-litchfield.org/event/church-office-open-14/2029-07-19/
LOCATION:Church Office\, 25 South Street\, Litchfield\, CT\, 06759\, United States
CATEGORIES:Church Office Event
END:VEVENT
BEGIN:VEVENT
DTSTART;TZID=America/New_York:20290720T070000
DTEND;TZID=America/New_York:20290720T073000
DTSTAMP:20260424T185305
CREATED:20230606T184551Z
LAST-MODIFIED:20230619T142647Z
UID:10287024-1879225200-1879227000@stmichaels-litchfield.org
SUMMARY:AA Meeting in the Parish House Library
DESCRIPTION:
URL:https://stmichaels-litchfield.org/event/aa-meeting-in-the-library/2029-07-20/
LOCATION:Parish House Library\, 25 South Street\, Litchfield\, CT\, 06759\, United States
CATEGORIES:AA/NA Events
END:VEVENT
BEGIN:VEVENT
DTSTART;TZID=America/New_York:20290720T093000
DTEND;TZID=America/New_York:20290720T143000
DTSTAMP:20260424T185305
CREATED:20260128T181432Z
LAST-MODIFIED:20260128T181726Z
UID:10292150-1879234200-1879252200@stmichaels-litchfield.org
SUMMARY:Church Office Open
DESCRIPTION:
URL:https://stmichaels-litchfield.org/event/church-office-open-14/2029-07-20/
LOCATION:Church Office\, 25 South Street\, Litchfield\, CT\, 06759\, United States
CATEGORIES:Church Office Event
END:VEVENT
BEGIN:VEVENT
DTSTART;TZID=America/New_York:20290722T080000
DTEND;TZID=America/New_York:20290722T090000
DTSTAMP:20260424T185305
CREATED:20211108T181651Z
LAST-MODIFIED:20260327T134504Z
UID:10020572-1879401600-1879405200@stmichaels-litchfield.org
SUMMARY:Eucharist\, Rite I
DESCRIPTION:Spoken\, no music
URL:https://stmichaels-litchfield.org/event/sunday-eucharist/2029-07-22/
LOCATION:Chapel\, 25 South Street\, Litchfield\, CT\, 06759\, United States
CATEGORIES:Church Event,Parish Events
END:VEVENT
BEGIN:VEVENT
DTSTART;TZID=America/New_York:20290722T100000
DTEND;TZID=America/New_York:20290722T110000
DTSTAMP:20260424T185305
CREATED:20250403T150154Z
LAST-MODIFIED:20260422T181447Z
UID:10020658-1879408800-1879412400@stmichaels-litchfield.org
SUMMARY:Sunday Eucharist\, Rite II
DESCRIPTION:Rite II with music \nFollowed by Coffee Hour in the Community House
URL:https://stmichaels-litchfield.org/event/sunday-eucharist-2-3/2029-07-22/
LOCATION:Church\, 25 South Street\, Litchfield\, CT\, 06759\, United States
CATEGORIES:Church Event,Parish Events
END:VEVENT
BEGIN:VEVENT
DTSTART;TZID=America/New_York:20290722T110000
DTEND;TZID=America/New_York:20290722T140000
DTSTAMP:20260424T185305
CREATED:20230711T182541Z
LAST-MODIFIED:20250806T192214Z
UID:10287262-1879412400-1879423200@stmichaels-litchfield.org
SUMMARY:Coffee and Fellowship in the Community House
DESCRIPTION:
URL:https://stmichaels-litchfield.org/event/coffee-and-congregation-in-the-community-house/2029-07-22/
LOCATION:Community House in Library from April 9th forward
CATEGORIES:Church Event
END:VEVENT
BEGIN:VEVENT
DTSTART;TZID=America/New_York:20290722T190000
DTEND;TZID=America/New_York:20290722T200000
DTSTAMP:20260424T185305
CREATED:20230619T142544Z
LAST-MODIFIED:20260416T160049Z
UID:10296161-1879441200-1879444800@stmichaels-litchfield.org
SUMMARY:AA Meeting in Community House
DESCRIPTION:
URL:https://stmichaels-litchfield.org/event/aa-meeting-in-community-house/2029-07-22/
LOCATION:Community House in Library from April 9th forward
END:VEVENT
BEGIN:VEVENT
DTSTART;VALUE=DATE:20290723
DTEND;VALUE=DATE:20290724
DTSTAMP:20260424T185305
CREATED:20260128T181321Z
LAST-MODIFIED:20260128T181322Z
UID:10291322-1879459200-1879545599@stmichaels-litchfield.org
SUMMARY:Church Office Closed
DESCRIPTION:
URL:https://stmichaels-litchfield.org/event/summer-schedule-church-office-closed-2-2-2-3/2029-07-23/
LOCATION:Church Office\, 25 South Street\, Litchfield\, CT\, 06759\, United States
CATEGORIES:Church Office Event
END:VEVENT
BEGIN:VEVENT
DTSTART;TZID=America/New_York:20290723T070000
DTEND;TZID=America/New_York:20290723T073000
DTSTAMP:20260424T185305
CREATED:20230606T184551Z
LAST-MODIFIED:20230619T142647Z
UID:10287025-1879484400-1879486200@stmichaels-litchfield.org
SUMMARY:AA Meeting in the Parish House Library
DESCRIPTION:
URL:https://stmichaels-litchfield.org/event/aa-meeting-in-the-library/2029-07-23/
LOCATION:Parish House Library\, 25 South Street\, Litchfield\, CT\, 06759\, United States
CATEGORIES:AA/NA Events
END:VEVENT
BEGIN:VEVENT
DTSTART;TZID=America/New_York:20290723T200000
DTEND;TZID=America/New_York:20290723T213000
DTSTAMP:20260424T185305
CREATED:20260218T173517Z
LAST-MODIFIED:20260218T173517Z
UID:10292745-1879531200-1879536600@stmichaels-litchfield.org
SUMMARY:AA meeting in the Community House
DESCRIPTION:
URL:https://stmichaels-litchfield.org/event/aa-meeting-in-the-community-house-2/2029-07-23/
END:VEVENT
BEGIN:VEVENT
DTSTART;TZID=America/New_York:20290724T093000
DTEND;TZID=America/New_York:20290724T143000
DTSTAMP:20260424T185305
CREATED:20260128T181432Z
LAST-MODIFIED:20260128T181726Z
UID:10292151-1879579800-1879597800@stmichaels-litchfield.org
SUMMARY:Church Office Open
DESCRIPTION:
URL:https://stmichaels-litchfield.org/event/church-office-open-14/2029-07-24/
LOCATION:Church Office\, 25 South Street\, Litchfield\, CT\, 06759\, United States
CATEGORIES:Church Office Event
END:VEVENT
BEGIN:VEVENT
DTSTART;TZID=America/New_York:20290724T160000
DTEND;TZID=America/New_York:20290724T173000
DTSTAMP:20260424T185305
CREATED:20260331T205128Z
LAST-MODIFIED:20260331T205254Z
UID:10294869-1879603200-1879608600@stmichaels-litchfield.org
SUMMARY:Priest Search Committee
DESCRIPTION:
URL:https://stmichaels-litchfield.org/event/priest-search-committee-3-2-5/2029-07-24/
LOCATION:Parish House Library\, 25 South Street\, Litchfield\, CT\, 06759\, United States
END:VEVENT
BEGIN:VEVENT
DTSTART;TZID=America/New_York:20290724T190000
DTEND;TZID=America/New_York:20290724T200000
DTSTAMP:20260424T185305
CREATED:20211108T175914Z
LAST-MODIFIED:20260130T014621Z
UID:10286678-1879614000-1879617600@stmichaels-litchfield.org
SUMMARY:AA Meeting in Community House
DESCRIPTION:
URL:https://stmichaels-litchfield.org/event/aa-group-in-community-house-2/2029-07-24/
LOCATION:Community House in Library from April 9th forward
CATEGORIES:AA/NA Events
END:VEVENT
BEGIN:VEVENT
DTSTART;TZID=America/New_York:20290725T070000
DTEND;TZID=America/New_York:20290725T073000
DTSTAMP:20260424T185305
CREATED:20230606T184551Z
LAST-MODIFIED:20230619T142647Z
UID:10287026-1879657200-1879659000@stmichaels-litchfield.org
SUMMARY:AA Meeting in the Parish House Library
DESCRIPTION:
URL:https://stmichaels-litchfield.org/event/aa-meeting-in-the-library/2029-07-25/
LOCATION:Parish House Library\, 25 South Street\, Litchfield\, CT\, 06759\, United States
CATEGORIES:AA/NA Events
END:VEVENT
BEGIN:VEVENT
DTSTART;TZID=America/New_York:20290725T083000
DTEND;TZID=America/New_York:20290725T110000
DTSTAMP:20260424T185305
CREATED:20250109T152013Z
LAST-MODIFIED:20250109T152013Z
UID:10019613-1879662600-1879671600@stmichaels-litchfield.org
SUMMARY:Greenwoods Counseling
DESCRIPTION:
URL:https://stmichaels-litchfield.org/event/greenwoods-counseling-7/2029-07-25/
CATEGORIES:Greenwoods Counseling
END:VEVENT
BEGIN:VEVENT
DTSTART;TZID=America/New_York:20290725T093000
DTEND;TZID=America/New_York:20290725T143000
DTSTAMP:20260424T185305
CREATED:20260128T181432Z
LAST-MODIFIED:20260128T181726Z
UID:10292152-1879666200-1879684200@stmichaels-litchfield.org
SUMMARY:Church Office Open
DESCRIPTION:
URL:https://stmichaels-litchfield.org/event/church-office-open-14/2029-07-25/
LOCATION:Church Office\, 25 South Street\, Litchfield\, CT\, 06759\, United States
CATEGORIES:Church Office Event
END:VEVENT
BEGIN:VEVENT
DTSTART;TZID=America/New_York:20290725T173000
DTEND;TZID=America/New_York:20290725T180000
DTSTAMP:20260424T185305
CREATED:20260327T155546Z
LAST-MODIFIED:20260422T175057Z
UID:10294610-1879695000-1879696800@stmichaels-litchfield.org
SUMMARY:Chanted Evening Prayer
DESCRIPTION:
URL:https://stmichaels-litchfield.org/event/chanted-evening-prayer-3/2029-07-25/
LOCATION:Chapel\, 25 South Street\, Litchfield\, CT\, 06759\, United States
CATEGORIES:Church Event
END:VEVENT
BEGIN:VEVENT
DTSTART;TZID=America/New_York:20290725T193000
DTEND;TZID=America/New_York:20290725T210000
DTSTAMP:20260424T185305
CREATED:20211108T180816Z
LAST-MODIFIED:20230714T003135Z
UID:10286778-1879702200-1879707600@stmichaels-litchfield.org
SUMMARY:NA meeting in Community House
DESCRIPTION:
URL:https://stmichaels-litchfield.org/event/narcotics-anonymous/2029-07-25/
LOCATION:Community House in Library from April 9th forward
CATEGORIES:AA/NA Events
END:VEVENT
BEGIN:VEVENT
DTSTART;TZID=America/New_York:20290726T093000
DTEND;TZID=America/New_York:20290726T143000
DTSTAMP:20260424T185305
CREATED:20260128T181432Z
LAST-MODIFIED:20260128T181726Z
UID:10292153-1879752600-1879770600@stmichaels-litchfield.org
SUMMARY:Church Office Open
DESCRIPTION:
URL:https://stmichaels-litchfield.org/event/church-office-open-14/2029-07-26/
LOCATION:Church Office\, 25 South Street\, Litchfield\, CT\, 06759\, United States
CATEGORIES:Church Office Event
END:VEVENT
BEGIN:VEVENT
DTSTART;TZID=America/New_York:20290727T070000
DTEND;TZID=America/New_York:20290727T073000
DTSTAMP:20260424T185305
CREATED:20230606T184551Z
LAST-MODIFIED:20230619T142647Z
UID:10287027-1879830000-1879831800@stmichaels-litchfield.org
SUMMARY:AA Meeting in the Parish House Library
DESCRIPTION:
URL:https://stmichaels-litchfield.org/event/aa-meeting-in-the-library/2029-07-27/
LOCATION:Parish House Library\, 25 South Street\, Litchfield\, CT\, 06759\, United States
CATEGORIES:AA/NA Events
END:VEVENT
BEGIN:VEVENT
DTSTART;TZID=America/New_York:20290727T093000
DTEND;TZID=America/New_York:20290727T143000
DTSTAMP:20260424T185305
CREATED:20260128T181432Z
LAST-MODIFIED:20260128T181726Z
UID:10292154-1879839000-1879857000@stmichaels-litchfield.org
SUMMARY:Church Office Open
DESCRIPTION:
URL:https://stmichaels-litchfield.org/event/church-office-open-14/2029-07-27/
LOCATION:Church Office\, 25 South Street\, Litchfield\, CT\, 06759\, United States
CATEGORIES:Church Office Event
END:VEVENT
BEGIN:VEVENT
DTSTART;TZID=America/New_York:20290729T080000
DTEND;TZID=America/New_York:20290729T090000
DTSTAMP:20260424T185305
CREATED:20211108T181651Z
LAST-MODIFIED:20260327T134504Z
UID:10020573-1880006400-1880010000@stmichaels-litchfield.org
SUMMARY:Eucharist\, Rite I
DESCRIPTION:Spoken\, no music
URL:https://stmichaels-litchfield.org/event/sunday-eucharist/2029-07-29/
LOCATION:Chapel\, 25 South Street\, Litchfield\, CT\, 06759\, United States
CATEGORIES:Church Event,Parish Events
END:VEVENT
BEGIN:VEVENT
DTSTART;TZID=America/New_York:20290729T100000
DTEND;TZID=America/New_York:20290729T110000
DTSTAMP:20260424T185305
CREATED:20250403T150154Z
LAST-MODIFIED:20260422T181447Z
UID:10020659-1880013600-1880017200@stmichaels-litchfield.org
SUMMARY:Sunday Eucharist\, Rite II
DESCRIPTION:Rite II with music \nFollowed by Coffee Hour in the Community House
URL:https://stmichaels-litchfield.org/event/sunday-eucharist-2-3/2029-07-29/
LOCATION:Church\, 25 South Street\, Litchfield\, CT\, 06759\, United States
CATEGORIES:Church Event,Parish Events
END:VEVENT
BEGIN:VEVENT
DTSTART;TZID=America/New_York:20290729T110000
DTEND;TZID=America/New_York:20290729T140000
DTSTAMP:20260424T185305
CREATED:20230711T182541Z
LAST-MODIFIED:20250806T192214Z
UID:10287263-1880017200-1880028000@stmichaels-litchfield.org
SUMMARY:Coffee and Fellowship in the Community House
DESCRIPTION:
URL:https://stmichaels-litchfield.org/event/coffee-and-congregation-in-the-community-house/2029-07-29/
LOCATION:Community House in Library from April 9th forward
CATEGORIES:Church Event
END:VEVENT
BEGIN:VEVENT
DTSTART;TZID=America/New_York:20290729T190000
DTEND;TZID=America/New_York:20290729T200000
DTSTAMP:20260424T185305
CREATED:20230619T142544Z
LAST-MODIFIED:20260416T160049Z
UID:10296162-1880046000-1880049600@stmichaels-litchfield.org
SUMMARY:AA Meeting in Community House
DESCRIPTION:
URL:https://stmichaels-litchfield.org/event/aa-meeting-in-community-house/2029-07-29/
LOCATION:Community House in Library from April 9th forward
END:VEVENT
END:VCALENDAR