BEGIN:VCALENDAR
VERSION:2.0
PRODID:-//St. Michael&#039;s Church - ECPv6.15.20//NONSGML v1.0//EN
CALSCALE:GREGORIAN
METHOD:PUBLISH
X-ORIGINAL-URL:https://stmichaels-litchfield.org
X-WR-CALDESC:Events for St. Michael&#039;s Church
REFRESH-INTERVAL;VALUE=DURATION:PT1H
X-Robots-Tag:noindex
X-PUBLISHED-TTL:PT1H
BEGIN:VTIMEZONE
TZID:America/New_York
BEGIN:DAYLIGHT
TZOFFSETFROM:-0500
TZOFFSETTO:-0400
TZNAME:EDT
DTSTART:20240310T070000
END:DAYLIGHT
BEGIN:STANDARD
TZOFFSETFROM:-0400
TZOFFSETTO:-0500
TZNAME:EST
DTSTART:20241103T060000
END:STANDARD
BEGIN:DAYLIGHT
TZOFFSETFROM:-0500
TZOFFSETTO:-0400
TZNAME:EDT
DTSTART:20250309T070000
END:DAYLIGHT
BEGIN:STANDARD
TZOFFSETFROM:-0400
TZOFFSETTO:-0500
TZNAME:EST
DTSTART:20251102T060000
END:STANDARD
BEGIN:DAYLIGHT
TZOFFSETFROM:-0500
TZOFFSETTO:-0400
TZNAME:EDT
DTSTART:20260308T070000
END:DAYLIGHT
BEGIN:STANDARD
TZOFFSETFROM:-0400
TZOFFSETTO:-0500
TZNAME:EST
DTSTART:20261101T060000
END:STANDARD
BEGIN:DAYLIGHT
TZOFFSETFROM:-0500
TZOFFSETTO:-0400
TZNAME:EDT
DTSTART:20270314T070000
END:DAYLIGHT
BEGIN:STANDARD
TZOFFSETFROM:-0400
TZOFFSETTO:-0500
TZNAME:EST
DTSTART:20271107T060000
END:STANDARD
END:VTIMEZONE
BEGIN:VEVENT
DTSTART;TZID=America/New_York:20251223T090000
DTEND;TZID=America/New_York:20251223T130000
DTSTAMP:20260419T190650
CREATED:20240206T174110Z
LAST-MODIFIED:20260107T171415Z
UID:10020791-1766480400-1766494800@stmichaels-litchfield.org
SUMMARY:Church Office Open
DESCRIPTION:
URL:https://stmichaels-litchfield.org/event/church-office-open-2-2-2-2/2025-12-23/
LOCATION:Church Office\, 25 South Street\, Litchfield\, CT\, 06759\, United States
CATEGORIES:Church Office Event
END:VEVENT
BEGIN:VEVENT
DTSTART;TZID=America/New_York:20251223T100000
DTEND;TZID=America/New_York:20251223T123000
DTSTAMP:20260419T190650
CREATED:20251125T200943Z
LAST-MODIFIED:20251125T200943Z
UID:10288467-1766484000-1766493000@stmichaels-litchfield.org
SUMMARY:Decorating the Church
DESCRIPTION:
URL:https://stmichaels-litchfield.org/event/decorating-the-church/
LOCATION:Church\, 25 South Street\, Litchfield\, CT\, 06759\, United States
CATEGORIES:Church Event
END:VEVENT
BEGIN:VEVENT
DTSTART;TZID=America/New_York:20251223T190000
DTEND;TZID=America/New_York:20251223T200000
DTSTAMP:20260419T190650
CREATED:20211108T175914Z
LAST-MODIFIED:20260130T014621Z
UID:10010088-1766516400-1766520000@stmichaels-litchfield.org
SUMMARY:AA Meeting in Community House
DESCRIPTION:
URL:https://stmichaels-litchfield.org/event/aa-group-in-community-house-2/2025-12-23/
LOCATION:Community House in Library from April 9th forward
CATEGORIES:AA/NA Events
END:VEVENT
BEGIN:VEVENT
DTSTART;TZID=America/New_York:20251224T070000
DTEND;TZID=America/New_York:20251224T073000
DTSTAMP:20260419T190650
CREATED:20230606T184551Z
LAST-MODIFIED:20230619T142647Z
UID:10006068-1766559600-1766561400@stmichaels-litchfield.org
SUMMARY:AA Meeting in the Parish House Library
DESCRIPTION:
URL:https://stmichaels-litchfield.org/event/aa-meeting-in-the-library/2025-12-24/
LOCATION:Parish House Library\, 25 South Street\, Litchfield\, CT\, 06759\, United States
CATEGORIES:AA/NA Events
END:VEVENT
BEGIN:VEVENT
DTSTART;TZID=America/New_York:20251224T083000
DTEND;TZID=America/New_York:20251224T110000
DTSTAMP:20260419T190650
CREATED:20250109T152013Z
LAST-MODIFIED:20250109T152013Z
UID:10019426-1766565000-1766574000@stmichaels-litchfield.org
SUMMARY:Greenwoods Counseling
DESCRIPTION:
URL:https://stmichaels-litchfield.org/event/greenwoods-counseling-7/2025-12-24/
LOCATION:CT
CATEGORIES:Greenwoods Counseling
END:VEVENT
BEGIN:VEVENT
DTSTART;TZID=America/New_York:20251224T090000
DTEND;TZID=America/New_York:20251224T130000
DTSTAMP:20260419T190650
CREATED:20240206T174110Z
LAST-MODIFIED:20260107T171415Z
UID:10288840-1766566800-1766581200@stmichaels-litchfield.org
SUMMARY:Church Office Open
DESCRIPTION:
URL:https://stmichaels-litchfield.org/event/church-office-open-2-2-2-2/2025-12-24/
LOCATION:Church Office\, 25 South Street\, Litchfield\, CT\, 06759\, United States
CATEGORIES:Church Office Event
END:VEVENT
BEGIN:VEVENT
DTSTART;TZID=America/New_York:20251224T160000
DTEND;TZID=America/New_York:20251224T170000
DTSTAMP:20260419T190650
CREATED:20251202T172905Z
LAST-MODIFIED:20251202T172905Z
UID:10288472-1766592000-1766595600@stmichaels-litchfield.org
SUMMARY:Christmas Eve Eucharist with the Choir
DESCRIPTION:
URL:https://stmichaels-litchfield.org/event/christmas-eve-eucharist-with-the-choir/
LOCATION:Church\, 25 South Street\, Litchfield\, CT\, 06759\, United States
END:VEVENT
BEGIN:VEVENT
DTSTART;TZID=America/New_York:20251224T193000
DTEND;TZID=America/New_York:20251224T210000
DTSTAMP:20260419T190650
CREATED:20211108T180816Z
LAST-MODIFIED:20230714T003135Z
UID:10012442-1766604600-1766610000@stmichaels-litchfield.org
SUMMARY:NA meeting in Community House
DESCRIPTION:
URL:https://stmichaels-litchfield.org/event/narcotics-anonymous/2025-12-24/
LOCATION:Community House in Library from April 9th forward
CATEGORIES:AA/NA Events
END:VEVENT
BEGIN:VEVENT
DTSTART;TZID=America/New_York:20251225T090000
DTEND;TZID=America/New_York:20251225T130000
DTSTAMP:20260419T190650
CREATED:20240206T174110Z
LAST-MODIFIED:20260107T171415Z
UID:10288841-1766653200-1766667600@stmichaels-litchfield.org
SUMMARY:Church Office Open
DESCRIPTION:
URL:https://stmichaels-litchfield.org/event/church-office-open-2-2-2-2/2025-12-25/
LOCATION:Church Office\, 25 South Street\, Litchfield\, CT\, 06759\, United States
CATEGORIES:Church Office Event
END:VEVENT
BEGIN:VEVENT
DTSTART;TZID=America/New_York:20251225T090000
DTEND;TZID=America/New_York:20251225T130000
DTSTAMP:20260419T190650
CREATED:20251002T175510Z
LAST-MODIFIED:20251120T150618Z
UID:10287883-1766653200-1766667600@stmichaels-litchfield.org
SUMMARY:Church Office Closed
DESCRIPTION:
URL:https://stmichaels-litchfield.org/event/church-office-open-4-5-2-2/2025-12-25/
LOCATION:Church Office\, 25 South Street\, Litchfield\, CT\, 06759\, United States
END:VEVENT
BEGIN:VEVENT
DTSTART;VALUE=DATE:20251226
DTEND;VALUE=DATE:20251227
DTSTAMP:20260419T190650
CREATED:20251002T175611Z
LAST-MODIFIED:20251002T175611Z
UID:10288142-1766707200-1766793599@stmichaels-litchfield.org
SUMMARY:Church Office Closed
DESCRIPTION:
URL:https://stmichaels-litchfield.org/event/summer-schedule-church-office-closed-2-2-2/2025-12-26/
LOCATION:Church Office\, 25 South Street\, Litchfield\, CT\, 06759\, United States
CATEGORIES:Church Office Event
END:VEVENT
BEGIN:VEVENT
DTSTART;TZID=America/New_York:20251226T070000
DTEND;TZID=America/New_York:20251226T073000
DTSTAMP:20260419T190650
CREATED:20230606T184551Z
LAST-MODIFIED:20230619T142647Z
UID:10006069-1766732400-1766734200@stmichaels-litchfield.org
SUMMARY:AA Meeting in the Parish House Library
DESCRIPTION:
URL:https://stmichaels-litchfield.org/event/aa-meeting-in-the-library/2025-12-26/
LOCATION:Parish House Library\, 25 South Street\, Litchfield\, CT\, 06759\, United States
CATEGORIES:AA/NA Events
END:VEVENT
BEGIN:VEVENT
DTSTART;TZID=America/New_York:20251227T083000
DTEND;TZID=America/New_York:20251227T093000
DTSTAMP:20260419T190650
CREATED:20230619T143626Z
LAST-MODIFIED:20230619T143720Z
UID:10010695-1766824200-1766827800@stmichaels-litchfield.org
SUMMARY:AA Meeting in Parish House Library
DESCRIPTION:
URL:https://stmichaels-litchfield.org/event/aa-meeting-in-community-house-2/2025-12-27/
LOCATION:Community House in Library from April 9th forward
CATEGORIES:AA/NA Events
END:VEVENT
BEGIN:VEVENT
DTSTART;TZID=America/New_York:20251227T110000
DTEND;TZID=America/New_York:20251227T150000
DTSTAMP:20260419T190650
CREATED:20251209T184251Z
LAST-MODIFIED:20251209T184251Z
UID:10288548-1766833200-1766847600@stmichaels-litchfield.org
SUMMARY:Greenwoods Mtg
DESCRIPTION:
URL:https://stmichaels-litchfield.org/event/greenwoods-mtg-9/
LOCATION:Community House in Library from April 9th forward
CATEGORIES:Greenwoods Counseling
END:VEVENT
BEGIN:VEVENT
DTSTART;TZID=America/New_York:20251228T080000
DTEND;TZID=America/New_York:20251228T090000
DTSTAMP:20260419T190650
CREATED:20211108T181651Z
LAST-MODIFIED:20260327T134504Z
UID:10020386-1766908800-1766912400@stmichaels-litchfield.org
SUMMARY:Eucharist\, Rite I
DESCRIPTION:Spoken\, no music
URL:https://stmichaels-litchfield.org/event/sunday-eucharist/2025-12-28/
LOCATION:Chapel\, 25 South Street\, Litchfield\, CT\, 06759\, United States
CATEGORIES:Church Event,Parish Events
END:VEVENT
BEGIN:VEVENT
DTSTART;TZID=America/New_York:20251228T100000
DTEND;TZID=America/New_York:20251228T110000
DTSTAMP:20260419T190650
CREATED:20250403T150154Z
LAST-MODIFIED:20250806T192031Z
UID:10012701-1766916000-1766919600@stmichaels-litchfield.org
SUMMARY:Sunday Eucharist\, Rite II
DESCRIPTION:Rite II with music \nFollowed by Coffee Hour in the Community House
URL:https://stmichaels-litchfield.org/event/sunday-eucharist-2-3/2025-12-28/
LOCATION:Church and Community House
CATEGORIES:Church Event,Parish Events
END:VEVENT
BEGIN:VEVENT
DTSTART;TZID=America/New_York:20251228T110000
DTEND;TZID=America/New_York:20251228T140000
DTSTAMP:20260419T190650
CREATED:20230711T182541Z
LAST-MODIFIED:20250806T192214Z
UID:10012040-1766919600-1766930400@stmichaels-litchfield.org
SUMMARY:Coffee and Fellowship in the Community House
DESCRIPTION:
URL:https://stmichaels-litchfield.org/event/coffee-and-congregation-in-the-community-house/2025-12-28/
LOCATION:Community House in Library from April 9th forward
CATEGORIES:Church Event
END:VEVENT
BEGIN:VEVENT
DTSTART;TZID=America/New_York:20251228T190000
DTEND;TZID=America/New_York:20251228T200000
DTSTAMP:20260419T190650
CREATED:20230619T142544Z
LAST-MODIFIED:20260416T160049Z
UID:10009885-1766948400-1766952000@stmichaels-litchfield.org
SUMMARY:AA Meeting in Community House
DESCRIPTION:
URL:https://stmichaels-litchfield.org/event/aa-meeting-in-community-house/2025-12-28/
LOCATION:Community House in Library from April 9th forward
END:VEVENT
BEGIN:VEVENT
DTSTART;TZID=America/New_York:20251229T070000
DTEND;TZID=America/New_York:20251229T073000
DTSTAMP:20260419T190650
CREATED:20230606T184551Z
LAST-MODIFIED:20230619T142647Z
UID:10006070-1766991600-1766993400@stmichaels-litchfield.org
SUMMARY:AA Meeting in the Parish House Library
DESCRIPTION:
URL:https://stmichaels-litchfield.org/event/aa-meeting-in-the-library/2025-12-29/
LOCATION:Parish House Library\, 25 South Street\, Litchfield\, CT\, 06759\, United States
CATEGORIES:AA/NA Events
END:VEVENT
BEGIN:VEVENT
DTSTART;TZID=America/New_York:20251230T190000
DTEND;TZID=America/New_York:20251230T200000
DTSTAMP:20260419T190650
CREATED:20211108T175914Z
LAST-MODIFIED:20260130T014621Z
UID:10010089-1767121200-1767124800@stmichaels-litchfield.org
SUMMARY:AA Meeting in Community House
DESCRIPTION:
URL:https://stmichaels-litchfield.org/event/aa-group-in-community-house-2/2025-12-30/
LOCATION:Community House in Library from April 9th forward
CATEGORIES:AA/NA Events
END:VEVENT
BEGIN:VEVENT
DTSTART;TZID=America/New_York:20251231T070000
DTEND;TZID=America/New_York:20251231T073000
DTSTAMP:20260419T190650
CREATED:20230606T184551Z
LAST-MODIFIED:20230619T142647Z
UID:10006071-1767164400-1767166200@stmichaels-litchfield.org
SUMMARY:AA Meeting in the Parish House Library
DESCRIPTION:
URL:https://stmichaels-litchfield.org/event/aa-meeting-in-the-library/2025-12-31/
LOCATION:Parish House Library\, 25 South Street\, Litchfield\, CT\, 06759\, United States
CATEGORIES:AA/NA Events
END:VEVENT
BEGIN:VEVENT
DTSTART;TZID=America/New_York:20251231T083000
DTEND;TZID=America/New_York:20251231T110000
DTSTAMP:20260419T190650
CREATED:20250109T152013Z
LAST-MODIFIED:20250109T152013Z
UID:10019427-1767169800-1767178800@stmichaels-litchfield.org
SUMMARY:Greenwoods Counseling
DESCRIPTION:
URL:https://stmichaels-litchfield.org/event/greenwoods-counseling-7/2025-12-31/
LOCATION:CT
CATEGORIES:Greenwoods Counseling
END:VEVENT
BEGIN:VEVENT
DTSTART;TZID=America/New_York:20251231T110000
DTEND;TZID=America/New_York:20251231T133000
DTSTAMP:20260419T190650
CREATED:20231012T152740Z
LAST-MODIFIED:20231012T152740Z
UID:10013904-1767178800-1767187800@stmichaels-litchfield.org
SUMMARY:Greenwoods Counselling All Staff Meeting in the Community House
DESCRIPTION:
URL:https://stmichaels-litchfield.org/event/greenwoods-counselling-all-staff-meeting-in-the-community-house/2025-12-31/
LOCATION:Community House in Library from April 9th forward
CATEGORIES:Greenwoods Counseling
END:VEVENT
BEGIN:VEVENT
DTSTART;TZID=America/New_York:20251231T190000
DTEND;TZID=America/New_York:20251231T203000
DTSTAMP:20260419T190650
CREATED:20230817T183342Z
LAST-MODIFIED:20230817T183342Z
UID:10013119-1767207600-1767213000@stmichaels-litchfield.org
SUMMARY:Choir Rehearsal in Parish House Music Room
DESCRIPTION:
URL:https://stmichaels-litchfield.org/event/choir-rehearsal-in-parish-house-music-room/2025-12-31/
LOCATION:Parish House Music Room
CATEGORIES:Church Event
END:VEVENT
BEGIN:VEVENT
DTSTART;TZID=America/New_York:20251231T193000
DTEND;TZID=America/New_York:20251231T210000
DTSTAMP:20260419T190650
CREATED:20211108T180816Z
LAST-MODIFIED:20230714T003135Z
UID:10012443-1767209400-1767214800@stmichaels-litchfield.org
SUMMARY:NA meeting in Community House
DESCRIPTION:
URL:https://stmichaels-litchfield.org/event/narcotics-anonymous/2025-12-31/
LOCATION:Community House in Library from April 9th forward
CATEGORIES:AA/NA Events
END:VEVENT
BEGIN:VEVENT
DTSTART;TZID=America/New_York:20260101T090000
DTEND;TZID=America/New_York:20260101T130000
DTSTAMP:20260419T190650
CREATED:20251002T175510Z
LAST-MODIFIED:20251120T150618Z
UID:10287884-1767258000-1767272400@stmichaels-litchfield.org
SUMMARY:Church Office Closed
DESCRIPTION:
URL:https://stmichaels-litchfield.org/event/church-office-open-4-5-2-2/2026-01-01/
LOCATION:Church Office\, 25 South Street\, Litchfield\, CT\, 06759\, United States
END:VEVENT
BEGIN:VEVENT
DTSTART;TZID=America/New_York:20260101T190000
DTEND;TZID=America/New_York:20260101T220000
DTSTAMP:20260419T190650
CREATED:20230810T152445Z
LAST-MODIFIED:20230823T141209Z
UID:10012918-1767294000-1767304800@stmichaels-litchfield.org
SUMMARY:SOTG Board meeting in the Parish House Library
DESCRIPTION:
URL:https://stmichaels-litchfield.org/event/sotg-board-meeting-2/2026-01-01/
LOCATION:Parish House Library\, 25 South Street\, Litchfield\, CT\, 06759\, United States
CATEGORIES:School on the Green Event
END:VEVENT
BEGIN:VEVENT
DTSTART;VALUE=DATE:20260102
DTEND;VALUE=DATE:20260103
DTSTAMP:20260419T190650
CREATED:20251002T175611Z
LAST-MODIFIED:20251002T175611Z
UID:10288143-1767312000-1767398399@stmichaels-litchfield.org
SUMMARY:Church Office Closed
DESCRIPTION:
URL:https://stmichaels-litchfield.org/event/summer-schedule-church-office-closed-2-2-2/2026-01-02/
LOCATION:Church Office\, 25 South Street\, Litchfield\, CT\, 06759\, United States
CATEGORIES:Church Office Event
END:VEVENT
BEGIN:VEVENT
DTSTART;TZID=America/New_York:20260102T070000
DTEND;TZID=America/New_York:20260102T073000
DTSTAMP:20260419T190650
CREATED:20230606T184551Z
LAST-MODIFIED:20230619T142647Z
UID:10006072-1767337200-1767339000@stmichaels-litchfield.org
SUMMARY:AA Meeting in the Parish House Library
DESCRIPTION:
URL:https://stmichaels-litchfield.org/event/aa-meeting-in-the-library/2026-01-02/
LOCATION:Parish House Library\, 25 South Street\, Litchfield\, CT\, 06759\, United States
CATEGORIES:AA/NA Events
END:VEVENT
BEGIN:VEVENT
DTSTART;TZID=America/New_York:20260103T083000
DTEND;TZID=America/New_York:20260103T093000
DTSTAMP:20260419T190650
CREATED:20230619T143626Z
LAST-MODIFIED:20230619T143720Z
UID:10010696-1767429000-1767432600@stmichaels-litchfield.org
SUMMARY:AA Meeting in Parish House Library
DESCRIPTION:
URL:https://stmichaels-litchfield.org/event/aa-meeting-in-community-house-2/2026-01-03/
LOCATION:Community House in Library from April 9th forward
CATEGORIES:AA/NA Events
END:VEVENT
END:VCALENDAR