BEGIN:VCALENDAR
VERSION:2.0
PRODID:-//St. Michael&#039;s Church - ECPv6.15.20//NONSGML v1.0//EN
CALSCALE:GREGORIAN
METHOD:PUBLISH
X-ORIGINAL-URL:https://stmichaels-litchfield.org
X-WR-CALDESC:Events for St. Michael&#039;s Church
REFRESH-INTERVAL;VALUE=DURATION:PT1H
X-Robots-Tag:noindex
X-PUBLISHED-TTL:PT1H
BEGIN:VTIMEZONE
TZID:America/New_York
BEGIN:DAYLIGHT
TZOFFSETFROM:-0500
TZOFFSETTO:-0400
TZNAME:EDT
DTSTART:20250309T070000
END:DAYLIGHT
BEGIN:STANDARD
TZOFFSETFROM:-0400
TZOFFSETTO:-0500
TZNAME:EST
DTSTART:20251102T060000
END:STANDARD
BEGIN:DAYLIGHT
TZOFFSETFROM:-0500
TZOFFSETTO:-0400
TZNAME:EDT
DTSTART:20260308T070000
END:DAYLIGHT
BEGIN:STANDARD
TZOFFSETFROM:-0400
TZOFFSETTO:-0500
TZNAME:EST
DTSTART:20261101T060000
END:STANDARD
BEGIN:DAYLIGHT
TZOFFSETFROM:-0500
TZOFFSETTO:-0400
TZNAME:EDT
DTSTART:20270314T070000
END:DAYLIGHT
BEGIN:STANDARD
TZOFFSETFROM:-0400
TZOFFSETTO:-0500
TZNAME:EST
DTSTART:20271107T060000
END:STANDARD
END:VTIMEZONE
BEGIN:VEVENT
DTSTART;TZID=America/New_York:20260829T083000
DTEND;TZID=America/New_York:20260829T093000
DTSTAMP:20260419T172400
CREATED:20230619T143626Z
LAST-MODIFIED:20230619T143720Z
UID:10010730-1787992200-1787995800@stmichaels-litchfield.org
SUMMARY:AA Meeting in Parish House Library
DESCRIPTION:
URL:https://stmichaels-litchfield.org/event/aa-meeting-in-community-house-2/2026-08-29/
LOCATION:Community House in Library from April 9th forward
CATEGORIES:AA/NA Events
END:VEVENT
BEGIN:VEVENT
DTSTART;TZID=America/New_York:20260830T080000
DTEND;TZID=America/New_York:20260830T090000
DTSTAMP:20260419T172400
CREATED:20211108T181651Z
LAST-MODIFIED:20260327T134504Z
UID:10020421-1788076800-1788080400@stmichaels-litchfield.org
SUMMARY:Eucharist\, Rite I
DESCRIPTION:Spoken\, no music
URL:https://stmichaels-litchfield.org/event/sunday-eucharist/2026-08-30/
LOCATION:Chapel\, 25 South Street\, Litchfield\, CT\, 06759\, United States
CATEGORIES:Church Event,Parish Events
END:VEVENT
BEGIN:VEVENT
DTSTART;TZID=America/New_York:20260830T100000
DTEND;TZID=America/New_York:20260830T110000
DTSTAMP:20260419T172400
CREATED:20250403T150154Z
LAST-MODIFIED:20250806T192031Z
UID:10012736-1788084000-1788087600@stmichaels-litchfield.org
SUMMARY:Sunday Eucharist\, Rite II
DESCRIPTION:Rite II with music \nFollowed by Coffee Hour in the Community House
URL:https://stmichaels-litchfield.org/event/sunday-eucharist-2-3/2026-08-30/
LOCATION:Church and Community House
CATEGORIES:Church Event,Parish Events
END:VEVENT
BEGIN:VEVENT
DTSTART;TZID=America/New_York:20260830T110000
DTEND;TZID=America/New_York:20260830T140000
DTSTAMP:20260419T172400
CREATED:20230711T182541Z
LAST-MODIFIED:20250806T192214Z
UID:10012075-1788087600-1788098400@stmichaels-litchfield.org
SUMMARY:Coffee and Fellowship in the Community House
DESCRIPTION:
URL:https://stmichaels-litchfield.org/event/coffee-and-congregation-in-the-community-house/2026-08-30/
LOCATION:Community House in Library from April 9th forward
CATEGORIES:Church Event
END:VEVENT
BEGIN:VEVENT
DTSTART;TZID=America/New_York:20260830T190000
DTEND;TZID=America/New_York:20260830T200000
DTSTAMP:20260419T172400
CREATED:20230619T142544Z
LAST-MODIFIED:20260416T160049Z
UID:10009920-1788116400-1788120000@stmichaels-litchfield.org
SUMMARY:AA Meeting in Community House
DESCRIPTION:
URL:https://stmichaels-litchfield.org/event/aa-meeting-in-community-house/2026-08-30/
LOCATION:Community House in Library from April 9th forward
END:VEVENT
BEGIN:VEVENT
DTSTART;VALUE=DATE:20260831
DTEND;VALUE=DATE:20260901
DTSTAMP:20260419T172400
CREATED:20260128T181321Z
LAST-MODIFIED:20260128T181322Z
UID:10291171-1788134400-1788220799@stmichaels-litchfield.org
SUMMARY:Church Office Closed
DESCRIPTION:
URL:https://stmichaels-litchfield.org/event/summer-schedule-church-office-closed-2-2-2-3/2026-08-31/
LOCATION:Church Office\, 25 South Street\, Litchfield\, CT\, 06759\, United States
CATEGORIES:Church Office Event
END:VEVENT
BEGIN:VEVENT
DTSTART;TZID=America/New_York:20260831T070000
DTEND;TZID=America/New_York:20260831T073000
DTSTAMP:20260419T172400
CREATED:20230606T184551Z
LAST-MODIFIED:20230619T142647Z
UID:10006175-1788159600-1788161400@stmichaels-litchfield.org
SUMMARY:AA Meeting in the Parish House Library
DESCRIPTION:
URL:https://stmichaels-litchfield.org/event/aa-meeting-in-the-library/2026-08-31/
LOCATION:Parish House Library\, 25 South Street\, Litchfield\, CT\, 06759\, United States
CATEGORIES:AA/NA Events
END:VEVENT
BEGIN:VEVENT
DTSTART;TZID=America/New_York:20260831T200000
DTEND;TZID=America/New_York:20260831T213000
DTSTAMP:20260419T172400
CREATED:20260218T173517Z
LAST-MODIFIED:20260218T173517Z
UID:10292594-1788206400-1788211800@stmichaels-litchfield.org
SUMMARY:AA meeting in the Community House
DESCRIPTION:
URL:https://stmichaels-litchfield.org/event/aa-meeting-in-the-community-house-2/2026-08-31/
LOCATION:CT
END:VEVENT
BEGIN:VEVENT
DTSTART;TZID=America/New_York:20260901T093000
DTEND;TZID=America/New_York:20260901T143000
DTSTAMP:20260419T172400
CREATED:20260128T181432Z
LAST-MODIFIED:20260128T181726Z
UID:10291547-1788255000-1788273000@stmichaels-litchfield.org
SUMMARY:Church Office Open
DESCRIPTION:
URL:https://stmichaels-litchfield.org/event/church-office-open-14/2026-09-01/
LOCATION:Church Office\, 25 South Street\, Litchfield\, CT\, 06759\, United States
CATEGORIES:Church Office Event
END:VEVENT
BEGIN:VEVENT
DTSTART;TZID=America/New_York:20260901T160000
DTEND;TZID=America/New_York:20260901T173000
DTSTAMP:20260419T172400
CREATED:20260331T205128Z
LAST-MODIFIED:20260331T205254Z
UID:10294718-1788278400-1788283800@stmichaels-litchfield.org
SUMMARY:Priest Search Committee
DESCRIPTION:
URL:https://stmichaels-litchfield.org/event/priest-search-committee-3-2-5/2026-09-01/
LOCATION:Parish House Library\, 25 South Street\, Litchfield\, CT\, 06759\, United States
END:VEVENT
BEGIN:VEVENT
DTSTART;TZID=America/New_York:20260901T171500
DTEND;TZID=America/New_York:20260901T183000
DTSTAMP:20260419T172400
CREATED:20231227T151453Z
LAST-MODIFIED:20260317T155826Z
UID:10293642-1788282900-1788287400@stmichaels-litchfield.org
SUMMARY:Property Committee Meeting in Parish House Library
DESCRIPTION:
URL:https://stmichaels-litchfield.org/event/property-committee-meeting-in-parish-house-library-3/2026-09-01/
LOCATION:Parish House Library\, 25 South Street\, Litchfield\, CT\, 06759\, United States
CATEGORIES:Church Event
END:VEVENT
BEGIN:VEVENT
DTSTART;TZID=America/New_York:20260901T190000
DTEND;TZID=America/New_York:20260901T200000
DTSTAMP:20260419T172400
CREATED:20211108T175914Z
LAST-MODIFIED:20260130T014621Z
UID:10010124-1788289200-1788292800@stmichaels-litchfield.org
SUMMARY:AA Meeting in Community House
DESCRIPTION:
URL:https://stmichaels-litchfield.org/event/aa-group-in-community-house-2/2026-09-01/
LOCATION:Community House in Library from April 9th forward
CATEGORIES:AA/NA Events
END:VEVENT
BEGIN:VEVENT
DTSTART;TZID=America/New_York:20260902T070000
DTEND;TZID=America/New_York:20260902T073000
DTSTAMP:20260419T172400
CREATED:20230606T184551Z
LAST-MODIFIED:20230619T142647Z
UID:10006176-1788332400-1788334200@stmichaels-litchfield.org
SUMMARY:AA Meeting in the Parish House Library
DESCRIPTION:
URL:https://stmichaels-litchfield.org/event/aa-meeting-in-the-library/2026-09-02/
LOCATION:Parish House Library\, 25 South Street\, Litchfield\, CT\, 06759\, United States
CATEGORIES:AA/NA Events
END:VEVENT
BEGIN:VEVENT
DTSTART;TZID=America/New_York:20260902T083000
DTEND;TZID=America/New_York:20260902T110000
DTSTAMP:20260419T172400
CREATED:20250109T152013Z
LAST-MODIFIED:20250109T152013Z
UID:10019462-1788337800-1788346800@stmichaels-litchfield.org
SUMMARY:Greenwoods Counseling
DESCRIPTION:
URL:https://stmichaels-litchfield.org/event/greenwoods-counseling-7/2026-09-02/
LOCATION:CT
CATEGORIES:Greenwoods Counseling
END:VEVENT
BEGIN:VEVENT
DTSTART;TZID=America/New_York:20260902T093000
DTEND;TZID=America/New_York:20260902T143000
DTSTAMP:20260419T172400
CREATED:20260128T181432Z
LAST-MODIFIED:20260128T181726Z
UID:10291548-1788341400-1788359400@stmichaels-litchfield.org
SUMMARY:Church Office Open
DESCRIPTION:
URL:https://stmichaels-litchfield.org/event/church-office-open-14/2026-09-02/
LOCATION:Church Office\, 25 South Street\, Litchfield\, CT\, 06759\, United States
CATEGORIES:Church Office Event
END:VEVENT
BEGIN:VEVENT
DTSTART;TZID=America/New_York:20260902T173000
DTEND;TZID=America/New_York:20260902T180000
DTSTAMP:20260419T172400
CREATED:20260327T155546Z
LAST-MODIFIED:20260327T155546Z
UID:10294459-1788370200-1788372000@stmichaels-litchfield.org
SUMMARY:Chanted Evening Prayer
DESCRIPTION:
URL:https://stmichaels-litchfield.org/event/chanted-evening-prayer-3/2026-09-02/
LOCATION:Chapel\, 25 South Street\, Litchfield\, CT\, 06759\, United States
CATEGORIES:Church Event
END:VEVENT
BEGIN:VEVENT
DTSTART;TZID=America/New_York:20260902T190000
DTEND;TZID=America/New_York:20260902T203000
DTSTAMP:20260419T172400
CREATED:20230817T183342Z
LAST-MODIFIED:20230817T183342Z
UID:10013154-1788375600-1788381000@stmichaels-litchfield.org
SUMMARY:Choir Rehearsal in Parish House Music Room
DESCRIPTION:
URL:https://stmichaels-litchfield.org/event/choir-rehearsal-in-parish-house-music-room/2026-09-02/
LOCATION:Parish House Music Room
CATEGORIES:Church Event
END:VEVENT
BEGIN:VEVENT
DTSTART;TZID=America/New_York:20260902T193000
DTEND;TZID=America/New_York:20260902T210000
DTSTAMP:20260419T172400
CREATED:20211108T180816Z
LAST-MODIFIED:20230714T003135Z
UID:10012478-1788377400-1788382800@stmichaels-litchfield.org
SUMMARY:NA meeting in Community House
DESCRIPTION:
URL:https://stmichaels-litchfield.org/event/narcotics-anonymous/2026-09-02/
LOCATION:Community House in Library from April 9th forward
CATEGORIES:AA/NA Events
END:VEVENT
BEGIN:VEVENT
DTSTART;TZID=America/New_York:20260903T093000
DTEND;TZID=America/New_York:20260903T143000
DTSTAMP:20260419T172400
CREATED:20260128T181432Z
LAST-MODIFIED:20260128T181726Z
UID:10291549-1788427800-1788445800@stmichaels-litchfield.org
SUMMARY:Church Office Open
DESCRIPTION:
URL:https://stmichaels-litchfield.org/event/church-office-open-14/2026-09-03/
LOCATION:Church Office\, 25 South Street\, Litchfield\, CT\, 06759\, United States
CATEGORIES:Church Office Event
END:VEVENT
BEGIN:VEVENT
DTSTART;TZID=America/New_York:20260903T190000
DTEND;TZID=America/New_York:20260903T220000
DTSTAMP:20260419T172400
CREATED:20230810T152445Z
LAST-MODIFIED:20230823T141209Z
UID:10012925-1788462000-1788472800@stmichaels-litchfield.org
SUMMARY:SOTG Board meeting in the Parish House Library
DESCRIPTION:
URL:https://stmichaels-litchfield.org/event/sotg-board-meeting-2/2026-09-03/
LOCATION:Parish House Library\, 25 South Street\, Litchfield\, CT\, 06759\, United States
CATEGORIES:School on the Green Event
END:VEVENT
BEGIN:VEVENT
DTSTART;TZID=America/New_York:20260904T070000
DTEND;TZID=America/New_York:20260904T073000
DTSTAMP:20260419T172400
CREATED:20230606T184551Z
LAST-MODIFIED:20230619T142647Z
UID:10006177-1788505200-1788507000@stmichaels-litchfield.org
SUMMARY:AA Meeting in the Parish House Library
DESCRIPTION:
URL:https://stmichaels-litchfield.org/event/aa-meeting-in-the-library/2026-09-04/
LOCATION:Parish House Library\, 25 South Street\, Litchfield\, CT\, 06759\, United States
CATEGORIES:AA/NA Events
END:VEVENT
BEGIN:VEVENT
DTSTART;TZID=America/New_York:20260904T093000
DTEND;TZID=America/New_York:20260904T143000
DTSTAMP:20260419T172400
CREATED:20260128T181432Z
LAST-MODIFIED:20260128T181726Z
UID:10291550-1788514200-1788532200@stmichaels-litchfield.org
SUMMARY:Church Office Open
DESCRIPTION:
URL:https://stmichaels-litchfield.org/event/church-office-open-14/2026-09-04/
LOCATION:Church Office\, 25 South Street\, Litchfield\, CT\, 06759\, United States
CATEGORIES:Church Office Event
END:VEVENT
BEGIN:VEVENT
DTSTART;TZID=America/New_York:20260905T083000
DTEND;TZID=America/New_York:20260905T093000
DTSTAMP:20260419T172400
CREATED:20230619T143626Z
LAST-MODIFIED:20230619T143720Z
UID:10010731-1788597000-1788600600@stmichaels-litchfield.org
SUMMARY:AA Meeting in Parish House Library
DESCRIPTION:
URL:https://stmichaels-litchfield.org/event/aa-meeting-in-community-house-2/2026-09-05/
LOCATION:Community House in Library from April 9th forward
CATEGORIES:AA/NA Events
END:VEVENT
BEGIN:VEVENT
DTSTART;TZID=America/New_York:20260906T080000
DTEND;TZID=America/New_York:20260906T090000
DTSTAMP:20260419T172400
CREATED:20211108T181651Z
LAST-MODIFIED:20260327T134504Z
UID:10020422-1788681600-1788685200@stmichaels-litchfield.org
SUMMARY:Eucharist\, Rite I
DESCRIPTION:Spoken\, no music
URL:https://stmichaels-litchfield.org/event/sunday-eucharist/2026-09-06/
LOCATION:Chapel\, 25 South Street\, Litchfield\, CT\, 06759\, United States
CATEGORIES:Church Event,Parish Events
END:VEVENT
BEGIN:VEVENT
DTSTART;TZID=America/New_York:20260906T100000
DTEND;TZID=America/New_York:20260906T110000
DTSTAMP:20260419T172400
CREATED:20250403T150154Z
LAST-MODIFIED:20250806T192031Z
UID:10012737-1788688800-1788692400@stmichaels-litchfield.org
SUMMARY:Sunday Eucharist\, Rite II
DESCRIPTION:Rite II with music \nFollowed by Coffee Hour in the Community House
URL:https://stmichaels-litchfield.org/event/sunday-eucharist-2-3/2026-09-06/
LOCATION:Church and Community House
CATEGORIES:Church Event,Parish Events
END:VEVENT
BEGIN:VEVENT
DTSTART;TZID=America/New_York:20260906T110000
DTEND;TZID=America/New_York:20260906T140000
DTSTAMP:20260419T172400
CREATED:20230711T182541Z
LAST-MODIFIED:20250806T192214Z
UID:10012076-1788692400-1788703200@stmichaels-litchfield.org
SUMMARY:Coffee and Fellowship in the Community House
DESCRIPTION:
URL:https://stmichaels-litchfield.org/event/coffee-and-congregation-in-the-community-house/2026-09-06/
LOCATION:Community House in Library from April 9th forward
CATEGORIES:Church Event
END:VEVENT
BEGIN:VEVENT
DTSTART;TZID=America/New_York:20260906T190000
DTEND;TZID=America/New_York:20260906T200000
DTSTAMP:20260419T172400
CREATED:20230619T142544Z
LAST-MODIFIED:20260416T160049Z
UID:10009921-1788721200-1788724800@stmichaels-litchfield.org
SUMMARY:AA Meeting in Community House
DESCRIPTION:
URL:https://stmichaels-litchfield.org/event/aa-meeting-in-community-house/2026-09-06/
LOCATION:Community House in Library from April 9th forward
END:VEVENT
BEGIN:VEVENT
DTSTART;VALUE=DATE:20260907
DTEND;VALUE=DATE:20260908
DTSTAMP:20260419T172400
CREATED:20260128T181321Z
LAST-MODIFIED:20260128T181322Z
UID:10291172-1788739200-1788825599@stmichaels-litchfield.org
SUMMARY:Church Office Closed
DESCRIPTION:
URL:https://stmichaels-litchfield.org/event/summer-schedule-church-office-closed-2-2-2-3/2026-09-07/
LOCATION:Church Office\, 25 South Street\, Litchfield\, CT\, 06759\, United States
CATEGORIES:Church Office Event
END:VEVENT
BEGIN:VEVENT
DTSTART;TZID=America/New_York:20260907T070000
DTEND;TZID=America/New_York:20260907T073000
DTSTAMP:20260419T172400
CREATED:20230606T184551Z
LAST-MODIFIED:20230619T142647Z
UID:10006178-1788764400-1788766200@stmichaels-litchfield.org
SUMMARY:AA Meeting in the Parish House Library
DESCRIPTION:
URL:https://stmichaels-litchfield.org/event/aa-meeting-in-the-library/2026-09-07/
LOCATION:Parish House Library\, 25 South Street\, Litchfield\, CT\, 06759\, United States
CATEGORIES:AA/NA Events
END:VEVENT
BEGIN:VEVENT
DTSTART;TZID=America/New_York:20260907T200000
DTEND;TZID=America/New_York:20260907T213000
DTSTAMP:20260419T172400
CREATED:20260218T173517Z
LAST-MODIFIED:20260218T173517Z
UID:10292595-1788811200-1788816600@stmichaels-litchfield.org
SUMMARY:AA meeting in the Community House
DESCRIPTION:
URL:https://stmichaels-litchfield.org/event/aa-meeting-in-the-community-house-2/2026-09-07/
LOCATION:CT
END:VEVENT
END:VCALENDAR