BEGIN:VCALENDAR
VERSION:2.0
PRODID:-//St. Michael&#039;s Church - ECPv6.15.20//NONSGML v1.0//EN
CALSCALE:GREGORIAN
METHOD:PUBLISH
X-ORIGINAL-URL:https://stmichaels-litchfield.org
X-WR-CALDESC:Events for St. Michael&#039;s Church
REFRESH-INTERVAL;VALUE=DURATION:PT1H
X-Robots-Tag:noindex
X-PUBLISHED-TTL:PT1H
BEGIN:VTIMEZONE
TZID:America/New_York
BEGIN:DAYLIGHT
TZOFFSETFROM:-0500
TZOFFSETTO:-0400
TZNAME:EDT
DTSTART:20260308T070000
END:DAYLIGHT
BEGIN:STANDARD
TZOFFSETFROM:-0400
TZOFFSETTO:-0500
TZNAME:EST
DTSTART:20261101T060000
END:STANDARD
BEGIN:DAYLIGHT
TZOFFSETFROM:-0500
TZOFFSETTO:-0400
TZNAME:EDT
DTSTART:20270314T070000
END:DAYLIGHT
BEGIN:STANDARD
TZOFFSETFROM:-0400
TZOFFSETTO:-0500
TZNAME:EST
DTSTART:20271107T060000
END:STANDARD
BEGIN:DAYLIGHT
TZOFFSETFROM:-0500
TZOFFSETTO:-0400
TZNAME:EDT
DTSTART:20280312T070000
END:DAYLIGHT
BEGIN:STANDARD
TZOFFSETFROM:-0400
TZOFFSETTO:-0500
TZNAME:EST
DTSTART:20281105T060000
END:STANDARD
END:VTIMEZONE
BEGIN:VEVENT
DTSTART;TZID=America/New_York:20270319T070000
DTEND;TZID=America/New_York:20270319T073000
DTSTAMP:20260420T025512
CREATED:20230606T184551Z
LAST-MODIFIED:20230619T142647Z
UID:10006261-1805439600-1805441400@stmichaels-litchfield.org
SUMMARY:AA Meeting in the Parish House Library
DESCRIPTION:
URL:https://stmichaels-litchfield.org/event/aa-meeting-in-the-library/2027-03-19/
LOCATION:Parish House Library\, 25 South Street\, Litchfield\, CT\, 06759\, United States
CATEGORIES:AA/NA Events
END:VEVENT
BEGIN:VEVENT
DTSTART;TZID=America/New_York:20270319T093000
DTEND;TZID=America/New_York:20270319T143000
DTSTAMP:20260420T025512
CREATED:20260128T181432Z
LAST-MODIFIED:20260128T181726Z
UID:10291662-1805448600-1805466600@stmichaels-litchfield.org
SUMMARY:Church Office Open
DESCRIPTION:
URL:https://stmichaels-litchfield.org/event/church-office-open-14/2027-03-19/
LOCATION:Church Office\, 25 South Street\, Litchfield\, CT\, 06759\, United States
CATEGORIES:Church Office Event
END:VEVENT
BEGIN:VEVENT
DTSTART;TZID=America/New_York:20270320T083000
DTEND;TZID=America/New_York:20270320T093000
DTSTAMP:20260420T025512
CREATED:20230619T143626Z
LAST-MODIFIED:20230619T143720Z
UID:10010759-1805531400-1805535000@stmichaels-litchfield.org
SUMMARY:AA Meeting in Parish House Library
DESCRIPTION:
URL:https://stmichaels-litchfield.org/event/aa-meeting-in-community-house-2/2027-03-20/
LOCATION:Community House in Library from April 9th forward
CATEGORIES:AA/NA Events
END:VEVENT
BEGIN:VEVENT
DTSTART;TZID=America/New_York:20270321T080000
DTEND;TZID=America/New_York:20270321T090000
DTSTAMP:20260420T025512
CREATED:20211108T181651Z
LAST-MODIFIED:20260327T134504Z
UID:10020450-1805616000-1805619600@stmichaels-litchfield.org
SUMMARY:Eucharist\, Rite I
DESCRIPTION:Spoken\, no music
URL:https://stmichaels-litchfield.org/event/sunday-eucharist/2027-03-21/
LOCATION:Chapel\, 25 South Street\, Litchfield\, CT\, 06759\, United States
CATEGORIES:Church Event,Parish Events
END:VEVENT
BEGIN:VEVENT
DTSTART;TZID=America/New_York:20270321T100000
DTEND;TZID=America/New_York:20270321T110000
DTSTAMP:20260420T025512
CREATED:20250403T150154Z
LAST-MODIFIED:20250806T192031Z
UID:10012765-1805623200-1805626800@stmichaels-litchfield.org
SUMMARY:Sunday Eucharist\, Rite II
DESCRIPTION:Rite II with music \nFollowed by Coffee Hour in the Community House
URL:https://stmichaels-litchfield.org/event/sunday-eucharist-2-3/2027-03-21/
LOCATION:Church and Community House
CATEGORIES:Church Event,Parish Events
END:VEVENT
BEGIN:VEVENT
DTSTART;TZID=America/New_York:20270321T110000
DTEND;TZID=America/New_York:20270321T140000
DTSTAMP:20260420T025512
CREATED:20230711T182541Z
LAST-MODIFIED:20250806T192214Z
UID:10012104-1805626800-1805637600@stmichaels-litchfield.org
SUMMARY:Coffee and Fellowship in the Community House
DESCRIPTION:
URL:https://stmichaels-litchfield.org/event/coffee-and-congregation-in-the-community-house/2027-03-21/
LOCATION:Community House in Library from April 9th forward
CATEGORIES:Church Event
END:VEVENT
BEGIN:VEVENT
DTSTART;TZID=America/New_York:20270321T190000
DTEND;TZID=America/New_York:20270321T200000
DTSTAMP:20260420T025512
CREATED:20230619T142544Z
LAST-MODIFIED:20260416T160049Z
UID:10009949-1805655600-1805659200@stmichaels-litchfield.org
SUMMARY:AA Meeting in Community House
DESCRIPTION:
URL:https://stmichaels-litchfield.org/event/aa-meeting-in-community-house/2027-03-21/
LOCATION:Community House in Library from April 9th forward
END:VEVENT
BEGIN:VEVENT
DTSTART;VALUE=DATE:20270322
DTEND;VALUE=DATE:20270323
DTSTAMP:20260420T025512
CREATED:20260128T181321Z
LAST-MODIFIED:20260128T181322Z
UID:10291200-1805673600-1805759999@stmichaels-litchfield.org
SUMMARY:Church Office Closed
DESCRIPTION:
URL:https://stmichaels-litchfield.org/event/summer-schedule-church-office-closed-2-2-2-3/2027-03-22/
LOCATION:Church Office\, 25 South Street\, Litchfield\, CT\, 06759\, United States
CATEGORIES:Church Office Event
END:VEVENT
BEGIN:VEVENT
DTSTART;TZID=America/New_York:20270322T070000
DTEND;TZID=America/New_York:20270322T073000
DTSTAMP:20260420T025512
CREATED:20230606T184551Z
LAST-MODIFIED:20230619T142647Z
UID:10006262-1805698800-1805700600@stmichaels-litchfield.org
SUMMARY:AA Meeting in the Parish House Library
DESCRIPTION:
URL:https://stmichaels-litchfield.org/event/aa-meeting-in-the-library/2027-03-22/
LOCATION:Parish House Library\, 25 South Street\, Litchfield\, CT\, 06759\, United States
CATEGORIES:AA/NA Events
END:VEVENT
BEGIN:VEVENT
DTSTART;TZID=America/New_York:20270322T200000
DTEND;TZID=America/New_York:20270322T213000
DTSTAMP:20260420T025512
CREATED:20260218T173517Z
LAST-MODIFIED:20260218T173517Z
UID:10292623-1805745600-1805751000@stmichaels-litchfield.org
SUMMARY:AA meeting in the Community House
DESCRIPTION:
URL:https://stmichaels-litchfield.org/event/aa-meeting-in-the-community-house-2/2027-03-22/
LOCATION:CT
END:VEVENT
BEGIN:VEVENT
DTSTART;TZID=America/New_York:20270323T093000
DTEND;TZID=America/New_York:20270323T143000
DTSTAMP:20260420T025512
CREATED:20260128T181432Z
LAST-MODIFIED:20260128T181726Z
UID:10291663-1805794200-1805812200@stmichaels-litchfield.org
SUMMARY:Church Office Open
DESCRIPTION:
URL:https://stmichaels-litchfield.org/event/church-office-open-14/2027-03-23/
LOCATION:Church Office\, 25 South Street\, Litchfield\, CT\, 06759\, United States
CATEGORIES:Church Office Event
END:VEVENT
BEGIN:VEVENT
DTSTART;TZID=America/New_York:20270323T160000
DTEND;TZID=America/New_York:20270323T173000
DTSTAMP:20260420T025512
CREATED:20260331T205128Z
LAST-MODIFIED:20260331T205254Z
UID:10294747-1805817600-1805823000@stmichaels-litchfield.org
SUMMARY:Priest Search Committee
DESCRIPTION:
URL:https://stmichaels-litchfield.org/event/priest-search-committee-3-2-5/2027-03-23/
LOCATION:Parish House Library\, 25 South Street\, Litchfield\, CT\, 06759\, United States
END:VEVENT
BEGIN:VEVENT
DTSTART;TZID=America/New_York:20270323T190000
DTEND;TZID=America/New_York:20270323T200000
DTSTAMP:20260420T025512
CREATED:20211108T175914Z
LAST-MODIFIED:20260130T014621Z
UID:10010153-1805828400-1805832000@stmichaels-litchfield.org
SUMMARY:AA Meeting in Community House
DESCRIPTION:
URL:https://stmichaels-litchfield.org/event/aa-group-in-community-house-2/2027-03-23/
LOCATION:Community House in Library from April 9th forward
CATEGORIES:AA/NA Events
END:VEVENT
BEGIN:VEVENT
DTSTART;TZID=America/New_York:20270324T070000
DTEND;TZID=America/New_York:20270324T073000
DTSTAMP:20260420T025512
CREATED:20230606T184551Z
LAST-MODIFIED:20230619T142647Z
UID:10006263-1805871600-1805873400@stmichaels-litchfield.org
SUMMARY:AA Meeting in the Parish House Library
DESCRIPTION:
URL:https://stmichaels-litchfield.org/event/aa-meeting-in-the-library/2027-03-24/
LOCATION:Parish House Library\, 25 South Street\, Litchfield\, CT\, 06759\, United States
CATEGORIES:AA/NA Events
END:VEVENT
BEGIN:VEVENT
DTSTART;TZID=America/New_York:20270324T083000
DTEND;TZID=America/New_York:20270324T110000
DTSTAMP:20260420T025512
CREATED:20250109T152013Z
LAST-MODIFIED:20250109T152013Z
UID:10019491-1805877000-1805886000@stmichaels-litchfield.org
SUMMARY:Greenwoods Counseling
DESCRIPTION:
URL:https://stmichaels-litchfield.org/event/greenwoods-counseling-7/2027-03-24/
LOCATION:CT
CATEGORIES:Greenwoods Counseling
END:VEVENT
BEGIN:VEVENT
DTSTART;TZID=America/New_York:20270324T093000
DTEND;TZID=America/New_York:20270324T143000
DTSTAMP:20260420T025512
CREATED:20260128T181432Z
LAST-MODIFIED:20260128T181726Z
UID:10291664-1805880600-1805898600@stmichaels-litchfield.org
SUMMARY:Church Office Open
DESCRIPTION:
URL:https://stmichaels-litchfield.org/event/church-office-open-14/2027-03-24/
LOCATION:Church Office\, 25 South Street\, Litchfield\, CT\, 06759\, United States
CATEGORIES:Church Office Event
END:VEVENT
BEGIN:VEVENT
DTSTART;TZID=America/New_York:20270324T173000
DTEND;TZID=America/New_York:20270324T180000
DTSTAMP:20260420T025512
CREATED:20260327T155546Z
LAST-MODIFIED:20260327T155546Z
UID:10294488-1805909400-1805911200@stmichaels-litchfield.org
SUMMARY:Chanted Evening Prayer
DESCRIPTION:
URL:https://stmichaels-litchfield.org/event/chanted-evening-prayer-3/2027-03-24/
LOCATION:Chapel\, 25 South Street\, Litchfield\, CT\, 06759\, United States
CATEGORIES:Church Event
END:VEVENT
BEGIN:VEVENT
DTSTART;TZID=America/New_York:20270324T190000
DTEND;TZID=America/New_York:20270324T203000
DTSTAMP:20260420T025512
CREATED:20230817T183342Z
LAST-MODIFIED:20230817T183342Z
UID:10013183-1805914800-1805920200@stmichaels-litchfield.org
SUMMARY:Choir Rehearsal in Parish House Music Room
DESCRIPTION:
URL:https://stmichaels-litchfield.org/event/choir-rehearsal-in-parish-house-music-room/2027-03-24/
LOCATION:Parish House Music Room
CATEGORIES:Church Event
END:VEVENT
BEGIN:VEVENT
DTSTART;TZID=America/New_York:20270324T193000
DTEND;TZID=America/New_York:20270324T210000
DTSTAMP:20260420T025512
CREATED:20211108T180816Z
LAST-MODIFIED:20230714T003135Z
UID:10012507-1805916600-1805922000@stmichaels-litchfield.org
SUMMARY:NA meeting in Community House
DESCRIPTION:
URL:https://stmichaels-litchfield.org/event/narcotics-anonymous/2027-03-24/
LOCATION:Community House in Library from April 9th forward
CATEGORIES:AA/NA Events
END:VEVENT
BEGIN:VEVENT
DTSTART;TZID=America/New_York:20270325T093000
DTEND;TZID=America/New_York:20270325T143000
DTSTAMP:20260420T025512
CREATED:20260128T181432Z
LAST-MODIFIED:20260128T181726Z
UID:10291665-1805967000-1805985000@stmichaels-litchfield.org
SUMMARY:Church Office Open
DESCRIPTION:
URL:https://stmichaels-litchfield.org/event/church-office-open-14/2027-03-25/
LOCATION:Church Office\, 25 South Street\, Litchfield\, CT\, 06759\, United States
CATEGORIES:Church Office Event
END:VEVENT
BEGIN:VEVENT
DTSTART;TZID=America/New_York:20270326T070000
DTEND;TZID=America/New_York:20270326T073000
DTSTAMP:20260420T025512
CREATED:20230606T184551Z
LAST-MODIFIED:20230619T142647Z
UID:10006264-1806044400-1806046200@stmichaels-litchfield.org
SUMMARY:AA Meeting in the Parish House Library
DESCRIPTION:
URL:https://stmichaels-litchfield.org/event/aa-meeting-in-the-library/2027-03-26/
LOCATION:Parish House Library\, 25 South Street\, Litchfield\, CT\, 06759\, United States
CATEGORIES:AA/NA Events
END:VEVENT
BEGIN:VEVENT
DTSTART;TZID=America/New_York:20270326T093000
DTEND;TZID=America/New_York:20270326T143000
DTSTAMP:20260420T025512
CREATED:20260128T181432Z
LAST-MODIFIED:20260128T181726Z
UID:10291666-1806053400-1806071400@stmichaels-litchfield.org
SUMMARY:Church Office Open
DESCRIPTION:
URL:https://stmichaels-litchfield.org/event/church-office-open-14/2027-03-26/
LOCATION:Church Office\, 25 South Street\, Litchfield\, CT\, 06759\, United States
CATEGORIES:Church Office Event
END:VEVENT
BEGIN:VEVENT
DTSTART;TZID=America/New_York:20270327T083000
DTEND;TZID=America/New_York:20270327T093000
DTSTAMP:20260420T025512
CREATED:20230619T143626Z
LAST-MODIFIED:20230619T143720Z
UID:10010760-1806136200-1806139800@stmichaels-litchfield.org
SUMMARY:AA Meeting in Parish House Library
DESCRIPTION:
URL:https://stmichaels-litchfield.org/event/aa-meeting-in-community-house-2/2027-03-27/
LOCATION:Community House in Library from April 9th forward
CATEGORIES:AA/NA Events
END:VEVENT
BEGIN:VEVENT
DTSTART;TZID=America/New_York:20270328T080000
DTEND;TZID=America/New_York:20270328T090000
DTSTAMP:20260420T025512
CREATED:20211108T181651Z
LAST-MODIFIED:20260327T134504Z
UID:10020451-1806220800-1806224400@stmichaels-litchfield.org
SUMMARY:Eucharist\, Rite I
DESCRIPTION:Spoken\, no music
URL:https://stmichaels-litchfield.org/event/sunday-eucharist/2027-03-28/
LOCATION:Chapel\, 25 South Street\, Litchfield\, CT\, 06759\, United States
CATEGORIES:Church Event,Parish Events
END:VEVENT
BEGIN:VEVENT
DTSTART;TZID=America/New_York:20270328T100000
DTEND;TZID=America/New_York:20270328T110000
DTSTAMP:20260420T025512
CREATED:20250403T150154Z
LAST-MODIFIED:20250806T192031Z
UID:10012766-1806228000-1806231600@stmichaels-litchfield.org
SUMMARY:Sunday Eucharist\, Rite II
DESCRIPTION:Rite II with music \nFollowed by Coffee Hour in the Community House
URL:https://stmichaels-litchfield.org/event/sunday-eucharist-2-3/2027-03-28/
LOCATION:Church and Community House
CATEGORIES:Church Event,Parish Events
END:VEVENT
BEGIN:VEVENT
DTSTART;TZID=America/New_York:20270328T110000
DTEND;TZID=America/New_York:20270328T140000
DTSTAMP:20260420T025512
CREATED:20230711T182541Z
LAST-MODIFIED:20250806T192214Z
UID:10012105-1806231600-1806242400@stmichaels-litchfield.org
SUMMARY:Coffee and Fellowship in the Community House
DESCRIPTION:
URL:https://stmichaels-litchfield.org/event/coffee-and-congregation-in-the-community-house/2027-03-28/
LOCATION:Community House in Library from April 9th forward
CATEGORIES:Church Event
END:VEVENT
BEGIN:VEVENT
DTSTART;TZID=America/New_York:20270328T190000
DTEND;TZID=America/New_York:20270328T200000
DTSTAMP:20260420T025512
CREATED:20230619T142544Z
LAST-MODIFIED:20260416T160049Z
UID:10009950-1806260400-1806264000@stmichaels-litchfield.org
SUMMARY:AA Meeting in Community House
DESCRIPTION:
URL:https://stmichaels-litchfield.org/event/aa-meeting-in-community-house/2027-03-28/
LOCATION:Community House in Library from April 9th forward
END:VEVENT
BEGIN:VEVENT
DTSTART;VALUE=DATE:20270329
DTEND;VALUE=DATE:20270330
DTSTAMP:20260420T025512
CREATED:20260128T181321Z
LAST-MODIFIED:20260128T181322Z
UID:10291201-1806278400-1806364799@stmichaels-litchfield.org
SUMMARY:Church Office Closed
DESCRIPTION:
URL:https://stmichaels-litchfield.org/event/summer-schedule-church-office-closed-2-2-2-3/2027-03-29/
LOCATION:Church Office\, 25 South Street\, Litchfield\, CT\, 06759\, United States
CATEGORIES:Church Office Event
END:VEVENT
BEGIN:VEVENT
DTSTART;TZID=America/New_York:20270329T070000
DTEND;TZID=America/New_York:20270329T073000
DTSTAMP:20260420T025512
CREATED:20230606T184551Z
LAST-MODIFIED:20230619T142647Z
UID:10006265-1806303600-1806305400@stmichaels-litchfield.org
SUMMARY:AA Meeting in the Parish House Library
DESCRIPTION:
URL:https://stmichaels-litchfield.org/event/aa-meeting-in-the-library/2027-03-29/
LOCATION:Parish House Library\, 25 South Street\, Litchfield\, CT\, 06759\, United States
CATEGORIES:AA/NA Events
END:VEVENT
BEGIN:VEVENT
DTSTART;TZID=America/New_York:20270329T200000
DTEND;TZID=America/New_York:20270329T213000
DTSTAMP:20260420T025512
CREATED:20260218T173517Z
LAST-MODIFIED:20260218T173517Z
UID:10292624-1806350400-1806355800@stmichaels-litchfield.org
SUMMARY:AA meeting in the Community House
DESCRIPTION:
URL:https://stmichaels-litchfield.org/event/aa-meeting-in-the-community-house-2/2027-03-29/
LOCATION:CT
END:VEVENT
END:VCALENDAR