BEGIN:VCALENDAR
VERSION:2.0
PRODID:-//St. Michael&#039;s Church - ECPv6.15.20//NONSGML v1.0//EN
CALSCALE:GREGORIAN
METHOD:PUBLISH
X-ORIGINAL-URL:https://stmichaels-litchfield.org
X-WR-CALDESC:Events for St. Michael&#039;s Church
REFRESH-INTERVAL;VALUE=DURATION:PT1H
X-Robots-Tag:noindex
X-PUBLISHED-TTL:PT1H
BEGIN:VTIMEZONE
TZID:America/New_York
BEGIN:DAYLIGHT
TZOFFSETFROM:-0500
TZOFFSETTO:-0400
TZNAME:EDT
DTSTART:20260308T070000
END:DAYLIGHT
BEGIN:STANDARD
TZOFFSETFROM:-0400
TZOFFSETTO:-0500
TZNAME:EST
DTSTART:20261101T060000
END:STANDARD
BEGIN:DAYLIGHT
TZOFFSETFROM:-0500
TZOFFSETTO:-0400
TZNAME:EDT
DTSTART:20270314T070000
END:DAYLIGHT
BEGIN:STANDARD
TZOFFSETFROM:-0400
TZOFFSETTO:-0500
TZNAME:EST
DTSTART:20271107T060000
END:STANDARD
BEGIN:DAYLIGHT
TZOFFSETFROM:-0500
TZOFFSETTO:-0400
TZNAME:EDT
DTSTART:20280312T070000
END:DAYLIGHT
BEGIN:STANDARD
TZOFFSETFROM:-0400
TZOFFSETTO:-0500
TZNAME:EST
DTSTART:20281105T060000
END:STANDARD
END:VTIMEZONE
BEGIN:VEVENT
DTSTART;TZID=America/New_York:20271009T083000
DTEND;TZID=America/New_York:20271009T093000
DTSTAMP:20260422T175702
CREATED:20230619T143626Z
LAST-MODIFIED:20230619T143720Z
UID:10010788-1823070600-1823074200@stmichaels-litchfield.org
SUMMARY:AA Meeting in Parish House Library
DESCRIPTION:
URL:https://stmichaels-litchfield.org/event/aa-meeting-in-community-house-2/2027-10-09/
LOCATION:Community House in Library from April 9th forward
CATEGORIES:AA/NA Events
END:VEVENT
BEGIN:VEVENT
DTSTART;TZID=America/New_York:20271010T080000
DTEND;TZID=America/New_York:20271010T090000
DTSTAMP:20260422T175702
CREATED:20211108T181651Z
LAST-MODIFIED:20260327T134504Z
UID:10020479-1823155200-1823158800@stmichaels-litchfield.org
SUMMARY:Eucharist\, Rite I
DESCRIPTION:Spoken\, no music
URL:https://stmichaels-litchfield.org/event/sunday-eucharist/2027-10-10/
LOCATION:Chapel\, 25 South Street\, Litchfield\, CT\, 06759\, United States
CATEGORIES:Church Event,Parish Events
END:VEVENT
BEGIN:VEVENT
DTSTART;TZID=America/New_York:20271010T100000
DTEND;TZID=America/New_York:20271010T110000
DTSTAMP:20260422T175702
CREATED:20250403T150154Z
LAST-MODIFIED:20260422T181447Z
UID:10012794-1823162400-1823166000@stmichaels-litchfield.org
SUMMARY:Sunday Eucharist\, Rite II
DESCRIPTION:Rite II with music \nFollowed by Coffee Hour in the Community House
URL:https://stmichaels-litchfield.org/event/sunday-eucharist-2-3/2027-10-10/
LOCATION:Church\, 25 South Street\, Litchfield\, CT\, 06759\, United States
CATEGORIES:Church Event,Parish Events
END:VEVENT
BEGIN:VEVENT
DTSTART;TZID=America/New_York:20271010T110000
DTEND;TZID=America/New_York:20271010T140000
DTSTAMP:20260422T175702
CREATED:20230711T182541Z
LAST-MODIFIED:20250806T192214Z
UID:10012133-1823166000-1823176800@stmichaels-litchfield.org
SUMMARY:Coffee and Fellowship in the Community House
DESCRIPTION:
URL:https://stmichaels-litchfield.org/event/coffee-and-congregation-in-the-community-house/2027-10-10/
LOCATION:Community House in Library from April 9th forward
CATEGORIES:Church Event
END:VEVENT
BEGIN:VEVENT
DTSTART;TZID=America/New_York:20271010T112000
DTEND;TZID=America/New_York:20271010T123000
DTSTAMP:20260422T175702
CREATED:20260408T170910Z
LAST-MODIFIED:20260408T170910Z
UID:10296061-1823167200-1823171400@stmichaels-litchfield.org
SUMMARY:Vestry Meeting
DESCRIPTION:
URL:https://stmichaels-litchfield.org/event/vestry-meeting-4/2027-10-10/
LOCATION:CT
CATEGORIES:Church Event,Parish Events
END:VEVENT
BEGIN:VEVENT
DTSTART;TZID=America/New_York:20271010T190000
DTEND;TZID=America/New_York:20271010T200000
DTSTAMP:20260422T175702
CREATED:20230619T142544Z
LAST-MODIFIED:20260416T160049Z
UID:10009978-1823194800-1823198400@stmichaels-litchfield.org
SUMMARY:AA Meeting in Community House
DESCRIPTION:
URL:https://stmichaels-litchfield.org/event/aa-meeting-in-community-house/2027-10-10/
LOCATION:Community House in Library from April 9th forward
END:VEVENT
BEGIN:VEVENT
DTSTART;VALUE=DATE:20271011
DTEND;VALUE=DATE:20271012
DTSTAMP:20260422T175702
CREATED:20260128T181321Z
LAST-MODIFIED:20260128T181322Z
UID:10291229-1823212800-1823299199@stmichaels-litchfield.org
SUMMARY:Church Office Closed
DESCRIPTION:
URL:https://stmichaels-litchfield.org/event/summer-schedule-church-office-closed-2-2-2-3/2027-10-11/
LOCATION:Church Office\, 25 South Street\, Litchfield\, CT\, 06759\, United States
CATEGORIES:Church Office Event
END:VEVENT
BEGIN:VEVENT
DTSTART;TZID=America/New_York:20271011T070000
DTEND;TZID=America/New_York:20271011T073000
DTSTAMP:20260422T175702
CREATED:20230606T184551Z
LAST-MODIFIED:20230619T142647Z
UID:10006349-1823238000-1823239800@stmichaels-litchfield.org
SUMMARY:AA Meeting in the Parish House Library
DESCRIPTION:
URL:https://stmichaels-litchfield.org/event/aa-meeting-in-the-library/2027-10-11/
LOCATION:Parish House Library\, 25 South Street\, Litchfield\, CT\, 06759\, United States
CATEGORIES:AA/NA Events
END:VEVENT
BEGIN:VEVENT
DTSTART;TZID=America/New_York:20271011T200000
DTEND;TZID=America/New_York:20271011T213000
DTSTAMP:20260422T175702
CREATED:20260218T173517Z
LAST-MODIFIED:20260218T173517Z
UID:10292652-1823284800-1823290200@stmichaels-litchfield.org
SUMMARY:AA meeting in the Community House
DESCRIPTION:
URL:https://stmichaels-litchfield.org/event/aa-meeting-in-the-community-house-2/2027-10-11/
LOCATION:CT
END:VEVENT
BEGIN:VEVENT
DTSTART;TZID=America/New_York:20271012T093000
DTEND;TZID=America/New_York:20271012T143000
DTSTAMP:20260422T175702
CREATED:20260128T181432Z
LAST-MODIFIED:20260128T181726Z
UID:10291779-1823333400-1823351400@stmichaels-litchfield.org
SUMMARY:Church Office Open
DESCRIPTION:
URL:https://stmichaels-litchfield.org/event/church-office-open-14/2027-10-12/
LOCATION:Church Office\, 25 South Street\, Litchfield\, CT\, 06759\, United States
CATEGORIES:Church Office Event
END:VEVENT
BEGIN:VEVENT
DTSTART;TZID=America/New_York:20271012T120000
DTEND;TZID=America/New_York:20271012T130000
DTSTAMP:20260422T175702
CREATED:20260223T205039Z
LAST-MODIFIED:20260223T205039Z
UID:10293184-1823342400-1823346000@stmichaels-litchfield.org
SUMMARY:Lunch with Meredith
DESCRIPTION:
URL:https://stmichaels-litchfield.org/event/lunch-with-meredith-2/2027-10-12/
LOCATION:Community House in Library from April 9th forward
CATEGORIES:Church Event,Parish Events
END:VEVENT
BEGIN:VEVENT
DTSTART;TZID=America/New_York:20271012T151500
DTEND;TZID=America/New_York:20271012T163000
DTSTAMP:20260422T175702
CREATED:20260223T204456Z
LAST-MODIFIED:20260304T185946Z
UID:10293572-1823354100-1823358600@stmichaels-litchfield.org
SUMMARY:Property Committee meeting in Parish House Library
DESCRIPTION:
URL:https://stmichaels-litchfield.org/event/property-committee-meeting-in-parish-house-library-4/2027-10-12/
LOCATION:Parish House Library\, 25 South Street\, Litchfield\, CT\, 06759\, United States
CATEGORIES:Church Event
END:VEVENT
BEGIN:VEVENT
DTSTART;TZID=America/New_York:20271012T160000
DTEND;TZID=America/New_York:20271012T173000
DTSTAMP:20260422T175702
CREATED:20260331T205128Z
LAST-MODIFIED:20260331T205254Z
UID:10294776-1823356800-1823362200@stmichaels-litchfield.org
SUMMARY:Priest Search Committee
DESCRIPTION:
URL:https://stmichaels-litchfield.org/event/priest-search-committee-3-2-5/2027-10-12/
LOCATION:Parish House Library\, 25 South Street\, Litchfield\, CT\, 06759\, United States
END:VEVENT
BEGIN:VEVENT
DTSTART;TZID=America/New_York:20271012T190000
DTEND;TZID=America/New_York:20271012T200000
DTSTAMP:20260422T175702
CREATED:20211108T175914Z
LAST-MODIFIED:20260130T014621Z
UID:10010182-1823367600-1823371200@stmichaels-litchfield.org
SUMMARY:AA Meeting in Community House
DESCRIPTION:
URL:https://stmichaels-litchfield.org/event/aa-group-in-community-house-2/2027-10-12/
LOCATION:Community House in Library from April 9th forward
CATEGORIES:AA/NA Events
END:VEVENT
BEGIN:VEVENT
DTSTART;TZID=America/New_York:20271013T070000
DTEND;TZID=America/New_York:20271013T073000
DTSTAMP:20260422T175702
CREATED:20230606T184551Z
LAST-MODIFIED:20230619T142647Z
UID:10006350-1823410800-1823412600@stmichaels-litchfield.org
SUMMARY:AA Meeting in the Parish House Library
DESCRIPTION:
URL:https://stmichaels-litchfield.org/event/aa-meeting-in-the-library/2027-10-13/
LOCATION:Parish House Library\, 25 South Street\, Litchfield\, CT\, 06759\, United States
CATEGORIES:AA/NA Events
END:VEVENT
BEGIN:VEVENT
DTSTART;TZID=America/New_York:20271013T083000
DTEND;TZID=America/New_York:20271013T110000
DTSTAMP:20260422T175702
CREATED:20250109T152013Z
LAST-MODIFIED:20250109T152013Z
UID:10019520-1823416200-1823425200@stmichaels-litchfield.org
SUMMARY:Greenwoods Counseling
DESCRIPTION:
URL:https://stmichaels-litchfield.org/event/greenwoods-counseling-7/2027-10-13/
LOCATION:CT
CATEGORIES:Greenwoods Counseling
END:VEVENT
BEGIN:VEVENT
DTSTART;TZID=America/New_York:20271013T093000
DTEND;TZID=America/New_York:20271013T143000
DTSTAMP:20260422T175702
CREATED:20260128T181432Z
LAST-MODIFIED:20260128T181726Z
UID:10291780-1823419800-1823437800@stmichaels-litchfield.org
SUMMARY:Church Office Open
DESCRIPTION:
URL:https://stmichaels-litchfield.org/event/church-office-open-14/2027-10-13/
LOCATION:Church Office\, 25 South Street\, Litchfield\, CT\, 06759\, United States
CATEGORIES:Church Office Event
END:VEVENT
BEGIN:VEVENT
DTSTART;TZID=America/New_York:20271013T173000
DTEND;TZID=America/New_York:20271013T180000
DTSTAMP:20260422T175702
CREATED:20260327T155546Z
LAST-MODIFIED:20260422T175057Z
UID:10294517-1823448600-1823450400@stmichaels-litchfield.org
SUMMARY:Chanted Evening Prayer
DESCRIPTION:
URL:https://stmichaels-litchfield.org/event/chanted-evening-prayer-3/2027-10-13/
LOCATION:Chapel\, 25 South Street\, Litchfield\, CT\, 06759\, United States
CATEGORIES:Church Event
END:VEVENT
BEGIN:VEVENT
DTSTART;TZID=America/New_York:20271013T190000
DTEND;TZID=America/New_York:20271013T203000
DTSTAMP:20260422T175702
CREATED:20230817T183342Z
LAST-MODIFIED:20230817T183342Z
UID:10013212-1823454000-1823459400@stmichaels-litchfield.org
SUMMARY:Choir Rehearsal in Parish House Music Room
DESCRIPTION:
URL:https://stmichaels-litchfield.org/event/choir-rehearsal-in-parish-house-music-room/2027-10-13/
LOCATION:Parish House Music Room
CATEGORIES:Church Event
END:VEVENT
BEGIN:VEVENT
DTSTART;TZID=America/New_York:20271013T193000
DTEND;TZID=America/New_York:20271013T210000
DTSTAMP:20260422T175702
CREATED:20211108T180816Z
LAST-MODIFIED:20230714T003135Z
UID:10012536-1823455800-1823461200@stmichaels-litchfield.org
SUMMARY:NA meeting in Community House
DESCRIPTION:
URL:https://stmichaels-litchfield.org/event/narcotics-anonymous/2027-10-13/
LOCATION:Community House in Library from April 9th forward
CATEGORIES:AA/NA Events
END:VEVENT
BEGIN:VEVENT
DTSTART;TZID=America/New_York:20271014T093000
DTEND;TZID=America/New_York:20271014T143000
DTSTAMP:20260422T175702
CREATED:20260128T181432Z
LAST-MODIFIED:20260128T181726Z
UID:10291781-1823506200-1823524200@stmichaels-litchfield.org
SUMMARY:Church Office Open
DESCRIPTION:
URL:https://stmichaels-litchfield.org/event/church-office-open-14/2027-10-14/
LOCATION:Church Office\, 25 South Street\, Litchfield\, CT\, 06759\, United States
CATEGORIES:Church Office Event
END:VEVENT
BEGIN:VEVENT
DTSTART;TZID=America/New_York:20271015T070000
DTEND;TZID=America/New_York:20271015T073000
DTSTAMP:20260422T175702
CREATED:20230606T184551Z
LAST-MODIFIED:20230619T142647Z
UID:10006351-1823583600-1823585400@stmichaels-litchfield.org
SUMMARY:AA Meeting in the Parish House Library
DESCRIPTION:
URL:https://stmichaels-litchfield.org/event/aa-meeting-in-the-library/2027-10-15/
LOCATION:Parish House Library\, 25 South Street\, Litchfield\, CT\, 06759\, United States
CATEGORIES:AA/NA Events
END:VEVENT
BEGIN:VEVENT
DTSTART;TZID=America/New_York:20271015T093000
DTEND;TZID=America/New_York:20271015T143000
DTSTAMP:20260422T175702
CREATED:20260128T181432Z
LAST-MODIFIED:20260128T181726Z
UID:10291782-1823592600-1823610600@stmichaels-litchfield.org
SUMMARY:Church Office Open
DESCRIPTION:
URL:https://stmichaels-litchfield.org/event/church-office-open-14/2027-10-15/
LOCATION:Church Office\, 25 South Street\, Litchfield\, CT\, 06759\, United States
CATEGORIES:Church Office Event
END:VEVENT
BEGIN:VEVENT
DTSTART;TZID=America/New_York:20271016T083000
DTEND;TZID=America/New_York:20271016T093000
DTSTAMP:20260422T175702
CREATED:20230619T143626Z
LAST-MODIFIED:20230619T143720Z
UID:10010789-1823675400-1823679000@stmichaels-litchfield.org
SUMMARY:AA Meeting in Parish House Library
DESCRIPTION:
URL:https://stmichaels-litchfield.org/event/aa-meeting-in-community-house-2/2027-10-16/
LOCATION:Community House in Library from April 9th forward
CATEGORIES:AA/NA Events
END:VEVENT
BEGIN:VEVENT
DTSTART;TZID=America/New_York:20271017T080000
DTEND;TZID=America/New_York:20271017T090000
DTSTAMP:20260422T175702
CREATED:20211108T181651Z
LAST-MODIFIED:20260327T134504Z
UID:10020480-1823760000-1823763600@stmichaels-litchfield.org
SUMMARY:Eucharist\, Rite I
DESCRIPTION:Spoken\, no music
URL:https://stmichaels-litchfield.org/event/sunday-eucharist/2027-10-17/
LOCATION:Chapel\, 25 South Street\, Litchfield\, CT\, 06759\, United States
CATEGORIES:Church Event,Parish Events
END:VEVENT
BEGIN:VEVENT
DTSTART;TZID=America/New_York:20271017T100000
DTEND;TZID=America/New_York:20271017T110000
DTSTAMP:20260422T175702
CREATED:20250403T150154Z
LAST-MODIFIED:20260422T181447Z
UID:10012795-1823767200-1823770800@stmichaels-litchfield.org
SUMMARY:Sunday Eucharist\, Rite II
DESCRIPTION:Rite II with music \nFollowed by Coffee Hour in the Community House
URL:https://stmichaels-litchfield.org/event/sunday-eucharist-2-3/2027-10-17/
LOCATION:Church\, 25 South Street\, Litchfield\, CT\, 06759\, United States
CATEGORIES:Church Event,Parish Events
END:VEVENT
BEGIN:VEVENT
DTSTART;TZID=America/New_York:20271017T110000
DTEND;TZID=America/New_York:20271017T140000
DTSTAMP:20260422T175702
CREATED:20230711T182541Z
LAST-MODIFIED:20250806T192214Z
UID:10012134-1823770800-1823781600@stmichaels-litchfield.org
SUMMARY:Coffee and Fellowship in the Community House
DESCRIPTION:
URL:https://stmichaels-litchfield.org/event/coffee-and-congregation-in-the-community-house/2027-10-17/
LOCATION:Community House in Library from April 9th forward
CATEGORIES:Church Event
END:VEVENT
BEGIN:VEVENT
DTSTART;TZID=America/New_York:20271017T190000
DTEND;TZID=America/New_York:20271017T200000
DTSTAMP:20260422T175702
CREATED:20230619T142544Z
LAST-MODIFIED:20260416T160049Z
UID:10009979-1823799600-1823803200@stmichaels-litchfield.org
SUMMARY:AA Meeting in Community House
DESCRIPTION:
URL:https://stmichaels-litchfield.org/event/aa-meeting-in-community-house/2027-10-17/
LOCATION:Community House in Library from April 9th forward
END:VEVENT
BEGIN:VEVENT
DTSTART;VALUE=DATE:20271018
DTEND;VALUE=DATE:20271019
DTSTAMP:20260422T175702
CREATED:20260128T181321Z
LAST-MODIFIED:20260128T181322Z
UID:10291230-1823817600-1823903999@stmichaels-litchfield.org
SUMMARY:Church Office Closed
DESCRIPTION:
URL:https://stmichaels-litchfield.org/event/summer-schedule-church-office-closed-2-2-2-3/2027-10-18/
LOCATION:Church Office\, 25 South Street\, Litchfield\, CT\, 06759\, United States
CATEGORIES:Church Office Event
END:VEVENT
BEGIN:VEVENT
DTSTART;TZID=America/New_York:20271018T070000
DTEND;TZID=America/New_York:20271018T073000
DTSTAMP:20260422T175702
CREATED:20230606T184551Z
LAST-MODIFIED:20230619T142647Z
UID:10006352-1823842800-1823844600@stmichaels-litchfield.org
SUMMARY:AA Meeting in the Parish House Library
DESCRIPTION:
URL:https://stmichaels-litchfield.org/event/aa-meeting-in-the-library/2027-10-18/
LOCATION:Parish House Library\, 25 South Street\, Litchfield\, CT\, 06759\, United States
CATEGORIES:AA/NA Events
END:VEVENT
END:VCALENDAR