BEGIN:VCALENDAR
VERSION:2.0
PRODID:-//St. Michael&#039;s Church - ECPv6.15.20//NONSGML v1.0//EN
CALSCALE:GREGORIAN
METHOD:PUBLISH
X-ORIGINAL-URL:https://stmichaels-litchfield.org
X-WR-CALDESC:Events for St. Michael&#039;s Church
REFRESH-INTERVAL;VALUE=DURATION:PT1H
X-Robots-Tag:noindex
X-PUBLISHED-TTL:PT1H
BEGIN:VTIMEZONE
TZID:America/New_York
BEGIN:DAYLIGHT
TZOFFSETFROM:-0500
TZOFFSETTO:-0400
TZNAME:EDT
DTSTART:20270314T070000
END:DAYLIGHT
BEGIN:STANDARD
TZOFFSETFROM:-0400
TZOFFSETTO:-0500
TZNAME:EST
DTSTART:20271107T060000
END:STANDARD
BEGIN:DAYLIGHT
TZOFFSETFROM:-0500
TZOFFSETTO:-0400
TZNAME:EDT
DTSTART:20280312T070000
END:DAYLIGHT
BEGIN:STANDARD
TZOFFSETFROM:-0400
TZOFFSETTO:-0500
TZNAME:EST
DTSTART:20281105T060000
END:STANDARD
BEGIN:DAYLIGHT
TZOFFSETFROM:-0500
TZOFFSETTO:-0400
TZNAME:EDT
DTSTART:20290311T070000
END:DAYLIGHT
BEGIN:STANDARD
TZOFFSETFROM:-0400
TZOFFSETTO:-0500
TZNAME:EST
DTSTART:20291104T060000
END:STANDARD
END:VTIMEZONE
BEGIN:VEVENT
DTSTART;TZID=America/New_York:20280315T070000
DTEND;TZID=America/New_York:20280315T073000
DTSTAMP:20260423T042233
CREATED:20230606T184551Z
LAST-MODIFIED:20230619T142647Z
UID:10006416-1836716400-1836718200@stmichaels-litchfield.org
SUMMARY:AA Meeting in the Parish House Library
DESCRIPTION:
URL:https://stmichaels-litchfield.org/event/aa-meeting-in-the-library/2028-03-15/
LOCATION:Parish House Library\, 25 South Street\, Litchfield\, CT\, 06759\, United States
CATEGORIES:AA/NA Events
END:VEVENT
BEGIN:VEVENT
DTSTART;TZID=America/New_York:20280315T083000
DTEND;TZID=America/New_York:20280315T110000
DTSTAMP:20260423T042233
CREATED:20250109T152013Z
LAST-MODIFIED:20250109T152013Z
UID:10019542-1836721800-1836730800@stmichaels-litchfield.org
SUMMARY:Greenwoods Counseling
DESCRIPTION:
URL:https://stmichaels-litchfield.org/event/greenwoods-counseling-7/2028-03-15/
LOCATION:CT
CATEGORIES:Greenwoods Counseling
END:VEVENT
BEGIN:VEVENT
DTSTART;TZID=America/New_York:20280315T093000
DTEND;TZID=America/New_York:20280315T143000
DTSTAMP:20260423T042233
CREATED:20260128T181432Z
LAST-MODIFIED:20260128T181726Z
UID:10291868-1836725400-1836743400@stmichaels-litchfield.org
SUMMARY:Church Office Open
DESCRIPTION:
URL:https://stmichaels-litchfield.org/event/church-office-open-14/2028-03-15/
LOCATION:Church Office\, 25 South Street\, Litchfield\, CT\, 06759\, United States
CATEGORIES:Church Office Event
END:VEVENT
BEGIN:VEVENT
DTSTART;TZID=America/New_York:20280315T173000
DTEND;TZID=America/New_York:20280315T180000
DTSTAMP:20260423T042233
CREATED:20260327T155546Z
LAST-MODIFIED:20260422T175057Z
UID:10294539-1836754200-1836756000@stmichaels-litchfield.org
SUMMARY:Chanted Evening Prayer
DESCRIPTION:
URL:https://stmichaels-litchfield.org/event/chanted-evening-prayer-3/2028-03-15/
LOCATION:Chapel\, 25 South Street\, Litchfield\, CT\, 06759\, United States
CATEGORIES:Church Event
END:VEVENT
BEGIN:VEVENT
DTSTART;TZID=America/New_York:20280315T190000
DTEND;TZID=America/New_York:20280315T203000
DTSTAMP:20260423T042233
CREATED:20230817T183342Z
LAST-MODIFIED:20230817T183342Z
UID:10013234-1836759600-1836765000@stmichaels-litchfield.org
SUMMARY:Choir Rehearsal in Parish House Music Room
DESCRIPTION:
URL:https://stmichaels-litchfield.org/event/choir-rehearsal-in-parish-house-music-room/2028-03-15/
LOCATION:Parish House Music Room
CATEGORIES:Church Event
END:VEVENT
BEGIN:VEVENT
DTSTART;TZID=America/New_York:20280315T193000
DTEND;TZID=America/New_York:20280315T210000
DTSTAMP:20260423T042233
CREATED:20211108T180816Z
LAST-MODIFIED:20230714T003135Z
UID:10012558-1836761400-1836766800@stmichaels-litchfield.org
SUMMARY:NA meeting in Community House
DESCRIPTION:
URL:https://stmichaels-litchfield.org/event/narcotics-anonymous/2028-03-15/
LOCATION:Community House in Library from April 9th forward
CATEGORIES:AA/NA Events
END:VEVENT
BEGIN:VEVENT
DTSTART;TZID=America/New_York:20280316T093000
DTEND;TZID=America/New_York:20280316T143000
DTSTAMP:20260423T042234
CREATED:20260128T181432Z
LAST-MODIFIED:20260128T181726Z
UID:10291869-1836811800-1836829800@stmichaels-litchfield.org
SUMMARY:Church Office Open
DESCRIPTION:
URL:https://stmichaels-litchfield.org/event/church-office-open-14/2028-03-16/
LOCATION:Church Office\, 25 South Street\, Litchfield\, CT\, 06759\, United States
CATEGORIES:Church Office Event
END:VEVENT
BEGIN:VEVENT
DTSTART;TZID=America/New_York:20280317T070000
DTEND;TZID=America/New_York:20280317T073000
DTSTAMP:20260423T042234
CREATED:20230606T184551Z
LAST-MODIFIED:20230619T142647Z
UID:10006417-1836889200-1836891000@stmichaels-litchfield.org
SUMMARY:AA Meeting in the Parish House Library
DESCRIPTION:
URL:https://stmichaels-litchfield.org/event/aa-meeting-in-the-library/2028-03-17/
LOCATION:Parish House Library\, 25 South Street\, Litchfield\, CT\, 06759\, United States
CATEGORIES:AA/NA Events
END:VEVENT
BEGIN:VEVENT
DTSTART;TZID=America/New_York:20280317T093000
DTEND;TZID=America/New_York:20280317T143000
DTSTAMP:20260423T042234
CREATED:20260128T181432Z
LAST-MODIFIED:20260128T181726Z
UID:10291870-1836898200-1836916200@stmichaels-litchfield.org
SUMMARY:Church Office Open
DESCRIPTION:
URL:https://stmichaels-litchfield.org/event/church-office-open-14/2028-03-17/
LOCATION:Church Office\, 25 South Street\, Litchfield\, CT\, 06759\, United States
CATEGORIES:Church Office Event
END:VEVENT
BEGIN:VEVENT
DTSTART;TZID=America/New_York:20280318T083000
DTEND;TZID=America/New_York:20280318T093000
DTSTAMP:20260423T042234
CREATED:20230619T143626Z
LAST-MODIFIED:20230619T143720Z
UID:10010811-1836981000-1836984600@stmichaels-litchfield.org
SUMMARY:AA Meeting in Parish House Library
DESCRIPTION:
URL:https://stmichaels-litchfield.org/event/aa-meeting-in-community-house-2/2028-03-18/
LOCATION:Community House in Library from April 9th forward
CATEGORIES:AA/NA Events
END:VEVENT
BEGIN:VEVENT
DTSTART;TZID=America/New_York:20280319T080000
DTEND;TZID=America/New_York:20280319T090000
DTSTAMP:20260423T042234
CREATED:20211108T181651Z
LAST-MODIFIED:20260327T134504Z
UID:10020502-1837065600-1837069200@stmichaels-litchfield.org
SUMMARY:Eucharist\, Rite I
DESCRIPTION:Spoken\, no music
URL:https://stmichaels-litchfield.org/event/sunday-eucharist/2028-03-19/
LOCATION:Chapel\, 25 South Street\, Litchfield\, CT\, 06759\, United States
CATEGORIES:Church Event,Parish Events
END:VEVENT
BEGIN:VEVENT
DTSTART;TZID=America/New_York:20280319T100000
DTEND;TZID=America/New_York:20280319T110000
DTSTAMP:20260423T042234
CREATED:20250403T150154Z
LAST-MODIFIED:20260422T181447Z
UID:10012817-1837072800-1837076400@stmichaels-litchfield.org
SUMMARY:Sunday Eucharist\, Rite II
DESCRIPTION:Rite II with music \nFollowed by Coffee Hour in the Community House
URL:https://stmichaels-litchfield.org/event/sunday-eucharist-2-3/2028-03-19/
LOCATION:Church\, 25 South Street\, Litchfield\, CT\, 06759\, United States
CATEGORIES:Church Event,Parish Events
END:VEVENT
BEGIN:VEVENT
DTSTART;TZID=America/New_York:20280319T110000
DTEND;TZID=America/New_York:20280319T140000
DTSTAMP:20260423T042234
CREATED:20230711T182541Z
LAST-MODIFIED:20250806T192214Z
UID:10012156-1837076400-1837087200@stmichaels-litchfield.org
SUMMARY:Coffee and Fellowship in the Community House
DESCRIPTION:
URL:https://stmichaels-litchfield.org/event/coffee-and-congregation-in-the-community-house/2028-03-19/
LOCATION:Community House in Library from April 9th forward
CATEGORIES:Church Event
END:VEVENT
BEGIN:VEVENT
DTSTART;TZID=America/New_York:20280319T190000
DTEND;TZID=America/New_York:20280319T200000
DTSTAMP:20260423T042234
CREATED:20230619T142544Z
LAST-MODIFIED:20260416T160049Z
UID:10010001-1837105200-1837108800@stmichaels-litchfield.org
SUMMARY:AA Meeting in Community House
DESCRIPTION:
URL:https://stmichaels-litchfield.org/event/aa-meeting-in-community-house/2028-03-19/
LOCATION:Community House in Library from April 9th forward
END:VEVENT
BEGIN:VEVENT
DTSTART;VALUE=DATE:20280320
DTEND;VALUE=DATE:20280321
DTSTAMP:20260423T042234
CREATED:20260128T181321Z
LAST-MODIFIED:20260128T181322Z
UID:10291252-1837123200-1837209599@stmichaels-litchfield.org
SUMMARY:Church Office Closed
DESCRIPTION:
URL:https://stmichaels-litchfield.org/event/summer-schedule-church-office-closed-2-2-2-3/2028-03-20/
LOCATION:Church Office\, 25 South Street\, Litchfield\, CT\, 06759\, United States
CATEGORIES:Church Office Event
END:VEVENT
BEGIN:VEVENT
DTSTART;TZID=America/New_York:20280320T070000
DTEND;TZID=America/New_York:20280320T073000
DTSTAMP:20260423T042234
CREATED:20230606T184551Z
LAST-MODIFIED:20230619T142647Z
UID:10006418-1837148400-1837150200@stmichaels-litchfield.org
SUMMARY:AA Meeting in the Parish House Library
DESCRIPTION:
URL:https://stmichaels-litchfield.org/event/aa-meeting-in-the-library/2028-03-20/
LOCATION:Parish House Library\, 25 South Street\, Litchfield\, CT\, 06759\, United States
CATEGORIES:AA/NA Events
END:VEVENT
BEGIN:VEVENT
DTSTART;TZID=America/New_York:20280320T200000
DTEND;TZID=America/New_York:20280320T213000
DTSTAMP:20260423T042234
CREATED:20260218T173517Z
LAST-MODIFIED:20260218T173517Z
UID:10292675-1837195200-1837200600@stmichaels-litchfield.org
SUMMARY:AA meeting in the Community House
DESCRIPTION:
URL:https://stmichaels-litchfield.org/event/aa-meeting-in-the-community-house-2/2028-03-20/
LOCATION:CT
END:VEVENT
BEGIN:VEVENT
DTSTART;TZID=America/New_York:20280321T093000
DTEND;TZID=America/New_York:20280321T143000
DTSTAMP:20260423T042234
CREATED:20260128T181432Z
LAST-MODIFIED:20260128T181726Z
UID:10291871-1837243800-1837261800@stmichaels-litchfield.org
SUMMARY:Church Office Open
DESCRIPTION:
URL:https://stmichaels-litchfield.org/event/church-office-open-14/2028-03-21/
LOCATION:Church Office\, 25 South Street\, Litchfield\, CT\, 06759\, United States
CATEGORIES:Church Office Event
END:VEVENT
BEGIN:VEVENT
DTSTART;TZID=America/New_York:20280321T160000
DTEND;TZID=America/New_York:20280321T173000
DTSTAMP:20260423T042234
CREATED:20260331T205128Z
LAST-MODIFIED:20260331T205254Z
UID:10294799-1837267200-1837272600@stmichaels-litchfield.org
SUMMARY:Priest Search Committee
DESCRIPTION:
URL:https://stmichaels-litchfield.org/event/priest-search-committee-3-2-5/2028-03-21/
LOCATION:Parish House Library\, 25 South Street\, Litchfield\, CT\, 06759\, United States
END:VEVENT
BEGIN:VEVENT
DTSTART;TZID=America/New_York:20280321T190000
DTEND;TZID=America/New_York:20280321T200000
DTSTAMP:20260423T042234
CREATED:20211108T175914Z
LAST-MODIFIED:20260130T014621Z
UID:10010205-1837278000-1837281600@stmichaels-litchfield.org
SUMMARY:AA Meeting in Community House
DESCRIPTION:
URL:https://stmichaels-litchfield.org/event/aa-group-in-community-house-2/2028-03-21/
LOCATION:Community House in Library from April 9th forward
CATEGORIES:AA/NA Events
END:VEVENT
BEGIN:VEVENT
DTSTART;TZID=America/New_York:20280322T070000
DTEND;TZID=America/New_York:20280322T073000
DTSTAMP:20260423T042234
CREATED:20230606T184551Z
LAST-MODIFIED:20230619T142647Z
UID:10006419-1837321200-1837323000@stmichaels-litchfield.org
SUMMARY:AA Meeting in the Parish House Library
DESCRIPTION:
URL:https://stmichaels-litchfield.org/event/aa-meeting-in-the-library/2028-03-22/
LOCATION:Parish House Library\, 25 South Street\, Litchfield\, CT\, 06759\, United States
CATEGORIES:AA/NA Events
END:VEVENT
BEGIN:VEVENT
DTSTART;TZID=America/New_York:20280322T083000
DTEND;TZID=America/New_York:20280322T110000
DTSTAMP:20260423T042234
CREATED:20250109T152013Z
LAST-MODIFIED:20250109T152013Z
UID:10019543-1837326600-1837335600@stmichaels-litchfield.org
SUMMARY:Greenwoods Counseling
DESCRIPTION:
URL:https://stmichaels-litchfield.org/event/greenwoods-counseling-7/2028-03-22/
LOCATION:CT
CATEGORIES:Greenwoods Counseling
END:VEVENT
BEGIN:VEVENT
DTSTART;TZID=America/New_York:20280322T093000
DTEND;TZID=America/New_York:20280322T143000
DTSTAMP:20260423T042234
CREATED:20260128T181432Z
LAST-MODIFIED:20260128T181726Z
UID:10291872-1837330200-1837348200@stmichaels-litchfield.org
SUMMARY:Church Office Open
DESCRIPTION:
URL:https://stmichaels-litchfield.org/event/church-office-open-14/2028-03-22/
LOCATION:Church Office\, 25 South Street\, Litchfield\, CT\, 06759\, United States
CATEGORIES:Church Office Event
END:VEVENT
BEGIN:VEVENT
DTSTART;TZID=America/New_York:20280322T173000
DTEND;TZID=America/New_York:20280322T180000
DTSTAMP:20260423T042234
CREATED:20260327T155546Z
LAST-MODIFIED:20260422T175057Z
UID:10294540-1837359000-1837360800@stmichaels-litchfield.org
SUMMARY:Chanted Evening Prayer
DESCRIPTION:
URL:https://stmichaels-litchfield.org/event/chanted-evening-prayer-3/2028-03-22/
LOCATION:Chapel\, 25 South Street\, Litchfield\, CT\, 06759\, United States
CATEGORIES:Church Event
END:VEVENT
BEGIN:VEVENT
DTSTART;TZID=America/New_York:20280322T190000
DTEND;TZID=America/New_York:20280322T203000
DTSTAMP:20260423T042234
CREATED:20230817T183342Z
LAST-MODIFIED:20230817T183342Z
UID:10013235-1837364400-1837369800@stmichaels-litchfield.org
SUMMARY:Choir Rehearsal in Parish House Music Room
DESCRIPTION:
URL:https://stmichaels-litchfield.org/event/choir-rehearsal-in-parish-house-music-room/2028-03-22/
LOCATION:Parish House Music Room
CATEGORIES:Church Event
END:VEVENT
BEGIN:VEVENT
DTSTART;TZID=America/New_York:20280322T193000
DTEND;TZID=America/New_York:20280322T210000
DTSTAMP:20260423T042234
CREATED:20211108T180816Z
LAST-MODIFIED:20230714T003135Z
UID:10012559-1837366200-1837371600@stmichaels-litchfield.org
SUMMARY:NA meeting in Community House
DESCRIPTION:
URL:https://stmichaels-litchfield.org/event/narcotics-anonymous/2028-03-22/
LOCATION:Community House in Library from April 9th forward
CATEGORIES:AA/NA Events
END:VEVENT
BEGIN:VEVENT
DTSTART;TZID=America/New_York:20280323T093000
DTEND;TZID=America/New_York:20280323T143000
DTSTAMP:20260423T042234
CREATED:20260128T181432Z
LAST-MODIFIED:20260128T181726Z
UID:10291873-1837416600-1837434600@stmichaels-litchfield.org
SUMMARY:Church Office Open
DESCRIPTION:
URL:https://stmichaels-litchfield.org/event/church-office-open-14/2028-03-23/
LOCATION:Church Office\, 25 South Street\, Litchfield\, CT\, 06759\, United States
CATEGORIES:Church Office Event
END:VEVENT
BEGIN:VEVENT
DTSTART;TZID=America/New_York:20280324T070000
DTEND;TZID=America/New_York:20280324T073000
DTSTAMP:20260423T042234
CREATED:20230606T184551Z
LAST-MODIFIED:20230619T142647Z
UID:10006420-1837494000-1837495800@stmichaels-litchfield.org
SUMMARY:AA Meeting in the Parish House Library
DESCRIPTION:
URL:https://stmichaels-litchfield.org/event/aa-meeting-in-the-library/2028-03-24/
LOCATION:Parish House Library\, 25 South Street\, Litchfield\, CT\, 06759\, United States
CATEGORIES:AA/NA Events
END:VEVENT
BEGIN:VEVENT
DTSTART;TZID=America/New_York:20280324T093000
DTEND;TZID=America/New_York:20280324T143000
DTSTAMP:20260423T042234
CREATED:20260128T181432Z
LAST-MODIFIED:20260128T181726Z
UID:10291874-1837503000-1837521000@stmichaels-litchfield.org
SUMMARY:Church Office Open
DESCRIPTION:
URL:https://stmichaels-litchfield.org/event/church-office-open-14/2028-03-24/
LOCATION:Church Office\, 25 South Street\, Litchfield\, CT\, 06759\, United States
CATEGORIES:Church Office Event
END:VEVENT
BEGIN:VEVENT
DTSTART;TZID=America/New_York:20280325T083000
DTEND;TZID=America/New_York:20280325T093000
DTSTAMP:20260423T042234
CREATED:20230619T143626Z
LAST-MODIFIED:20230619T143720Z
UID:10010812-1837585800-1837589400@stmichaels-litchfield.org
SUMMARY:AA Meeting in Parish House Library
DESCRIPTION:
URL:https://stmichaels-litchfield.org/event/aa-meeting-in-community-house-2/2028-03-25/
LOCATION:Community House in Library from April 9th forward
CATEGORIES:AA/NA Events
END:VEVENT
END:VCALENDAR