BEGIN:VCALENDAR
VERSION:2.0
PRODID:-//St. Michael&#039;s Church - ECPv6.15.20//NONSGML v1.0//EN
CALSCALE:GREGORIAN
METHOD:PUBLISH
X-ORIGINAL-URL:https://stmichaels-litchfield.org
X-WR-CALDESC:Events for St. Michael&#039;s Church
REFRESH-INTERVAL;VALUE=DURATION:PT1H
X-Robots-Tag:noindex
X-PUBLISHED-TTL:PT1H
BEGIN:VTIMEZONE
TZID:America/New_York
BEGIN:DAYLIGHT
TZOFFSETFROM:-0500
TZOFFSETTO:-0400
TZNAME:EDT
DTSTART:20270314T070000
END:DAYLIGHT
BEGIN:STANDARD
TZOFFSETFROM:-0400
TZOFFSETTO:-0500
TZNAME:EST
DTSTART:20271107T060000
END:STANDARD
BEGIN:DAYLIGHT
TZOFFSETFROM:-0500
TZOFFSETTO:-0400
TZNAME:EDT
DTSTART:20280312T070000
END:DAYLIGHT
BEGIN:STANDARD
TZOFFSETFROM:-0400
TZOFFSETTO:-0500
TZNAME:EST
DTSTART:20281105T060000
END:STANDARD
BEGIN:DAYLIGHT
TZOFFSETFROM:-0500
TZOFFSETTO:-0400
TZNAME:EDT
DTSTART:20290311T070000
END:DAYLIGHT
BEGIN:STANDARD
TZOFFSETFROM:-0400
TZOFFSETTO:-0500
TZNAME:EST
DTSTART:20291104T060000
END:STANDARD
END:VTIMEZONE
BEGIN:VEVENT
DTSTART;TZID=America/New_York:20280404T093000
DTEND;TZID=America/New_York:20280404T143000
DTSTAMP:20260423T041601
CREATED:20260128T181432Z
LAST-MODIFIED:20260128T181726Z
UID:10291879-1838453400-1838471400@stmichaels-litchfield.org
SUMMARY:Church Office Open
DESCRIPTION:
URL:https://stmichaels-litchfield.org/event/church-office-open-14/2028-04-04/
LOCATION:Church Office\, 25 South Street\, Litchfield\, CT\, 06759\, United States
CATEGORIES:Church Office Event
END:VEVENT
BEGIN:VEVENT
DTSTART;TZID=America/New_York:20280404T160000
DTEND;TZID=America/New_York:20280404T173000
DTSTAMP:20260423T041601
CREATED:20260331T205128Z
LAST-MODIFIED:20260331T205254Z
UID:10294801-1838476800-1838482200@stmichaels-litchfield.org
SUMMARY:Priest Search Committee
DESCRIPTION:
URL:https://stmichaels-litchfield.org/event/priest-search-committee-3-2-5/2028-04-04/
LOCATION:Parish House Library\, 25 South Street\, Litchfield\, CT\, 06759\, United States
END:VEVENT
BEGIN:VEVENT
DTSTART;TZID=America/New_York:20280404T171500
DTEND;TZID=America/New_York:20280404T183000
DTSTAMP:20260423T041601
CREATED:20231227T151453Z
LAST-MODIFIED:20260317T155826Z
UID:10293661-1838481300-1838485800@stmichaels-litchfield.org
SUMMARY:Property Committee Meeting in Parish House Library
DESCRIPTION:
URL:https://stmichaels-litchfield.org/event/property-committee-meeting-in-parish-house-library-3/2028-04-04/
LOCATION:Parish House Library\, 25 South Street\, Litchfield\, CT\, 06759\, United States
CATEGORIES:Church Event
END:VEVENT
BEGIN:VEVENT
DTSTART;TZID=America/New_York:20280404T190000
DTEND;TZID=America/New_York:20280404T200000
DTSTAMP:20260423T041601
CREATED:20211108T175914Z
LAST-MODIFIED:20260130T014621Z
UID:10010207-1838487600-1838491200@stmichaels-litchfield.org
SUMMARY:AA Meeting in Community House
DESCRIPTION:
URL:https://stmichaels-litchfield.org/event/aa-group-in-community-house-2/2028-04-04/
LOCATION:Community House in Library from April 9th forward
CATEGORIES:AA/NA Events
END:VEVENT
BEGIN:VEVENT
DTSTART;TZID=America/New_York:20280405T070000
DTEND;TZID=America/New_York:20280405T073000
DTSTAMP:20260423T041601
CREATED:20230606T184551Z
LAST-MODIFIED:20230619T142647Z
UID:10006425-1838530800-1838532600@stmichaels-litchfield.org
SUMMARY:AA Meeting in the Parish House Library
DESCRIPTION:
URL:https://stmichaels-litchfield.org/event/aa-meeting-in-the-library/2028-04-05/
LOCATION:Parish House Library\, 25 South Street\, Litchfield\, CT\, 06759\, United States
CATEGORIES:AA/NA Events
END:VEVENT
BEGIN:VEVENT
DTSTART;TZID=America/New_York:20280405T083000
DTEND;TZID=America/New_York:20280405T110000
DTSTAMP:20260423T041601
CREATED:20250109T152013Z
LAST-MODIFIED:20250109T152013Z
UID:10019545-1838536200-1838545200@stmichaels-litchfield.org
SUMMARY:Greenwoods Counseling
DESCRIPTION:
URL:https://stmichaels-litchfield.org/event/greenwoods-counseling-7/2028-04-05/
LOCATION:CT
CATEGORIES:Greenwoods Counseling
END:VEVENT
BEGIN:VEVENT
DTSTART;TZID=America/New_York:20280405T093000
DTEND;TZID=America/New_York:20280405T143000
DTSTAMP:20260423T041601
CREATED:20260128T181432Z
LAST-MODIFIED:20260128T181726Z
UID:10291880-1838539800-1838557800@stmichaels-litchfield.org
SUMMARY:Church Office Open
DESCRIPTION:
URL:https://stmichaels-litchfield.org/event/church-office-open-14/2028-04-05/
LOCATION:Church Office\, 25 South Street\, Litchfield\, CT\, 06759\, United States
CATEGORIES:Church Office Event
END:VEVENT
BEGIN:VEVENT
DTSTART;TZID=America/New_York:20280405T173000
DTEND;TZID=America/New_York:20280405T180000
DTSTAMP:20260423T041601
CREATED:20260327T155546Z
LAST-MODIFIED:20260422T175057Z
UID:10294542-1838568600-1838570400@stmichaels-litchfield.org
SUMMARY:Chanted Evening Prayer
DESCRIPTION:
URL:https://stmichaels-litchfield.org/event/chanted-evening-prayer-3/2028-04-05/
LOCATION:Chapel\, 25 South Street\, Litchfield\, CT\, 06759\, United States
CATEGORIES:Church Event
END:VEVENT
BEGIN:VEVENT
DTSTART;TZID=America/New_York:20280405T190000
DTEND;TZID=America/New_York:20280405T203000
DTSTAMP:20260423T041601
CREATED:20230817T183342Z
LAST-MODIFIED:20230817T183342Z
UID:10013237-1838574000-1838579400@stmichaels-litchfield.org
SUMMARY:Choir Rehearsal in Parish House Music Room
DESCRIPTION:
URL:https://stmichaels-litchfield.org/event/choir-rehearsal-in-parish-house-music-room/2028-04-05/
LOCATION:Parish House Music Room
CATEGORIES:Church Event
END:VEVENT
BEGIN:VEVENT
DTSTART;TZID=America/New_York:20280405T193000
DTEND;TZID=America/New_York:20280405T210000
DTSTAMP:20260423T041601
CREATED:20211108T180816Z
LAST-MODIFIED:20230714T003135Z
UID:10012561-1838575800-1838581200@stmichaels-litchfield.org
SUMMARY:NA meeting in Community House
DESCRIPTION:
URL:https://stmichaels-litchfield.org/event/narcotics-anonymous/2028-04-05/
LOCATION:Community House in Library from April 9th forward
CATEGORIES:AA/NA Events
END:VEVENT
BEGIN:VEVENT
DTSTART;TZID=America/New_York:20280406T093000
DTEND;TZID=America/New_York:20280406T143000
DTSTAMP:20260423T041601
CREATED:20260128T181432Z
LAST-MODIFIED:20260128T181726Z
UID:10291881-1838626200-1838644200@stmichaels-litchfield.org
SUMMARY:Church Office Open
DESCRIPTION:
URL:https://stmichaels-litchfield.org/event/church-office-open-14/2028-04-06/
LOCATION:Church Office\, 25 South Street\, Litchfield\, CT\, 06759\, United States
CATEGORIES:Church Office Event
END:VEVENT
BEGIN:VEVENT
DTSTART;TZID=America/New_York:20280406T190000
DTEND;TZID=America/New_York:20280406T220000
DTSTAMP:20260423T041601
CREATED:20230810T152445Z
LAST-MODIFIED:20230823T141209Z
UID:10012942-1838660400-1838671200@stmichaels-litchfield.org
SUMMARY:SOTG Board meeting in the Parish House Library
DESCRIPTION:
URL:https://stmichaels-litchfield.org/event/sotg-board-meeting-2/2028-04-06/
LOCATION:Parish House Library\, 25 South Street\, Litchfield\, CT\, 06759\, United States
CATEGORIES:School on the Green Event
END:VEVENT
BEGIN:VEVENT
DTSTART;TZID=America/New_York:20280407T070000
DTEND;TZID=America/New_York:20280407T073000
DTSTAMP:20260423T041601
CREATED:20230606T184551Z
LAST-MODIFIED:20230619T142647Z
UID:10006426-1838703600-1838705400@stmichaels-litchfield.org
SUMMARY:AA Meeting in the Parish House Library
DESCRIPTION:
URL:https://stmichaels-litchfield.org/event/aa-meeting-in-the-library/2028-04-07/
LOCATION:Parish House Library\, 25 South Street\, Litchfield\, CT\, 06759\, United States
CATEGORIES:AA/NA Events
END:VEVENT
BEGIN:VEVENT
DTSTART;TZID=America/New_York:20280407T093000
DTEND;TZID=America/New_York:20280407T143000
DTSTAMP:20260423T041601
CREATED:20260128T181432Z
LAST-MODIFIED:20260128T181726Z
UID:10291882-1838712600-1838730600@stmichaels-litchfield.org
SUMMARY:Church Office Open
DESCRIPTION:
URL:https://stmichaels-litchfield.org/event/church-office-open-14/2028-04-07/
LOCATION:Church Office\, 25 South Street\, Litchfield\, CT\, 06759\, United States
CATEGORIES:Church Office Event
END:VEVENT
BEGIN:VEVENT
DTSTART;TZID=America/New_York:20280408T083000
DTEND;TZID=America/New_York:20280408T093000
DTSTAMP:20260423T041601
CREATED:20230619T143626Z
LAST-MODIFIED:20230619T143720Z
UID:10010814-1838795400-1838799000@stmichaels-litchfield.org
SUMMARY:AA Meeting in Parish House Library
DESCRIPTION:
URL:https://stmichaels-litchfield.org/event/aa-meeting-in-community-house-2/2028-04-08/
LOCATION:Community House in Library from April 9th forward
CATEGORIES:AA/NA Events
END:VEVENT
BEGIN:VEVENT
DTSTART;TZID=America/New_York:20280409T080000
DTEND;TZID=America/New_York:20280409T090000
DTSTAMP:20260423T041601
CREATED:20211108T181651Z
LAST-MODIFIED:20260327T134504Z
UID:10020505-1838880000-1838883600@stmichaels-litchfield.org
SUMMARY:Eucharist\, Rite I
DESCRIPTION:Spoken\, no music
URL:https://stmichaels-litchfield.org/event/sunday-eucharist/2028-04-09/
LOCATION:Chapel\, 25 South Street\, Litchfield\, CT\, 06759\, United States
CATEGORIES:Church Event,Parish Events
END:VEVENT
BEGIN:VEVENT
DTSTART;TZID=America/New_York:20280409T100000
DTEND;TZID=America/New_York:20280409T110000
DTSTAMP:20260423T041601
CREATED:20250403T150154Z
LAST-MODIFIED:20260422T181447Z
UID:10012820-1838887200-1838890800@stmichaels-litchfield.org
SUMMARY:Sunday Eucharist\, Rite II
DESCRIPTION:Rite II with music \nFollowed by Coffee Hour in the Community House
URL:https://stmichaels-litchfield.org/event/sunday-eucharist-2-3/2028-04-09/
LOCATION:Church\, 25 South Street\, Litchfield\, CT\, 06759\, United States
CATEGORIES:Church Event,Parish Events
END:VEVENT
BEGIN:VEVENT
DTSTART;TZID=America/New_York:20280409T110000
DTEND;TZID=America/New_York:20280409T140000
DTSTAMP:20260423T041601
CREATED:20230711T182541Z
LAST-MODIFIED:20250806T192214Z
UID:10012159-1838890800-1838901600@stmichaels-litchfield.org
SUMMARY:Coffee and Fellowship in the Community House
DESCRIPTION:
URL:https://stmichaels-litchfield.org/event/coffee-and-congregation-in-the-community-house/2028-04-09/
LOCATION:Community House in Library from April 9th forward
CATEGORIES:Church Event
END:VEVENT
BEGIN:VEVENT
DTSTART;TZID=America/New_York:20280409T112000
DTEND;TZID=America/New_York:20280409T123000
DTSTAMP:20260423T041601
CREATED:20260408T170910Z
LAST-MODIFIED:20260408T170910Z
UID:10296067-1838892000-1838896200@stmichaels-litchfield.org
SUMMARY:Vestry Meeting
DESCRIPTION:
URL:https://stmichaels-litchfield.org/event/vestry-meeting-4/2028-04-09/
LOCATION:CT
CATEGORIES:Church Event,Parish Events
END:VEVENT
BEGIN:VEVENT
DTSTART;TZID=America/New_York:20280409T190000
DTEND;TZID=America/New_York:20280409T200000
DTSTAMP:20260423T041601
CREATED:20230619T142544Z
LAST-MODIFIED:20260416T160049Z
UID:10010004-1838919600-1838923200@stmichaels-litchfield.org
SUMMARY:AA Meeting in Community House
DESCRIPTION:
URL:https://stmichaels-litchfield.org/event/aa-meeting-in-community-house/2028-04-09/
LOCATION:Community House in Library from April 9th forward
END:VEVENT
BEGIN:VEVENT
DTSTART;VALUE=DATE:20280410
DTEND;VALUE=DATE:20280411
DTSTAMP:20260423T041601
CREATED:20260128T181321Z
LAST-MODIFIED:20260128T181322Z
UID:10291255-1838937600-1839023999@stmichaels-litchfield.org
SUMMARY:Church Office Closed
DESCRIPTION:
URL:https://stmichaels-litchfield.org/event/summer-schedule-church-office-closed-2-2-2-3/2028-04-10/
LOCATION:Church Office\, 25 South Street\, Litchfield\, CT\, 06759\, United States
CATEGORIES:Church Office Event
END:VEVENT
BEGIN:VEVENT
DTSTART;TZID=America/New_York:20280410T070000
DTEND;TZID=America/New_York:20280410T073000
DTSTAMP:20260423T041601
CREATED:20230606T184551Z
LAST-MODIFIED:20230619T142647Z
UID:10006427-1838962800-1838964600@stmichaels-litchfield.org
SUMMARY:AA Meeting in the Parish House Library
DESCRIPTION:
URL:https://stmichaels-litchfield.org/event/aa-meeting-in-the-library/2028-04-10/
LOCATION:Parish House Library\, 25 South Street\, Litchfield\, CT\, 06759\, United States
CATEGORIES:AA/NA Events
END:VEVENT
BEGIN:VEVENT
DTSTART;TZID=America/New_York:20280410T200000
DTEND;TZID=America/New_York:20280410T213000
DTSTAMP:20260423T041601
CREATED:20260218T173517Z
LAST-MODIFIED:20260218T173517Z
UID:10292678-1839009600-1839015000@stmichaels-litchfield.org
SUMMARY:AA meeting in the Community House
DESCRIPTION:
URL:https://stmichaels-litchfield.org/event/aa-meeting-in-the-community-house-2/2028-04-10/
LOCATION:CT
END:VEVENT
BEGIN:VEVENT
DTSTART;TZID=America/New_York:20280411T093000
DTEND;TZID=America/New_York:20280411T143000
DTSTAMP:20260423T041601
CREATED:20260128T181432Z
LAST-MODIFIED:20260128T181726Z
UID:10291883-1839058200-1839076200@stmichaels-litchfield.org
SUMMARY:Church Office Open
DESCRIPTION:
URL:https://stmichaels-litchfield.org/event/church-office-open-14/2028-04-11/
LOCATION:Church Office\, 25 South Street\, Litchfield\, CT\, 06759\, United States
CATEGORIES:Church Office Event
END:VEVENT
BEGIN:VEVENT
DTSTART;TZID=America/New_York:20280411T120000
DTEND;TZID=America/New_York:20280411T130000
DTSTAMP:20260423T041601
CREATED:20260223T205039Z
LAST-MODIFIED:20260223T205039Z
UID:10293190-1839067200-1839070800@stmichaels-litchfield.org
SUMMARY:Lunch with Meredith
DESCRIPTION:
URL:https://stmichaels-litchfield.org/event/lunch-with-meredith-2/2028-04-11/
LOCATION:Community House in Library from April 9th forward
CATEGORIES:Church Event,Parish Events
END:VEVENT
BEGIN:VEVENT
DTSTART;TZID=America/New_York:20280411T151500
DTEND;TZID=America/New_York:20280411T163000
DTSTAMP:20260423T041601
CREATED:20260223T204456Z
LAST-MODIFIED:20260304T185946Z
UID:10293578-1839078900-1839083400@stmichaels-litchfield.org
SUMMARY:Property Committee meeting in Parish House Library
DESCRIPTION:
URL:https://stmichaels-litchfield.org/event/property-committee-meeting-in-parish-house-library-4/2028-04-11/
LOCATION:Parish House Library\, 25 South Street\, Litchfield\, CT\, 06759\, United States
CATEGORIES:Church Event
END:VEVENT
BEGIN:VEVENT
DTSTART;TZID=America/New_York:20280411T160000
DTEND;TZID=America/New_York:20280411T173000
DTSTAMP:20260423T041601
CREATED:20260331T205128Z
LAST-MODIFIED:20260331T205254Z
UID:10294802-1839081600-1839087000@stmichaels-litchfield.org
SUMMARY:Priest Search Committee
DESCRIPTION:
URL:https://stmichaels-litchfield.org/event/priest-search-committee-3-2-5/2028-04-11/
LOCATION:Parish House Library\, 25 South Street\, Litchfield\, CT\, 06759\, United States
END:VEVENT
BEGIN:VEVENT
DTSTART;TZID=America/New_York:20280411T190000
DTEND;TZID=America/New_York:20280411T200000
DTSTAMP:20260423T041601
CREATED:20211108T175914Z
LAST-MODIFIED:20260130T014621Z
UID:10010208-1839092400-1839096000@stmichaels-litchfield.org
SUMMARY:AA Meeting in Community House
DESCRIPTION:
URL:https://stmichaels-litchfield.org/event/aa-group-in-community-house-2/2028-04-11/
LOCATION:Community House in Library from April 9th forward
CATEGORIES:AA/NA Events
END:VEVENT
BEGIN:VEVENT
DTSTART;TZID=America/New_York:20280412T070000
DTEND;TZID=America/New_York:20280412T073000
DTSTAMP:20260423T041601
CREATED:20230606T184551Z
LAST-MODIFIED:20230619T142647Z
UID:10006428-1839135600-1839137400@stmichaels-litchfield.org
SUMMARY:AA Meeting in the Parish House Library
DESCRIPTION:
URL:https://stmichaels-litchfield.org/event/aa-meeting-in-the-library/2028-04-12/
LOCATION:Parish House Library\, 25 South Street\, Litchfield\, CT\, 06759\, United States
CATEGORIES:AA/NA Events
END:VEVENT
BEGIN:VEVENT
DTSTART;TZID=America/New_York:20280412T083000
DTEND;TZID=America/New_York:20280412T110000
DTSTAMP:20260423T041601
CREATED:20250109T152013Z
LAST-MODIFIED:20250109T152013Z
UID:10019546-1839141000-1839150000@stmichaels-litchfield.org
SUMMARY:Greenwoods Counseling
DESCRIPTION:
URL:https://stmichaels-litchfield.org/event/greenwoods-counseling-7/2028-04-12/
LOCATION:CT
CATEGORIES:Greenwoods Counseling
END:VEVENT
END:VCALENDAR