BEGIN:VCALENDAR
VERSION:2.0
PRODID:-//St. Michael&#039;s Church - ECPv6.15.20//NONSGML v1.0//EN
CALSCALE:GREGORIAN
METHOD:PUBLISH
X-ORIGINAL-URL:https://stmichaels-litchfield.org
X-WR-CALDESC:Events for St. Michael&#039;s Church
REFRESH-INTERVAL;VALUE=DURATION:PT1H
X-Robots-Tag:noindex
X-PUBLISHED-TTL:PT1H
BEGIN:VTIMEZONE
TZID:America/New_York
BEGIN:DAYLIGHT
TZOFFSETFROM:-0500
TZOFFSETTO:-0400
TZNAME:EDT
DTSTART:20270314T070000
END:DAYLIGHT
BEGIN:STANDARD
TZOFFSETFROM:-0400
TZOFFSETTO:-0500
TZNAME:EST
DTSTART:20271107T060000
END:STANDARD
BEGIN:DAYLIGHT
TZOFFSETFROM:-0500
TZOFFSETTO:-0400
TZNAME:EDT
DTSTART:20280312T070000
END:DAYLIGHT
BEGIN:STANDARD
TZOFFSETFROM:-0400
TZOFFSETTO:-0500
TZNAME:EST
DTSTART:20281105T060000
END:STANDARD
BEGIN:DAYLIGHT
TZOFFSETFROM:-0500
TZOFFSETTO:-0400
TZNAME:EDT
DTSTART:20290311T070000
END:DAYLIGHT
BEGIN:STANDARD
TZOFFSETFROM:-0400
TZOFFSETTO:-0500
TZNAME:EST
DTSTART:20291104T060000
END:STANDARD
END:VTIMEZONE
BEGIN:VEVENT
DTSTART;TZID=America/New_York:20280901T070000
DTEND;TZID=America/New_York:20280901T073000
DTSTAMP:20260423T182021
CREATED:20230606T184551Z
LAST-MODIFIED:20230619T142647Z
UID:10286886-1851404400-1851406200@stmichaels-litchfield.org
SUMMARY:AA Meeting in the Parish House Library
DESCRIPTION:
URL:https://stmichaels-litchfield.org/event/aa-meeting-in-the-library/2028-09-01/
LOCATION:Parish House Library\, 25 South Street\, Litchfield\, CT\, 06759\, United States
CATEGORIES:AA/NA Events
END:VEVENT
BEGIN:VEVENT
DTSTART;TZID=America/New_York:20280901T093000
DTEND;TZID=America/New_York:20280901T143000
DTSTAMP:20260423T182021
CREATED:20260128T181432Z
LAST-MODIFIED:20260128T181726Z
UID:10291966-1851413400-1851431400@stmichaels-litchfield.org
SUMMARY:Church Office Open
DESCRIPTION:
URL:https://stmichaels-litchfield.org/event/church-office-open-14/2028-09-01/
LOCATION:Church Office\, 25 South Street\, Litchfield\, CT\, 06759\, United States
CATEGORIES:Church Office Event
END:VEVENT
BEGIN:VEVENT
DTSTART;TZID=America/New_York:20280903T080000
DTEND;TZID=America/New_York:20280903T090000
DTSTAMP:20260423T182021
CREATED:20211108T181651Z
LAST-MODIFIED:20260327T134504Z
UID:10020526-1851580800-1851584400@stmichaels-litchfield.org
SUMMARY:Eucharist\, Rite I
DESCRIPTION:Spoken\, no music
URL:https://stmichaels-litchfield.org/event/sunday-eucharist/2028-09-03/
LOCATION:Chapel\, 25 South Street\, Litchfield\, CT\, 06759\, United States
CATEGORIES:Church Event,Parish Events
END:VEVENT
BEGIN:VEVENT
DTSTART;TZID=America/New_York:20280903T100000
DTEND;TZID=America/New_York:20280903T110000
DTSTAMP:20260423T182021
CREATED:20250403T150154Z
LAST-MODIFIED:20260422T181447Z
UID:10020612-1851588000-1851591600@stmichaels-litchfield.org
SUMMARY:Sunday Eucharist\, Rite II
DESCRIPTION:Rite II with music \nFollowed by Coffee Hour in the Community House
URL:https://stmichaels-litchfield.org/event/sunday-eucharist-2-3/2028-09-03/
LOCATION:Church\, 25 South Street\, Litchfield\, CT\, 06759\, United States
CATEGORIES:Church Event,Parish Events
END:VEVENT
BEGIN:VEVENT
DTSTART;TZID=America/New_York:20280903T110000
DTEND;TZID=America/New_York:20280903T140000
DTSTAMP:20260423T182021
CREATED:20230711T182541Z
LAST-MODIFIED:20250806T192214Z
UID:10013873-1851591600-1851602400@stmichaels-litchfield.org
SUMMARY:Coffee and Fellowship in the Community House
DESCRIPTION:
URL:https://stmichaels-litchfield.org/event/coffee-and-congregation-in-the-community-house/2028-09-03/
LOCATION:Community House in Library from April 9th forward
CATEGORIES:Church Event
END:VEVENT
BEGIN:VEVENT
DTSTART;TZID=America/New_York:20280903T190000
DTEND;TZID=America/New_York:20280903T200000
DTSTAMP:20260423T182021
CREATED:20230619T142544Z
LAST-MODIFIED:20260416T160049Z
UID:10296115-1851620400-1851624000@stmichaels-litchfield.org
SUMMARY:AA Meeting in Community House
DESCRIPTION:
URL:https://stmichaels-litchfield.org/event/aa-meeting-in-community-house/2028-09-03/
LOCATION:Community House in Library from April 9th forward
END:VEVENT
BEGIN:VEVENT
DTSTART;VALUE=DATE:20280904
DTEND;VALUE=DATE:20280905
DTSTAMP:20260423T182021
CREATED:20260128T181321Z
LAST-MODIFIED:20260128T181322Z
UID:10291276-1851638400-1851724799@stmichaels-litchfield.org
SUMMARY:Church Office Closed
DESCRIPTION:
URL:https://stmichaels-litchfield.org/event/summer-schedule-church-office-closed-2-2-2-3/2028-09-04/
LOCATION:Church Office\, 25 South Street\, Litchfield\, CT\, 06759\, United States
CATEGORIES:Church Office Event
END:VEVENT
BEGIN:VEVENT
DTSTART;TZID=America/New_York:20280904T070000
DTEND;TZID=America/New_York:20280904T073000
DTSTAMP:20260423T182021
CREATED:20230606T184551Z
LAST-MODIFIED:20230619T142647Z
UID:10286887-1851663600-1851665400@stmichaels-litchfield.org
SUMMARY:AA Meeting in the Parish House Library
DESCRIPTION:
URL:https://stmichaels-litchfield.org/event/aa-meeting-in-the-library/2028-09-04/
LOCATION:Parish House Library\, 25 South Street\, Litchfield\, CT\, 06759\, United States
CATEGORIES:AA/NA Events
END:VEVENT
BEGIN:VEVENT
DTSTART;TZID=America/New_York:20280904T200000
DTEND;TZID=America/New_York:20280904T213000
DTSTAMP:20260423T182021
CREATED:20260218T173517Z
LAST-MODIFIED:20260218T173517Z
UID:10292699-1851710400-1851715800@stmichaels-litchfield.org
SUMMARY:AA meeting in the Community House
DESCRIPTION:
URL:https://stmichaels-litchfield.org/event/aa-meeting-in-the-community-house-2/2028-09-04/
END:VEVENT
BEGIN:VEVENT
DTSTART;TZID=America/New_York:20280905T093000
DTEND;TZID=America/New_York:20280905T143000
DTSTAMP:20260423T182021
CREATED:20260128T181432Z
LAST-MODIFIED:20260128T181726Z
UID:10291967-1851759000-1851777000@stmichaels-litchfield.org
SUMMARY:Church Office Open
DESCRIPTION:
URL:https://stmichaels-litchfield.org/event/church-office-open-14/2028-09-05/
LOCATION:Church Office\, 25 South Street\, Litchfield\, CT\, 06759\, United States
CATEGORIES:Church Office Event
END:VEVENT
BEGIN:VEVENT
DTSTART;TZID=America/New_York:20280905T160000
DTEND;TZID=America/New_York:20280905T173000
DTSTAMP:20260423T182021
CREATED:20260331T205128Z
LAST-MODIFIED:20260331T205254Z
UID:10294823-1851782400-1851787800@stmichaels-litchfield.org
SUMMARY:Priest Search Committee
DESCRIPTION:
URL:https://stmichaels-litchfield.org/event/priest-search-committee-3-2-5/2028-09-05/
LOCATION:Parish House Library\, 25 South Street\, Litchfield\, CT\, 06759\, United States
END:VEVENT
BEGIN:VEVENT
DTSTART;TZID=America/New_York:20280905T171500
DTEND;TZID=America/New_York:20280905T183000
DTSTAMP:20260423T182021
CREATED:20231227T151453Z
LAST-MODIFIED:20260317T155826Z
UID:10293666-1851786900-1851791400@stmichaels-litchfield.org
SUMMARY:Property Committee Meeting in Parish House Library
DESCRIPTION:
URL:https://stmichaels-litchfield.org/event/property-committee-meeting-in-parish-house-library-3/2028-09-05/
LOCATION:Parish House Library\, 25 South Street\, Litchfield\, CT\, 06759\, United States
CATEGORIES:Church Event
END:VEVENT
BEGIN:VEVENT
DTSTART;TZID=America/New_York:20280905T190000
DTEND;TZID=America/New_York:20280905T200000
DTSTAMP:20260423T182021
CREATED:20211108T175914Z
LAST-MODIFIED:20260130T014621Z
UID:10286632-1851793200-1851796800@stmichaels-litchfield.org
SUMMARY:AA Meeting in Community House
DESCRIPTION:
URL:https://stmichaels-litchfield.org/event/aa-group-in-community-house-2/2028-09-05/
LOCATION:Community House in Library from April 9th forward
CATEGORIES:AA/NA Events
END:VEVENT
BEGIN:VEVENT
DTSTART;TZID=America/New_York:20280906T070000
DTEND;TZID=America/New_York:20280906T073000
DTSTAMP:20260423T182021
CREATED:20230606T184551Z
LAST-MODIFIED:20230619T142647Z
UID:10286888-1851836400-1851838200@stmichaels-litchfield.org
SUMMARY:AA Meeting in the Parish House Library
DESCRIPTION:
URL:https://stmichaels-litchfield.org/event/aa-meeting-in-the-library/2028-09-06/
LOCATION:Parish House Library\, 25 South Street\, Litchfield\, CT\, 06759\, United States
CATEGORIES:AA/NA Events
END:VEVENT
BEGIN:VEVENT
DTSTART;TZID=America/New_York:20280906T083000
DTEND;TZID=America/New_York:20280906T110000
DTSTAMP:20260423T182021
CREATED:20250109T152013Z
LAST-MODIFIED:20250109T152013Z
UID:10019567-1851841800-1851850800@stmichaels-litchfield.org
SUMMARY:Greenwoods Counseling
DESCRIPTION:
URL:https://stmichaels-litchfield.org/event/greenwoods-counseling-7/2028-09-06/
CATEGORIES:Greenwoods Counseling
END:VEVENT
BEGIN:VEVENT
DTSTART;TZID=America/New_York:20280906T093000
DTEND;TZID=America/New_York:20280906T143000
DTSTAMP:20260423T182021
CREATED:20260128T181432Z
LAST-MODIFIED:20260128T181726Z
UID:10291968-1851845400-1851863400@stmichaels-litchfield.org
SUMMARY:Church Office Open
DESCRIPTION:
URL:https://stmichaels-litchfield.org/event/church-office-open-14/2028-09-06/
LOCATION:Church Office\, 25 South Street\, Litchfield\, CT\, 06759\, United States
CATEGORIES:Church Office Event
END:VEVENT
BEGIN:VEVENT
DTSTART;TZID=America/New_York:20280906T173000
DTEND;TZID=America/New_York:20280906T180000
DTSTAMP:20260423T182021
CREATED:20260327T155546Z
LAST-MODIFIED:20260422T175057Z
UID:10294564-1851874200-1851876000@stmichaels-litchfield.org
SUMMARY:Chanted Evening Prayer
DESCRIPTION:
URL:https://stmichaels-litchfield.org/event/chanted-evening-prayer-3/2028-09-06/
LOCATION:Chapel\, 25 South Street\, Litchfield\, CT\, 06759\, United States
CATEGORIES:Church Event
END:VEVENT
BEGIN:VEVENT
DTSTART;TZID=America/New_York:20280906T190000
DTEND;TZID=America/New_York:20280906T203000
DTSTAMP:20260423T182021
CREATED:20230817T183342Z
LAST-MODIFIED:20230817T183342Z
UID:10013829-1851879600-1851885000@stmichaels-litchfield.org
SUMMARY:Choir Rehearsal in Parish House Music Room
DESCRIPTION:
URL:https://stmichaels-litchfield.org/event/choir-rehearsal-in-parish-house-music-room/2028-09-06/
LOCATION:Parish House Music Room
CATEGORIES:Church Event
END:VEVENT
BEGIN:VEVENT
DTSTART;TZID=America/New_York:20280906T193000
DTEND;TZID=America/New_York:20280906T210000
DTSTAMP:20260423T182021
CREATED:20211108T180816Z
LAST-MODIFIED:20230714T003135Z
UID:10286732-1851881400-1851886800@stmichaels-litchfield.org
SUMMARY:NA meeting in Community House
DESCRIPTION:
URL:https://stmichaels-litchfield.org/event/narcotics-anonymous/2028-09-06/
LOCATION:Community House in Library from April 9th forward
CATEGORIES:AA/NA Events
END:VEVENT
BEGIN:VEVENT
DTSTART;TZID=America/New_York:20280907T093000
DTEND;TZID=America/New_York:20280907T143000
DTSTAMP:20260423T182021
CREATED:20260128T181432Z
LAST-MODIFIED:20260128T181726Z
UID:10291969-1851931800-1851949800@stmichaels-litchfield.org
SUMMARY:Church Office Open
DESCRIPTION:
URL:https://stmichaels-litchfield.org/event/church-office-open-14/2028-09-07/
LOCATION:Church Office\, 25 South Street\, Litchfield\, CT\, 06759\, United States
CATEGORIES:Church Office Event
END:VEVENT
BEGIN:VEVENT
DTSTART;TZID=America/New_York:20280908T070000
DTEND;TZID=America/New_York:20280908T073000
DTSTAMP:20260423T182021
CREATED:20230606T184551Z
LAST-MODIFIED:20230619T142647Z
UID:10286889-1852009200-1852011000@stmichaels-litchfield.org
SUMMARY:AA Meeting in the Parish House Library
DESCRIPTION:
URL:https://stmichaels-litchfield.org/event/aa-meeting-in-the-library/2028-09-08/
LOCATION:Parish House Library\, 25 South Street\, Litchfield\, CT\, 06759\, United States
CATEGORIES:AA/NA Events
END:VEVENT
BEGIN:VEVENT
DTSTART;TZID=America/New_York:20280908T093000
DTEND;TZID=America/New_York:20280908T143000
DTSTAMP:20260423T182021
CREATED:20260128T181432Z
LAST-MODIFIED:20260128T181726Z
UID:10291970-1852018200-1852036200@stmichaels-litchfield.org
SUMMARY:Church Office Open
DESCRIPTION:
URL:https://stmichaels-litchfield.org/event/church-office-open-14/2028-09-08/
LOCATION:Church Office\, 25 South Street\, Litchfield\, CT\, 06759\, United States
CATEGORIES:Church Office Event
END:VEVENT
BEGIN:VEVENT
DTSTART;TZID=America/New_York:20280910T080000
DTEND;TZID=America/New_York:20280910T090000
DTSTAMP:20260423T182021
CREATED:20211108T181651Z
LAST-MODIFIED:20260327T134504Z
UID:10020527-1852185600-1852189200@stmichaels-litchfield.org
SUMMARY:Eucharist\, Rite I
DESCRIPTION:Spoken\, no music
URL:https://stmichaels-litchfield.org/event/sunday-eucharist/2028-09-10/
LOCATION:Chapel\, 25 South Street\, Litchfield\, CT\, 06759\, United States
CATEGORIES:Church Event,Parish Events
END:VEVENT
BEGIN:VEVENT
DTSTART;TZID=America/New_York:20280910T100000
DTEND;TZID=America/New_York:20280910T110000
DTSTAMP:20260423T182021
CREATED:20250403T150154Z
LAST-MODIFIED:20260422T181447Z
UID:10020613-1852192800-1852196400@stmichaels-litchfield.org
SUMMARY:Sunday Eucharist\, Rite II
DESCRIPTION:Rite II with music \nFollowed by Coffee Hour in the Community House
URL:https://stmichaels-litchfield.org/event/sunday-eucharist-2-3/2028-09-10/
LOCATION:Church\, 25 South Street\, Litchfield\, CT\, 06759\, United States
CATEGORIES:Church Event,Parish Events
END:VEVENT
BEGIN:VEVENT
DTSTART;TZID=America/New_York:20280910T110000
DTEND;TZID=America/New_York:20280910T140000
DTSTAMP:20260423T182021
CREATED:20230711T182541Z
LAST-MODIFIED:20250806T192214Z
UID:10013874-1852196400-1852207200@stmichaels-litchfield.org
SUMMARY:Coffee and Fellowship in the Community House
DESCRIPTION:
URL:https://stmichaels-litchfield.org/event/coffee-and-congregation-in-the-community-house/2028-09-10/
LOCATION:Community House in Library from April 9th forward
CATEGORIES:Church Event
END:VEVENT
BEGIN:VEVENT
DTSTART;TZID=America/New_York:20280910T112000
DTEND;TZID=America/New_York:20280910T123000
DTSTAMP:20260423T182021
CREATED:20260408T170910Z
LAST-MODIFIED:20260408T170910Z
UID:10296072-1852197600-1852201800@stmichaels-litchfield.org
SUMMARY:Vestry Meeting
DESCRIPTION:
URL:https://stmichaels-litchfield.org/event/vestry-meeting-4/2028-09-10/
CATEGORIES:Church Event,Parish Events
END:VEVENT
BEGIN:VEVENT
DTSTART;TZID=America/New_York:20280910T190000
DTEND;TZID=America/New_York:20280910T200000
DTSTAMP:20260423T182021
CREATED:20230619T142544Z
LAST-MODIFIED:20260416T160049Z
UID:10296116-1852225200-1852228800@stmichaels-litchfield.org
SUMMARY:AA Meeting in Community House
DESCRIPTION:
URL:https://stmichaels-litchfield.org/event/aa-meeting-in-community-house/2028-09-10/
LOCATION:Community House in Library from April 9th forward
END:VEVENT
BEGIN:VEVENT
DTSTART;VALUE=DATE:20280911
DTEND;VALUE=DATE:20280912
DTSTAMP:20260423T182021
CREATED:20260128T181321Z
LAST-MODIFIED:20260128T181322Z
UID:10291277-1852243200-1852329599@stmichaels-litchfield.org
SUMMARY:Church Office Closed
DESCRIPTION:
URL:https://stmichaels-litchfield.org/event/summer-schedule-church-office-closed-2-2-2-3/2028-09-11/
LOCATION:Church Office\, 25 South Street\, Litchfield\, CT\, 06759\, United States
CATEGORIES:Church Office Event
END:VEVENT
BEGIN:VEVENT
DTSTART;TZID=America/New_York:20280911T070000
DTEND;TZID=America/New_York:20280911T073000
DTSTAMP:20260423T182021
CREATED:20230606T184551Z
LAST-MODIFIED:20230619T142647Z
UID:10286890-1852268400-1852270200@stmichaels-litchfield.org
SUMMARY:AA Meeting in the Parish House Library
DESCRIPTION:
URL:https://stmichaels-litchfield.org/event/aa-meeting-in-the-library/2028-09-11/
LOCATION:Parish House Library\, 25 South Street\, Litchfield\, CT\, 06759\, United States
CATEGORIES:AA/NA Events
END:VEVENT
BEGIN:VEVENT
DTSTART;TZID=America/New_York:20280911T200000
DTEND;TZID=America/New_York:20280911T213000
DTSTAMP:20260423T182021
CREATED:20260218T173517Z
LAST-MODIFIED:20260218T173517Z
UID:10292700-1852315200-1852320600@stmichaels-litchfield.org
SUMMARY:AA meeting in the Community House
DESCRIPTION:
URL:https://stmichaels-litchfield.org/event/aa-meeting-in-the-community-house-2/2028-09-11/
END:VEVENT
END:VCALENDAR