BEGIN:VCALENDAR
VERSION:2.0
PRODID:-//St. Michael&#039;s Church - ECPv6.15.20//NONSGML v1.0//EN
CALSCALE:GREGORIAN
METHOD:PUBLISH
X-ORIGINAL-URL:https://stmichaels-litchfield.org
X-WR-CALDESC:Events for St. Michael&#039;s Church
REFRESH-INTERVAL;VALUE=DURATION:PT1H
X-Robots-Tag:noindex
X-PUBLISHED-TTL:PT1H
BEGIN:VTIMEZONE
TZID:America/New_York
BEGIN:DAYLIGHT
TZOFFSETFROM:-0500
TZOFFSETTO:-0400
TZNAME:EDT
DTSTART:20270314T070000
END:DAYLIGHT
BEGIN:STANDARD
TZOFFSETFROM:-0400
TZOFFSETTO:-0500
TZNAME:EST
DTSTART:20271107T060000
END:STANDARD
BEGIN:DAYLIGHT
TZOFFSETFROM:-0500
TZOFFSETTO:-0400
TZNAME:EDT
DTSTART:20280312T070000
END:DAYLIGHT
BEGIN:STANDARD
TZOFFSETFROM:-0400
TZOFFSETTO:-0500
TZNAME:EST
DTSTART:20281105T060000
END:STANDARD
BEGIN:DAYLIGHT
TZOFFSETFROM:-0500
TZOFFSETTO:-0400
TZNAME:EDT
DTSTART:20290311T070000
END:DAYLIGHT
BEGIN:STANDARD
TZOFFSETFROM:-0400
TZOFFSETTO:-0500
TZNAME:EST
DTSTART:20291104T060000
END:STANDARD
END:VTIMEZONE
BEGIN:VEVENT
DTSTART;TZID=America/New_York:20280919T093000
DTEND;TZID=America/New_York:20280919T143000
DTSTAMP:20260423T194953
CREATED:20260128T181432Z
LAST-MODIFIED:20260128T181726Z
UID:10291975-1852968600-1852986600@stmichaels-litchfield.org
SUMMARY:Church Office Open
DESCRIPTION:
URL:https://stmichaels-litchfield.org/event/church-office-open-14/2028-09-19/
LOCATION:Church Office\, 25 South Street\, Litchfield\, CT\, 06759\, United States
CATEGORIES:Church Office Event
END:VEVENT
BEGIN:VEVENT
DTSTART;TZID=America/New_York:20280919T160000
DTEND;TZID=America/New_York:20280919T173000
DTSTAMP:20260423T194953
CREATED:20260331T205128Z
LAST-MODIFIED:20260331T205254Z
UID:10294825-1852992000-1852997400@stmichaels-litchfield.org
SUMMARY:Priest Search Committee
DESCRIPTION:
URL:https://stmichaels-litchfield.org/event/priest-search-committee-3-2-5/2028-09-19/
LOCATION:Parish House Library\, 25 South Street\, Litchfield\, CT\, 06759\, United States
END:VEVENT
BEGIN:VEVENT
DTSTART;TZID=America/New_York:20280919T190000
DTEND;TZID=America/New_York:20280919T200000
DTSTAMP:20260423T194953
CREATED:20211108T175914Z
LAST-MODIFIED:20260130T014621Z
UID:10286634-1853002800-1853006400@stmichaels-litchfield.org
SUMMARY:AA Meeting in Community House
DESCRIPTION:
URL:https://stmichaels-litchfield.org/event/aa-group-in-community-house-2/2028-09-19/
LOCATION:Community House in Library from April 9th forward
CATEGORIES:AA/NA Events
END:VEVENT
BEGIN:VEVENT
DTSTART;TZID=America/New_York:20280920T070000
DTEND;TZID=America/New_York:20280920T073000
DTSTAMP:20260423T194953
CREATED:20230606T184551Z
LAST-MODIFIED:20230619T142647Z
UID:10286894-1853046000-1853047800@stmichaels-litchfield.org
SUMMARY:AA Meeting in the Parish House Library
DESCRIPTION:
URL:https://stmichaels-litchfield.org/event/aa-meeting-in-the-library/2028-09-20/
LOCATION:Parish House Library\, 25 South Street\, Litchfield\, CT\, 06759\, United States
CATEGORIES:AA/NA Events
END:VEVENT
BEGIN:VEVENT
DTSTART;TZID=America/New_York:20280920T083000
DTEND;TZID=America/New_York:20280920T110000
DTSTAMP:20260423T194953
CREATED:20250109T152013Z
LAST-MODIFIED:20250109T152013Z
UID:10019569-1853051400-1853060400@stmichaels-litchfield.org
SUMMARY:Greenwoods Counseling
DESCRIPTION:
URL:https://stmichaels-litchfield.org/event/greenwoods-counseling-7/2028-09-20/
CATEGORIES:Greenwoods Counseling
END:VEVENT
BEGIN:VEVENT
DTSTART;TZID=America/New_York:20280920T093000
DTEND;TZID=America/New_York:20280920T143000
DTSTAMP:20260423T194953
CREATED:20260128T181432Z
LAST-MODIFIED:20260128T181726Z
UID:10291976-1853055000-1853073000@stmichaels-litchfield.org
SUMMARY:Church Office Open
DESCRIPTION:
URL:https://stmichaels-litchfield.org/event/church-office-open-14/2028-09-20/
LOCATION:Church Office\, 25 South Street\, Litchfield\, CT\, 06759\, United States
CATEGORIES:Church Office Event
END:VEVENT
BEGIN:VEVENT
DTSTART;TZID=America/New_York:20280920T173000
DTEND;TZID=America/New_York:20280920T180000
DTSTAMP:20260423T194953
CREATED:20260327T155546Z
LAST-MODIFIED:20260422T175057Z
UID:10294566-1853083800-1853085600@stmichaels-litchfield.org
SUMMARY:Chanted Evening Prayer
DESCRIPTION:
URL:https://stmichaels-litchfield.org/event/chanted-evening-prayer-3/2028-09-20/
LOCATION:Chapel\, 25 South Street\, Litchfield\, CT\, 06759\, United States
CATEGORIES:Church Event
END:VEVENT
BEGIN:VEVENT
DTSTART;TZID=America/New_York:20280920T193000
DTEND;TZID=America/New_York:20280920T210000
DTSTAMP:20260423T194953
CREATED:20211108T180816Z
LAST-MODIFIED:20230714T003135Z
UID:10286734-1853091000-1853096400@stmichaels-litchfield.org
SUMMARY:NA meeting in Community House
DESCRIPTION:
URL:https://stmichaels-litchfield.org/event/narcotics-anonymous/2028-09-20/
LOCATION:Community House in Library from April 9th forward
CATEGORIES:AA/NA Events
END:VEVENT
BEGIN:VEVENT
DTSTART;TZID=America/New_York:20280921T093000
DTEND;TZID=America/New_York:20280921T143000
DTSTAMP:20260423T194953
CREATED:20260128T181432Z
LAST-MODIFIED:20260128T181726Z
UID:10291977-1853141400-1853159400@stmichaels-litchfield.org
SUMMARY:Church Office Open
DESCRIPTION:
URL:https://stmichaels-litchfield.org/event/church-office-open-14/2028-09-21/
LOCATION:Church Office\, 25 South Street\, Litchfield\, CT\, 06759\, United States
CATEGORIES:Church Office Event
END:VEVENT
BEGIN:VEVENT
DTSTART;TZID=America/New_York:20280922T070000
DTEND;TZID=America/New_York:20280922T073000
DTSTAMP:20260423T194953
CREATED:20230606T184551Z
LAST-MODIFIED:20230619T142647Z
UID:10286895-1853218800-1853220600@stmichaels-litchfield.org
SUMMARY:AA Meeting in the Parish House Library
DESCRIPTION:
URL:https://stmichaels-litchfield.org/event/aa-meeting-in-the-library/2028-09-22/
LOCATION:Parish House Library\, 25 South Street\, Litchfield\, CT\, 06759\, United States
CATEGORIES:AA/NA Events
END:VEVENT
BEGIN:VEVENT
DTSTART;TZID=America/New_York:20280922T093000
DTEND;TZID=America/New_York:20280922T143000
DTSTAMP:20260423T194953
CREATED:20260128T181432Z
LAST-MODIFIED:20260128T181726Z
UID:10291978-1853227800-1853245800@stmichaels-litchfield.org
SUMMARY:Church Office Open
DESCRIPTION:
URL:https://stmichaels-litchfield.org/event/church-office-open-14/2028-09-22/
LOCATION:Church Office\, 25 South Street\, Litchfield\, CT\, 06759\, United States
CATEGORIES:Church Office Event
END:VEVENT
BEGIN:VEVENT
DTSTART;TZID=America/New_York:20280924T080000
DTEND;TZID=America/New_York:20280924T090000
DTSTAMP:20260423T194953
CREATED:20211108T181651Z
LAST-MODIFIED:20260327T134504Z
UID:10020529-1853395200-1853398800@stmichaels-litchfield.org
SUMMARY:Eucharist\, Rite I
DESCRIPTION:Spoken\, no music
URL:https://stmichaels-litchfield.org/event/sunday-eucharist/2028-09-24/
LOCATION:Chapel\, 25 South Street\, Litchfield\, CT\, 06759\, United States
CATEGORIES:Church Event,Parish Events
END:VEVENT
BEGIN:VEVENT
DTSTART;TZID=America/New_York:20280924T100000
DTEND;TZID=America/New_York:20280924T110000
DTSTAMP:20260423T194953
CREATED:20250403T150154Z
LAST-MODIFIED:20260422T181447Z
UID:10020615-1853402400-1853406000@stmichaels-litchfield.org
SUMMARY:Sunday Eucharist\, Rite II
DESCRIPTION:Rite II with music \nFollowed by Coffee Hour in the Community House
URL:https://stmichaels-litchfield.org/event/sunday-eucharist-2-3/2028-09-24/
LOCATION:Church\, 25 South Street\, Litchfield\, CT\, 06759\, United States
CATEGORIES:Church Event,Parish Events
END:VEVENT
BEGIN:VEVENT
DTSTART;TZID=America/New_York:20280924T110000
DTEND;TZID=America/New_York:20280924T140000
DTSTAMP:20260423T194953
CREATED:20230711T182541Z
LAST-MODIFIED:20250806T192214Z
UID:10013876-1853406000-1853416800@stmichaels-litchfield.org
SUMMARY:Coffee and Fellowship in the Community House
DESCRIPTION:
URL:https://stmichaels-litchfield.org/event/coffee-and-congregation-in-the-community-house/2028-09-24/
LOCATION:Community House in Library from April 9th forward
CATEGORIES:Church Event
END:VEVENT
BEGIN:VEVENT
DTSTART;TZID=America/New_York:20280924T190000
DTEND;TZID=America/New_York:20280924T200000
DTSTAMP:20260423T194953
CREATED:20230619T142544Z
LAST-MODIFIED:20260416T160049Z
UID:10296118-1853434800-1853438400@stmichaels-litchfield.org
SUMMARY:AA Meeting in Community House
DESCRIPTION:
URL:https://stmichaels-litchfield.org/event/aa-meeting-in-community-house/2028-09-24/
LOCATION:Community House in Library from April 9th forward
END:VEVENT
BEGIN:VEVENT
DTSTART;VALUE=DATE:20280925
DTEND;VALUE=DATE:20280926
DTSTAMP:20260423T194953
CREATED:20260128T181321Z
LAST-MODIFIED:20260128T181322Z
UID:10291279-1853452800-1853539199@stmichaels-litchfield.org
SUMMARY:Church Office Closed
DESCRIPTION:
URL:https://stmichaels-litchfield.org/event/summer-schedule-church-office-closed-2-2-2-3/2028-09-25/
LOCATION:Church Office\, 25 South Street\, Litchfield\, CT\, 06759\, United States
CATEGORIES:Church Office Event
END:VEVENT
BEGIN:VEVENT
DTSTART;TZID=America/New_York:20280925T070000
DTEND;TZID=America/New_York:20280925T073000
DTSTAMP:20260423T194953
CREATED:20230606T184551Z
LAST-MODIFIED:20230619T142647Z
UID:10286896-1853478000-1853479800@stmichaels-litchfield.org
SUMMARY:AA Meeting in the Parish House Library
DESCRIPTION:
URL:https://stmichaels-litchfield.org/event/aa-meeting-in-the-library/2028-09-25/
LOCATION:Parish House Library\, 25 South Street\, Litchfield\, CT\, 06759\, United States
CATEGORIES:AA/NA Events
END:VEVENT
BEGIN:VEVENT
DTSTART;TZID=America/New_York:20280925T200000
DTEND;TZID=America/New_York:20280925T213000
DTSTAMP:20260423T194953
CREATED:20260218T173517Z
LAST-MODIFIED:20260218T173517Z
UID:10292702-1853524800-1853530200@stmichaels-litchfield.org
SUMMARY:AA meeting in the Community House
DESCRIPTION:
URL:https://stmichaels-litchfield.org/event/aa-meeting-in-the-community-house-2/2028-09-25/
END:VEVENT
BEGIN:VEVENT
DTSTART;TZID=America/New_York:20280926T093000
DTEND;TZID=America/New_York:20280926T143000
DTSTAMP:20260423T194954
CREATED:20260128T181432Z
LAST-MODIFIED:20260128T181726Z
UID:10291979-1853573400-1853591400@stmichaels-litchfield.org
SUMMARY:Church Office Open
DESCRIPTION:
URL:https://stmichaels-litchfield.org/event/church-office-open-14/2028-09-26/
LOCATION:Church Office\, 25 South Street\, Litchfield\, CT\, 06759\, United States
CATEGORIES:Church Office Event
END:VEVENT
BEGIN:VEVENT
DTSTART;TZID=America/New_York:20280926T160000
DTEND;TZID=America/New_York:20280926T173000
DTSTAMP:20260423T194954
CREATED:20260331T205128Z
LAST-MODIFIED:20260331T205254Z
UID:10294826-1853596800-1853602200@stmichaels-litchfield.org
SUMMARY:Priest Search Committee
DESCRIPTION:
URL:https://stmichaels-litchfield.org/event/priest-search-committee-3-2-5/2028-09-26/
LOCATION:Parish House Library\, 25 South Street\, Litchfield\, CT\, 06759\, United States
END:VEVENT
BEGIN:VEVENT
DTSTART;TZID=America/New_York:20280926T190000
DTEND;TZID=America/New_York:20280926T200000
DTSTAMP:20260423T194954
CREATED:20211108T175914Z
LAST-MODIFIED:20260130T014621Z
UID:10286635-1853607600-1853611200@stmichaels-litchfield.org
SUMMARY:AA Meeting in Community House
DESCRIPTION:
URL:https://stmichaels-litchfield.org/event/aa-group-in-community-house-2/2028-09-26/
LOCATION:Community House in Library from April 9th forward
CATEGORIES:AA/NA Events
END:VEVENT
BEGIN:VEVENT
DTSTART;TZID=America/New_York:20280927T070000
DTEND;TZID=America/New_York:20280927T073000
DTSTAMP:20260423T194954
CREATED:20230606T184551Z
LAST-MODIFIED:20230619T142647Z
UID:10286897-1853650800-1853652600@stmichaels-litchfield.org
SUMMARY:AA Meeting in the Parish House Library
DESCRIPTION:
URL:https://stmichaels-litchfield.org/event/aa-meeting-in-the-library/2028-09-27/
LOCATION:Parish House Library\, 25 South Street\, Litchfield\, CT\, 06759\, United States
CATEGORIES:AA/NA Events
END:VEVENT
BEGIN:VEVENT
DTSTART;TZID=America/New_York:20280927T083000
DTEND;TZID=America/New_York:20280927T110000
DTSTAMP:20260423T194954
CREATED:20250109T152013Z
LAST-MODIFIED:20250109T152013Z
UID:10019570-1853656200-1853665200@stmichaels-litchfield.org
SUMMARY:Greenwoods Counseling
DESCRIPTION:
URL:https://stmichaels-litchfield.org/event/greenwoods-counseling-7/2028-09-27/
CATEGORIES:Greenwoods Counseling
END:VEVENT
BEGIN:VEVENT
DTSTART;TZID=America/New_York:20280927T093000
DTEND;TZID=America/New_York:20280927T143000
DTSTAMP:20260423T194954
CREATED:20260128T181432Z
LAST-MODIFIED:20260128T181726Z
UID:10291980-1853659800-1853677800@stmichaels-litchfield.org
SUMMARY:Church Office Open
DESCRIPTION:
URL:https://stmichaels-litchfield.org/event/church-office-open-14/2028-09-27/
LOCATION:Church Office\, 25 South Street\, Litchfield\, CT\, 06759\, United States
CATEGORIES:Church Office Event
END:VEVENT
BEGIN:VEVENT
DTSTART;TZID=America/New_York:20280927T110000
DTEND;TZID=America/New_York:20280927T133000
DTSTAMP:20260423T194954
CREATED:20231012T152740Z
LAST-MODIFIED:20231012T152740Z
UID:10013937-1853665200-1853674200@stmichaels-litchfield.org
SUMMARY:Greenwoods Counselling All Staff Meeting in the Community House
DESCRIPTION:
URL:https://stmichaels-litchfield.org/event/greenwoods-counselling-all-staff-meeting-in-the-community-house/2028-09-27/
LOCATION:Community House in Library from April 9th forward
CATEGORIES:Greenwoods Counseling
END:VEVENT
BEGIN:VEVENT
DTSTART;TZID=America/New_York:20280927T173000
DTEND;TZID=America/New_York:20280927T180000
DTSTAMP:20260423T194954
CREATED:20260327T155546Z
LAST-MODIFIED:20260422T175057Z
UID:10294567-1853688600-1853690400@stmichaels-litchfield.org
SUMMARY:Chanted Evening Prayer
DESCRIPTION:
URL:https://stmichaels-litchfield.org/event/chanted-evening-prayer-3/2028-09-27/
LOCATION:Chapel\, 25 South Street\, Litchfield\, CT\, 06759\, United States
CATEGORIES:Church Event
END:VEVENT
BEGIN:VEVENT
DTSTART;TZID=America/New_York:20280927T193000
DTEND;TZID=America/New_York:20280927T210000
DTSTAMP:20260423T194954
CREATED:20211108T180816Z
LAST-MODIFIED:20230714T003135Z
UID:10286735-1853695800-1853701200@stmichaels-litchfield.org
SUMMARY:NA meeting in Community House
DESCRIPTION:
URL:https://stmichaels-litchfield.org/event/narcotics-anonymous/2028-09-27/
LOCATION:Community House in Library from April 9th forward
CATEGORIES:AA/NA Events
END:VEVENT
BEGIN:VEVENT
DTSTART;TZID=America/New_York:20280928T093000
DTEND;TZID=America/New_York:20280928T143000
DTSTAMP:20260423T194954
CREATED:20260128T181432Z
LAST-MODIFIED:20260128T181726Z
UID:10291981-1853746200-1853764200@stmichaels-litchfield.org
SUMMARY:Church Office Open
DESCRIPTION:
URL:https://stmichaels-litchfield.org/event/church-office-open-14/2028-09-28/
LOCATION:Church Office\, 25 South Street\, Litchfield\, CT\, 06759\, United States
CATEGORIES:Church Office Event
END:VEVENT
BEGIN:VEVENT
DTSTART;TZID=America/New_York:20280929T070000
DTEND;TZID=America/New_York:20280929T073000
DTSTAMP:20260423T194954
CREATED:20230606T184551Z
LAST-MODIFIED:20230619T142647Z
UID:10286898-1853823600-1853825400@stmichaels-litchfield.org
SUMMARY:AA Meeting in the Parish House Library
DESCRIPTION:
URL:https://stmichaels-litchfield.org/event/aa-meeting-in-the-library/2028-09-29/
LOCATION:Parish House Library\, 25 South Street\, Litchfield\, CT\, 06759\, United States
CATEGORIES:AA/NA Events
END:VEVENT
BEGIN:VEVENT
DTSTART;TZID=America/New_York:20280929T093000
DTEND;TZID=America/New_York:20280929T143000
DTSTAMP:20260423T194954
CREATED:20260128T181432Z
LAST-MODIFIED:20260128T181726Z
UID:10291982-1853832600-1853850600@stmichaels-litchfield.org
SUMMARY:Church Office Open
DESCRIPTION:
URL:https://stmichaels-litchfield.org/event/church-office-open-14/2028-09-29/
LOCATION:Church Office\, 25 South Street\, Litchfield\, CT\, 06759\, United States
CATEGORIES:Church Office Event
END:VEVENT
END:VCALENDAR