BEGIN:VCALENDAR
VERSION:2.0
PRODID:-//St. Michael&#039;s Church - ECPv6.15.20//NONSGML v1.0//EN
CALSCALE:GREGORIAN
METHOD:PUBLISH
X-ORIGINAL-URL:https://stmichaels-litchfield.org
X-WR-CALDESC:Events for St. Michael&#039;s Church
REFRESH-INTERVAL;VALUE=DURATION:PT1H
X-Robots-Tag:noindex
X-PUBLISHED-TTL:PT1H
BEGIN:VTIMEZONE
TZID:America/New_York
BEGIN:DAYLIGHT
TZOFFSETFROM:-0500
TZOFFSETTO:-0400
TZNAME:EDT
DTSTART:20280312T070000
END:DAYLIGHT
BEGIN:STANDARD
TZOFFSETFROM:-0400
TZOFFSETTO:-0500
TZNAME:EST
DTSTART:20281105T060000
END:STANDARD
BEGIN:DAYLIGHT
TZOFFSETFROM:-0500
TZOFFSETTO:-0400
TZNAME:EDT
DTSTART:20290311T070000
END:DAYLIGHT
BEGIN:STANDARD
TZOFFSETFROM:-0400
TZOFFSETTO:-0500
TZNAME:EST
DTSTART:20291104T060000
END:STANDARD
BEGIN:DAYLIGHT
TZOFFSETFROM:-0500
TZOFFSETTO:-0400
TZNAME:EDT
DTSTART:20300310T070000
END:DAYLIGHT
BEGIN:STANDARD
TZOFFSETFROM:-0400
TZOFFSETTO:-0500
TZNAME:EST
DTSTART:20301103T060000
END:STANDARD
END:VTIMEZONE
BEGIN:VEVENT
DTSTART;TZID=America/New_York:20290302T070000
DTEND;TZID=America/New_York:20290302T073000
DTSTAMP:20260424T032537
CREATED:20230606T184551Z
LAST-MODIFIED:20230619T142647Z
UID:10286964-1867129200-1867131000@stmichaels-litchfield.org
SUMMARY:AA Meeting in the Parish House Library
DESCRIPTION:
URL:https://stmichaels-litchfield.org/event/aa-meeting-in-the-library/2029-03-02/
LOCATION:Parish House Library\, 25 South Street\, Litchfield\, CT\, 06759\, United States
CATEGORIES:AA/NA Events
END:VEVENT
BEGIN:VEVENT
DTSTART;TZID=America/New_York:20290302T093000
DTEND;TZID=America/New_York:20290302T143000
DTSTAMP:20260424T032537
CREATED:20260128T181432Z
LAST-MODIFIED:20260128T181726Z
UID:10292070-1867138200-1867156200@stmichaels-litchfield.org
SUMMARY:Church Office Open
DESCRIPTION:
URL:https://stmichaels-litchfield.org/event/church-office-open-14/2029-03-02/
LOCATION:Church Office\, 25 South Street\, Litchfield\, CT\, 06759\, United States
CATEGORIES:Church Office Event
END:VEVENT
BEGIN:VEVENT
DTSTART;TZID=America/New_York:20290304T080000
DTEND;TZID=America/New_York:20290304T090000
DTSTAMP:20260424T032537
CREATED:20211108T181651Z
LAST-MODIFIED:20260327T134504Z
UID:10020552-1867305600-1867309200@stmichaels-litchfield.org
SUMMARY:Eucharist\, Rite I
DESCRIPTION:Spoken\, no music
URL:https://stmichaels-litchfield.org/event/sunday-eucharist/2029-03-04/
LOCATION:Chapel\, 25 South Street\, Litchfield\, CT\, 06759\, United States
CATEGORIES:Church Event,Parish Events
END:VEVENT
BEGIN:VEVENT
DTSTART;TZID=America/New_York:20290304T100000
DTEND;TZID=America/New_York:20290304T110000
DTSTAMP:20260424T032537
CREATED:20250403T150154Z
LAST-MODIFIED:20260422T181447Z
UID:10020638-1867312800-1867316400@stmichaels-litchfield.org
SUMMARY:Sunday Eucharist\, Rite II
DESCRIPTION:Rite II with music \nFollowed by Coffee Hour in the Community House
URL:https://stmichaels-litchfield.org/event/sunday-eucharist-2-3/2029-03-04/
LOCATION:Church\, 25 South Street\, Litchfield\, CT\, 06759\, United States
CATEGORIES:Church Event,Parish Events
END:VEVENT
BEGIN:VEVENT
DTSTART;TZID=America/New_York:20290304T110000
DTEND;TZID=America/New_York:20290304T140000
DTSTAMP:20260424T032537
CREATED:20230711T182541Z
LAST-MODIFIED:20250806T192214Z
UID:10287242-1867316400-1867327200@stmichaels-litchfield.org
SUMMARY:Coffee and Fellowship in the Community House
DESCRIPTION:
URL:https://stmichaels-litchfield.org/event/coffee-and-congregation-in-the-community-house/2029-03-04/
LOCATION:Community House in Library from April 9th forward
CATEGORIES:Church Event
END:VEVENT
BEGIN:VEVENT
DTSTART;TZID=America/New_York:20290304T190000
DTEND;TZID=America/New_York:20290304T200000
DTSTAMP:20260424T032537
CREATED:20230619T142544Z
LAST-MODIFIED:20260416T160049Z
UID:10296141-1867345200-1867348800@stmichaels-litchfield.org
SUMMARY:AA Meeting in Community House
DESCRIPTION:
URL:https://stmichaels-litchfield.org/event/aa-meeting-in-community-house/2029-03-04/
LOCATION:Community House in Library from April 9th forward
END:VEVENT
BEGIN:VEVENT
DTSTART;VALUE=DATE:20290305
DTEND;VALUE=DATE:20290306
DTSTAMP:20260424T032537
CREATED:20260128T181321Z
LAST-MODIFIED:20260128T181322Z
UID:10291302-1867363200-1867449599@stmichaels-litchfield.org
SUMMARY:Church Office Closed
DESCRIPTION:
URL:https://stmichaels-litchfield.org/event/summer-schedule-church-office-closed-2-2-2-3/2029-03-05/
LOCATION:Church Office\, 25 South Street\, Litchfield\, CT\, 06759\, United States
CATEGORIES:Church Office Event
END:VEVENT
BEGIN:VEVENT
DTSTART;TZID=America/New_York:20290305T070000
DTEND;TZID=America/New_York:20290305T073000
DTSTAMP:20260424T032537
CREATED:20230606T184551Z
LAST-MODIFIED:20230619T142647Z
UID:10286965-1867388400-1867390200@stmichaels-litchfield.org
SUMMARY:AA Meeting in the Parish House Library
DESCRIPTION:
URL:https://stmichaels-litchfield.org/event/aa-meeting-in-the-library/2029-03-05/
LOCATION:Parish House Library\, 25 South Street\, Litchfield\, CT\, 06759\, United States
CATEGORIES:AA/NA Events
END:VEVENT
BEGIN:VEVENT
DTSTART;TZID=America/New_York:20290305T200000
DTEND;TZID=America/New_York:20290305T213000
DTSTAMP:20260424T032537
CREATED:20260218T173517Z
LAST-MODIFIED:20260218T173517Z
UID:10292725-1867435200-1867440600@stmichaels-litchfield.org
SUMMARY:AA meeting in the Community House
DESCRIPTION:
URL:https://stmichaels-litchfield.org/event/aa-meeting-in-the-community-house-2/2029-03-05/
END:VEVENT
BEGIN:VEVENT
DTSTART;TZID=America/New_York:20290306T093000
DTEND;TZID=America/New_York:20290306T143000
DTSTAMP:20260424T032537
CREATED:20260128T181432Z
LAST-MODIFIED:20260128T181726Z
UID:10292071-1867483800-1867501800@stmichaels-litchfield.org
SUMMARY:Church Office Open
DESCRIPTION:
URL:https://stmichaels-litchfield.org/event/church-office-open-14/2029-03-06/
LOCATION:Church Office\, 25 South Street\, Litchfield\, CT\, 06759\, United States
CATEGORIES:Church Office Event
END:VEVENT
BEGIN:VEVENT
DTSTART;TZID=America/New_York:20290306T160000
DTEND;TZID=America/New_York:20290306T173000
DTSTAMP:20260424T032537
CREATED:20260331T205128Z
LAST-MODIFIED:20260331T205254Z
UID:10294849-1867507200-1867512600@stmichaels-litchfield.org
SUMMARY:Priest Search Committee
DESCRIPTION:
URL:https://stmichaels-litchfield.org/event/priest-search-committee-3-2-5/2029-03-06/
LOCATION:Parish House Library\, 25 South Street\, Litchfield\, CT\, 06759\, United States
END:VEVENT
BEGIN:VEVENT
DTSTART;TZID=America/New_York:20290306T171500
DTEND;TZID=America/New_York:20290306T183000
DTSTAMP:20260424T032537
CREATED:20231227T151453Z
LAST-MODIFIED:20260317T155826Z
UID:10293672-1867511700-1867516200@stmichaels-litchfield.org
SUMMARY:Property Committee Meeting in Parish House Library
DESCRIPTION:
URL:https://stmichaels-litchfield.org/event/property-committee-meeting-in-parish-house-library-3/2029-03-06/
LOCATION:Parish House Library\, 25 South Street\, Litchfield\, CT\, 06759\, United States
CATEGORIES:Church Event
END:VEVENT
BEGIN:VEVENT
DTSTART;TZID=America/New_York:20290306T190000
DTEND;TZID=America/New_York:20290306T200000
DTSTAMP:20260424T032537
CREATED:20211108T175914Z
LAST-MODIFIED:20260130T014621Z
UID:10286658-1867518000-1867521600@stmichaels-litchfield.org
SUMMARY:AA Meeting in Community House
DESCRIPTION:
URL:https://stmichaels-litchfield.org/event/aa-group-in-community-house-2/2029-03-06/
LOCATION:Community House in Library from April 9th forward
CATEGORIES:AA/NA Events
END:VEVENT
BEGIN:VEVENT
DTSTART;TZID=America/New_York:20290307T070000
DTEND;TZID=America/New_York:20290307T073000
DTSTAMP:20260424T032537
CREATED:20230606T184551Z
LAST-MODIFIED:20230619T142647Z
UID:10286966-1867561200-1867563000@stmichaels-litchfield.org
SUMMARY:AA Meeting in the Parish House Library
DESCRIPTION:
URL:https://stmichaels-litchfield.org/event/aa-meeting-in-the-library/2029-03-07/
LOCATION:Parish House Library\, 25 South Street\, Litchfield\, CT\, 06759\, United States
CATEGORIES:AA/NA Events
END:VEVENT
BEGIN:VEVENT
DTSTART;TZID=America/New_York:20290307T083000
DTEND;TZID=America/New_York:20290307T110000
DTSTAMP:20260424T032537
CREATED:20250109T152013Z
LAST-MODIFIED:20250109T152013Z
UID:10019593-1867566600-1867575600@stmichaels-litchfield.org
SUMMARY:Greenwoods Counseling
DESCRIPTION:
URL:https://stmichaels-litchfield.org/event/greenwoods-counseling-7/2029-03-07/
CATEGORIES:Greenwoods Counseling
END:VEVENT
BEGIN:VEVENT
DTSTART;TZID=America/New_York:20290307T093000
DTEND;TZID=America/New_York:20290307T143000
DTSTAMP:20260424T032537
CREATED:20260128T181432Z
LAST-MODIFIED:20260128T181726Z
UID:10292072-1867570200-1867588200@stmichaels-litchfield.org
SUMMARY:Church Office Open
DESCRIPTION:
URL:https://stmichaels-litchfield.org/event/church-office-open-14/2029-03-07/
LOCATION:Church Office\, 25 South Street\, Litchfield\, CT\, 06759\, United States
CATEGORIES:Church Office Event
END:VEVENT
BEGIN:VEVENT
DTSTART;TZID=America/New_York:20290307T173000
DTEND;TZID=America/New_York:20290307T180000
DTSTAMP:20260424T032537
CREATED:20260327T155546Z
LAST-MODIFIED:20260422T175057Z
UID:10294590-1867599000-1867600800@stmichaels-litchfield.org
SUMMARY:Chanted Evening Prayer
DESCRIPTION:
URL:https://stmichaels-litchfield.org/event/chanted-evening-prayer-3/2029-03-07/
LOCATION:Chapel\, 25 South Street\, Litchfield\, CT\, 06759\, United States
CATEGORIES:Church Event
END:VEVENT
BEGIN:VEVENT
DTSTART;TZID=America/New_York:20290307T193000
DTEND;TZID=America/New_York:20290307T210000
DTSTAMP:20260424T032537
CREATED:20211108T180816Z
LAST-MODIFIED:20230714T003135Z
UID:10286758-1867606200-1867611600@stmichaels-litchfield.org
SUMMARY:NA meeting in Community House
DESCRIPTION:
URL:https://stmichaels-litchfield.org/event/narcotics-anonymous/2029-03-07/
LOCATION:Community House in Library from April 9th forward
CATEGORIES:AA/NA Events
END:VEVENT
BEGIN:VEVENT
DTSTART;TZID=America/New_York:20290308T093000
DTEND;TZID=America/New_York:20290308T143000
DTSTAMP:20260424T032537
CREATED:20260128T181432Z
LAST-MODIFIED:20260128T181726Z
UID:10292073-1867656600-1867674600@stmichaels-litchfield.org
SUMMARY:Church Office Open
DESCRIPTION:
URL:https://stmichaels-litchfield.org/event/church-office-open-14/2029-03-08/
LOCATION:Church Office\, 25 South Street\, Litchfield\, CT\, 06759\, United States
CATEGORIES:Church Office Event
END:VEVENT
BEGIN:VEVENT
DTSTART;TZID=America/New_York:20290309T070000
DTEND;TZID=America/New_York:20290309T073000
DTSTAMP:20260424T032537
CREATED:20230606T184551Z
LAST-MODIFIED:20230619T142647Z
UID:10286967-1867734000-1867735800@stmichaels-litchfield.org
SUMMARY:AA Meeting in the Parish House Library
DESCRIPTION:
URL:https://stmichaels-litchfield.org/event/aa-meeting-in-the-library/2029-03-09/
LOCATION:Parish House Library\, 25 South Street\, Litchfield\, CT\, 06759\, United States
CATEGORIES:AA/NA Events
END:VEVENT
BEGIN:VEVENT
DTSTART;TZID=America/New_York:20290309T093000
DTEND;TZID=America/New_York:20290309T143000
DTSTAMP:20260424T032537
CREATED:20260128T181432Z
LAST-MODIFIED:20260128T181726Z
UID:10292074-1867743000-1867761000@stmichaels-litchfield.org
SUMMARY:Church Office Open
DESCRIPTION:
URL:https://stmichaels-litchfield.org/event/church-office-open-14/2029-03-09/
LOCATION:Church Office\, 25 South Street\, Litchfield\, CT\, 06759\, United States
CATEGORIES:Church Office Event
END:VEVENT
BEGIN:VEVENT
DTSTART;TZID=America/New_York:20290311T080000
DTEND;TZID=America/New_York:20290311T090000
DTSTAMP:20260424T032537
CREATED:20211108T181651Z
LAST-MODIFIED:20260327T134504Z
UID:10020553-1867910400-1867914000@stmichaels-litchfield.org
SUMMARY:Eucharist\, Rite I
DESCRIPTION:Spoken\, no music
URL:https://stmichaels-litchfield.org/event/sunday-eucharist/2029-03-11/
LOCATION:Chapel\, 25 South Street\, Litchfield\, CT\, 06759\, United States
CATEGORIES:Church Event,Parish Events
END:VEVENT
BEGIN:VEVENT
DTSTART;TZID=America/New_York:20290311T100000
DTEND;TZID=America/New_York:20290311T110000
DTSTAMP:20260424T032537
CREATED:20250403T150154Z
LAST-MODIFIED:20260422T181447Z
UID:10020639-1867917600-1867921200@stmichaels-litchfield.org
SUMMARY:Sunday Eucharist\, Rite II
DESCRIPTION:Rite II with music \nFollowed by Coffee Hour in the Community House
URL:https://stmichaels-litchfield.org/event/sunday-eucharist-2-3/2029-03-11/
LOCATION:Church\, 25 South Street\, Litchfield\, CT\, 06759\, United States
CATEGORIES:Church Event,Parish Events
END:VEVENT
BEGIN:VEVENT
DTSTART;TZID=America/New_York:20290311T110000
DTEND;TZID=America/New_York:20290311T140000
DTSTAMP:20260424T032537
CREATED:20230711T182541Z
LAST-MODIFIED:20250806T192214Z
UID:10287243-1867921200-1867932000@stmichaels-litchfield.org
SUMMARY:Coffee and Fellowship in the Community House
DESCRIPTION:
URL:https://stmichaels-litchfield.org/event/coffee-and-congregation-in-the-community-house/2029-03-11/
LOCATION:Community House in Library from April 9th forward
CATEGORIES:Church Event
END:VEVENT
BEGIN:VEVENT
DTSTART;TZID=America/New_York:20290311T112000
DTEND;TZID=America/New_York:20290311T123000
DTSTAMP:20260424T032537
CREATED:20260408T170910Z
LAST-MODIFIED:20260408T170910Z
UID:10296078-1867922400-1867926600@stmichaels-litchfield.org
SUMMARY:Vestry Meeting
DESCRIPTION:
URL:https://stmichaels-litchfield.org/event/vestry-meeting-4/2029-03-11/
CATEGORIES:Church Event,Parish Events
END:VEVENT
BEGIN:VEVENT
DTSTART;TZID=America/New_York:20290311T190000
DTEND;TZID=America/New_York:20290311T200000
DTSTAMP:20260424T032537
CREATED:20230619T142544Z
LAST-MODIFIED:20260416T160049Z
UID:10296142-1867950000-1867953600@stmichaels-litchfield.org
SUMMARY:AA Meeting in Community House
DESCRIPTION:
URL:https://stmichaels-litchfield.org/event/aa-meeting-in-community-house/2029-03-11/
LOCATION:Community House in Library from April 9th forward
END:VEVENT
BEGIN:VEVENT
DTSTART;VALUE=DATE:20290312
DTEND;VALUE=DATE:20290313
DTSTAMP:20260424T032537
CREATED:20260128T181321Z
LAST-MODIFIED:20260128T181322Z
UID:10291303-1867968000-1868054399@stmichaels-litchfield.org
SUMMARY:Church Office Closed
DESCRIPTION:
URL:https://stmichaels-litchfield.org/event/summer-schedule-church-office-closed-2-2-2-3/2029-03-12/
LOCATION:Church Office\, 25 South Street\, Litchfield\, CT\, 06759\, United States
CATEGORIES:Church Office Event
END:VEVENT
BEGIN:VEVENT
DTSTART;TZID=America/New_York:20290312T070000
DTEND;TZID=America/New_York:20290312T073000
DTSTAMP:20260424T032537
CREATED:20230606T184551Z
LAST-MODIFIED:20230619T142647Z
UID:10286968-1867993200-1867995000@stmichaels-litchfield.org
SUMMARY:AA Meeting in the Parish House Library
DESCRIPTION:
URL:https://stmichaels-litchfield.org/event/aa-meeting-in-the-library/2029-03-12/
LOCATION:Parish House Library\, 25 South Street\, Litchfield\, CT\, 06759\, United States
CATEGORIES:AA/NA Events
END:VEVENT
BEGIN:VEVENT
DTSTART;TZID=America/New_York:20290312T200000
DTEND;TZID=America/New_York:20290312T213000
DTSTAMP:20260424T032537
CREATED:20260218T173517Z
LAST-MODIFIED:20260218T173517Z
UID:10292726-1868040000-1868045400@stmichaels-litchfield.org
SUMMARY:AA meeting in the Community House
DESCRIPTION:
URL:https://stmichaels-litchfield.org/event/aa-meeting-in-the-community-house-2/2029-03-12/
END:VEVENT
BEGIN:VEVENT
DTSTART;TZID=America/New_York:20290313T093000
DTEND;TZID=America/New_York:20290313T143000
DTSTAMP:20260424T032537
CREATED:20260128T181432Z
LAST-MODIFIED:20260128T181726Z
UID:10292075-1868088600-1868106600@stmichaels-litchfield.org
SUMMARY:Church Office Open
DESCRIPTION:
URL:https://stmichaels-litchfield.org/event/church-office-open-14/2029-03-13/
LOCATION:Church Office\, 25 South Street\, Litchfield\, CT\, 06759\, United States
CATEGORIES:Church Office Event
END:VEVENT
END:VCALENDAR