BEGIN:VCALENDAR
VERSION:2.0
PRODID:-//St. Michael&#039;s Church - ECPv6.15.20//NONSGML v1.0//EN
CALSCALE:GREGORIAN
METHOD:PUBLISH
X-ORIGINAL-URL:https://stmichaels-litchfield.org
X-WR-CALDESC:Events for St. Michael&#039;s Church
REFRESH-INTERVAL;VALUE=DURATION:PT1H
X-Robots-Tag:noindex
X-PUBLISHED-TTL:PT1H
BEGIN:VTIMEZONE
TZID:America/New_York
BEGIN:DAYLIGHT
TZOFFSETFROM:-0500
TZOFFSETTO:-0400
TZNAME:EDT
DTSTART:20280312T070000
END:DAYLIGHT
BEGIN:STANDARD
TZOFFSETFROM:-0400
TZOFFSETTO:-0500
TZNAME:EST
DTSTART:20281105T060000
END:STANDARD
BEGIN:DAYLIGHT
TZOFFSETFROM:-0500
TZOFFSETTO:-0400
TZNAME:EDT
DTSTART:20290311T070000
END:DAYLIGHT
BEGIN:STANDARD
TZOFFSETFROM:-0400
TZOFFSETTO:-0500
TZNAME:EST
DTSTART:20291104T060000
END:STANDARD
BEGIN:DAYLIGHT
TZOFFSETFROM:-0500
TZOFFSETTO:-0400
TZNAME:EDT
DTSTART:20300310T070000
END:DAYLIGHT
BEGIN:STANDARD
TZOFFSETFROM:-0400
TZOFFSETTO:-0500
TZNAME:EST
DTSTART:20301103T060000
END:STANDARD
END:VTIMEZONE
BEGIN:VEVENT
DTSTART;TZID=America/New_York:20290311T080000
DTEND;TZID=America/New_York:20290311T090000
DTSTAMP:20260424T050102
CREATED:20211108T181651Z
LAST-MODIFIED:20260327T134504Z
UID:10020553-1867910400-1867914000@stmichaels-litchfield.org
SUMMARY:Eucharist\, Rite I
DESCRIPTION:Spoken\, no music
URL:https://stmichaels-litchfield.org/event/sunday-eucharist/2029-03-11/
LOCATION:Chapel\, 25 South Street\, Litchfield\, CT\, 06759\, United States
CATEGORIES:Church Event,Parish Events
END:VEVENT
BEGIN:VEVENT
DTSTART;TZID=America/New_York:20290311T100000
DTEND;TZID=America/New_York:20290311T110000
DTSTAMP:20260424T050102
CREATED:20250403T150154Z
LAST-MODIFIED:20260422T181447Z
UID:10020639-1867917600-1867921200@stmichaels-litchfield.org
SUMMARY:Sunday Eucharist\, Rite II
DESCRIPTION:Rite II with music \nFollowed by Coffee Hour in the Community House
URL:https://stmichaels-litchfield.org/event/sunday-eucharist-2-3/2029-03-11/
LOCATION:Church\, 25 South Street\, Litchfield\, CT\, 06759\, United States
CATEGORIES:Church Event,Parish Events
END:VEVENT
BEGIN:VEVENT
DTSTART;TZID=America/New_York:20290311T110000
DTEND;TZID=America/New_York:20290311T140000
DTSTAMP:20260424T050102
CREATED:20230711T182541Z
LAST-MODIFIED:20250806T192214Z
UID:10287243-1867921200-1867932000@stmichaels-litchfield.org
SUMMARY:Coffee and Fellowship in the Community House
DESCRIPTION:
URL:https://stmichaels-litchfield.org/event/coffee-and-congregation-in-the-community-house/2029-03-11/
LOCATION:Community House in Library from April 9th forward
CATEGORIES:Church Event
END:VEVENT
BEGIN:VEVENT
DTSTART;TZID=America/New_York:20290311T112000
DTEND;TZID=America/New_York:20290311T123000
DTSTAMP:20260424T050102
CREATED:20260408T170910Z
LAST-MODIFIED:20260408T170910Z
UID:10296078-1867922400-1867926600@stmichaels-litchfield.org
SUMMARY:Vestry Meeting
DESCRIPTION:
URL:https://stmichaels-litchfield.org/event/vestry-meeting-4/2029-03-11/
CATEGORIES:Church Event,Parish Events
END:VEVENT
BEGIN:VEVENT
DTSTART;TZID=America/New_York:20290311T190000
DTEND;TZID=America/New_York:20290311T200000
DTSTAMP:20260424T050102
CREATED:20230619T142544Z
LAST-MODIFIED:20260416T160049Z
UID:10296142-1867950000-1867953600@stmichaels-litchfield.org
SUMMARY:AA Meeting in Community House
DESCRIPTION:
URL:https://stmichaels-litchfield.org/event/aa-meeting-in-community-house/2029-03-11/
LOCATION:Community House in Library from April 9th forward
END:VEVENT
BEGIN:VEVENT
DTSTART;VALUE=DATE:20290312
DTEND;VALUE=DATE:20290313
DTSTAMP:20260424T050102
CREATED:20260128T181321Z
LAST-MODIFIED:20260128T181322Z
UID:10291303-1867968000-1868054399@stmichaels-litchfield.org
SUMMARY:Church Office Closed
DESCRIPTION:
URL:https://stmichaels-litchfield.org/event/summer-schedule-church-office-closed-2-2-2-3/2029-03-12/
LOCATION:Church Office\, 25 South Street\, Litchfield\, CT\, 06759\, United States
CATEGORIES:Church Office Event
END:VEVENT
BEGIN:VEVENT
DTSTART;TZID=America/New_York:20290312T070000
DTEND;TZID=America/New_York:20290312T073000
DTSTAMP:20260424T050102
CREATED:20230606T184551Z
LAST-MODIFIED:20230619T142647Z
UID:10286968-1867993200-1867995000@stmichaels-litchfield.org
SUMMARY:AA Meeting in the Parish House Library
DESCRIPTION:
URL:https://stmichaels-litchfield.org/event/aa-meeting-in-the-library/2029-03-12/
LOCATION:Parish House Library\, 25 South Street\, Litchfield\, CT\, 06759\, United States
CATEGORIES:AA/NA Events
END:VEVENT
BEGIN:VEVENT
DTSTART;TZID=America/New_York:20290312T200000
DTEND;TZID=America/New_York:20290312T213000
DTSTAMP:20260424T050102
CREATED:20260218T173517Z
LAST-MODIFIED:20260218T173517Z
UID:10292726-1868040000-1868045400@stmichaels-litchfield.org
SUMMARY:AA meeting in the Community House
DESCRIPTION:
URL:https://stmichaels-litchfield.org/event/aa-meeting-in-the-community-house-2/2029-03-12/
END:VEVENT
BEGIN:VEVENT
DTSTART;TZID=America/New_York:20290313T093000
DTEND;TZID=America/New_York:20290313T143000
DTSTAMP:20260424T050103
CREATED:20260128T181432Z
LAST-MODIFIED:20260128T181726Z
UID:10292075-1868088600-1868106600@stmichaels-litchfield.org
SUMMARY:Church Office Open
DESCRIPTION:
URL:https://stmichaels-litchfield.org/event/church-office-open-14/2029-03-13/
LOCATION:Church Office\, 25 South Street\, Litchfield\, CT\, 06759\, United States
CATEGORIES:Church Office Event
END:VEVENT
BEGIN:VEVENT
DTSTART;TZID=America/New_York:20290313T120000
DTEND;TZID=America/New_York:20290313T130000
DTSTAMP:20260424T050103
CREATED:20260223T205039Z
LAST-MODIFIED:20260223T205039Z
UID:10293201-1868097600-1868101200@stmichaels-litchfield.org
SUMMARY:Lunch with Meredith
DESCRIPTION:
URL:https://stmichaels-litchfield.org/event/lunch-with-meredith-2/2029-03-13/
LOCATION:Community House in Library from April 9th forward
CATEGORIES:Church Event,Parish Events
END:VEVENT
BEGIN:VEVENT
DTSTART;TZID=America/New_York:20290313T151500
DTEND;TZID=America/New_York:20290313T163000
DTSTAMP:20260424T050103
CREATED:20260223T204456Z
LAST-MODIFIED:20260304T185946Z
UID:10293589-1868109300-1868113800@stmichaels-litchfield.org
SUMMARY:Property Committee meeting in Parish House Library
DESCRIPTION:
URL:https://stmichaels-litchfield.org/event/property-committee-meeting-in-parish-house-library-4/2029-03-13/
LOCATION:Parish House Library\, 25 South Street\, Litchfield\, CT\, 06759\, United States
CATEGORIES:Church Event
END:VEVENT
BEGIN:VEVENT
DTSTART;TZID=America/New_York:20290313T160000
DTEND;TZID=America/New_York:20290313T173000
DTSTAMP:20260424T050103
CREATED:20260331T205128Z
LAST-MODIFIED:20260331T205254Z
UID:10294850-1868112000-1868117400@stmichaels-litchfield.org
SUMMARY:Priest Search Committee
DESCRIPTION:
URL:https://stmichaels-litchfield.org/event/priest-search-committee-3-2-5/2029-03-13/
LOCATION:Parish House Library\, 25 South Street\, Litchfield\, CT\, 06759\, United States
END:VEVENT
BEGIN:VEVENT
DTSTART;TZID=America/New_York:20290313T190000
DTEND;TZID=America/New_York:20290313T200000
DTSTAMP:20260424T050103
CREATED:20211108T175914Z
LAST-MODIFIED:20260130T014621Z
UID:10286659-1868122800-1868126400@stmichaels-litchfield.org
SUMMARY:AA Meeting in Community House
DESCRIPTION:
URL:https://stmichaels-litchfield.org/event/aa-group-in-community-house-2/2029-03-13/
LOCATION:Community House in Library from April 9th forward
CATEGORIES:AA/NA Events
END:VEVENT
BEGIN:VEVENT
DTSTART;TZID=America/New_York:20290314T070000
DTEND;TZID=America/New_York:20290314T073000
DTSTAMP:20260424T050103
CREATED:20230606T184551Z
LAST-MODIFIED:20230619T142647Z
UID:10286969-1868166000-1868167800@stmichaels-litchfield.org
SUMMARY:AA Meeting in the Parish House Library
DESCRIPTION:
URL:https://stmichaels-litchfield.org/event/aa-meeting-in-the-library/2029-03-14/
LOCATION:Parish House Library\, 25 South Street\, Litchfield\, CT\, 06759\, United States
CATEGORIES:AA/NA Events
END:VEVENT
BEGIN:VEVENT
DTSTART;TZID=America/New_York:20290314T083000
DTEND;TZID=America/New_York:20290314T110000
DTSTAMP:20260424T050103
CREATED:20250109T152013Z
LAST-MODIFIED:20250109T152013Z
UID:10019594-1868171400-1868180400@stmichaels-litchfield.org
SUMMARY:Greenwoods Counseling
DESCRIPTION:
URL:https://stmichaels-litchfield.org/event/greenwoods-counseling-7/2029-03-14/
CATEGORIES:Greenwoods Counseling
END:VEVENT
BEGIN:VEVENT
DTSTART;TZID=America/New_York:20290314T093000
DTEND;TZID=America/New_York:20290314T143000
DTSTAMP:20260424T050103
CREATED:20260128T181432Z
LAST-MODIFIED:20260128T181726Z
UID:10292076-1868175000-1868193000@stmichaels-litchfield.org
SUMMARY:Church Office Open
DESCRIPTION:
URL:https://stmichaels-litchfield.org/event/church-office-open-14/2029-03-14/
LOCATION:Church Office\, 25 South Street\, Litchfield\, CT\, 06759\, United States
CATEGORIES:Church Office Event
END:VEVENT
BEGIN:VEVENT
DTSTART;TZID=America/New_York:20290314T173000
DTEND;TZID=America/New_York:20290314T180000
DTSTAMP:20260424T050103
CREATED:20260327T155546Z
LAST-MODIFIED:20260422T175057Z
UID:10294591-1868203800-1868205600@stmichaels-litchfield.org
SUMMARY:Chanted Evening Prayer
DESCRIPTION:
URL:https://stmichaels-litchfield.org/event/chanted-evening-prayer-3/2029-03-14/
LOCATION:Chapel\, 25 South Street\, Litchfield\, CT\, 06759\, United States
CATEGORIES:Church Event
END:VEVENT
BEGIN:VEVENT
DTSTART;TZID=America/New_York:20290314T193000
DTEND;TZID=America/New_York:20290314T210000
DTSTAMP:20260424T050103
CREATED:20211108T180816Z
LAST-MODIFIED:20230714T003135Z
UID:10286759-1868211000-1868216400@stmichaels-litchfield.org
SUMMARY:NA meeting in Community House
DESCRIPTION:
URL:https://stmichaels-litchfield.org/event/narcotics-anonymous/2029-03-14/
LOCATION:Community House in Library from April 9th forward
CATEGORIES:AA/NA Events
END:VEVENT
BEGIN:VEVENT
DTSTART;TZID=America/New_York:20290315T093000
DTEND;TZID=America/New_York:20290315T143000
DTSTAMP:20260424T050103
CREATED:20260128T181432Z
LAST-MODIFIED:20260128T181726Z
UID:10292077-1868261400-1868279400@stmichaels-litchfield.org
SUMMARY:Church Office Open
DESCRIPTION:
URL:https://stmichaels-litchfield.org/event/church-office-open-14/2029-03-15/
LOCATION:Church Office\, 25 South Street\, Litchfield\, CT\, 06759\, United States
CATEGORIES:Church Office Event
END:VEVENT
BEGIN:VEVENT
DTSTART;TZID=America/New_York:20290316T070000
DTEND;TZID=America/New_York:20290316T073000
DTSTAMP:20260424T050103
CREATED:20230606T184551Z
LAST-MODIFIED:20230619T142647Z
UID:10286970-1868338800-1868340600@stmichaels-litchfield.org
SUMMARY:AA Meeting in the Parish House Library
DESCRIPTION:
URL:https://stmichaels-litchfield.org/event/aa-meeting-in-the-library/2029-03-16/
LOCATION:Parish House Library\, 25 South Street\, Litchfield\, CT\, 06759\, United States
CATEGORIES:AA/NA Events
END:VEVENT
BEGIN:VEVENT
DTSTART;TZID=America/New_York:20290316T093000
DTEND;TZID=America/New_York:20290316T143000
DTSTAMP:20260424T050103
CREATED:20260128T181432Z
LAST-MODIFIED:20260128T181726Z
UID:10292078-1868347800-1868365800@stmichaels-litchfield.org
SUMMARY:Church Office Open
DESCRIPTION:
URL:https://stmichaels-litchfield.org/event/church-office-open-14/2029-03-16/
LOCATION:Church Office\, 25 South Street\, Litchfield\, CT\, 06759\, United States
CATEGORIES:Church Office Event
END:VEVENT
BEGIN:VEVENT
DTSTART;TZID=America/New_York:20290318T080000
DTEND;TZID=America/New_York:20290318T090000
DTSTAMP:20260424T050103
CREATED:20211108T181651Z
LAST-MODIFIED:20260327T134504Z
UID:10020554-1868515200-1868518800@stmichaels-litchfield.org
SUMMARY:Eucharist\, Rite I
DESCRIPTION:Spoken\, no music
URL:https://stmichaels-litchfield.org/event/sunday-eucharist/2029-03-18/
LOCATION:Chapel\, 25 South Street\, Litchfield\, CT\, 06759\, United States
CATEGORIES:Church Event,Parish Events
END:VEVENT
BEGIN:VEVENT
DTSTART;TZID=America/New_York:20290318T100000
DTEND;TZID=America/New_York:20290318T110000
DTSTAMP:20260424T050103
CREATED:20250403T150154Z
LAST-MODIFIED:20260422T181447Z
UID:10020640-1868522400-1868526000@stmichaels-litchfield.org
SUMMARY:Sunday Eucharist\, Rite II
DESCRIPTION:Rite II with music \nFollowed by Coffee Hour in the Community House
URL:https://stmichaels-litchfield.org/event/sunday-eucharist-2-3/2029-03-18/
LOCATION:Church\, 25 South Street\, Litchfield\, CT\, 06759\, United States
CATEGORIES:Church Event,Parish Events
END:VEVENT
BEGIN:VEVENT
DTSTART;TZID=America/New_York:20290318T110000
DTEND;TZID=America/New_York:20290318T140000
DTSTAMP:20260424T050103
CREATED:20230711T182541Z
LAST-MODIFIED:20250806T192214Z
UID:10287244-1868526000-1868536800@stmichaels-litchfield.org
SUMMARY:Coffee and Fellowship in the Community House
DESCRIPTION:
URL:https://stmichaels-litchfield.org/event/coffee-and-congregation-in-the-community-house/2029-03-18/
LOCATION:Community House in Library from April 9th forward
CATEGORIES:Church Event
END:VEVENT
BEGIN:VEVENT
DTSTART;TZID=America/New_York:20290318T190000
DTEND;TZID=America/New_York:20290318T200000
DTSTAMP:20260424T050103
CREATED:20230619T142544Z
LAST-MODIFIED:20260416T160049Z
UID:10296143-1868554800-1868558400@stmichaels-litchfield.org
SUMMARY:AA Meeting in Community House
DESCRIPTION:
URL:https://stmichaels-litchfield.org/event/aa-meeting-in-community-house/2029-03-18/
LOCATION:Community House in Library from April 9th forward
END:VEVENT
BEGIN:VEVENT
DTSTART;VALUE=DATE:20290319
DTEND;VALUE=DATE:20290320
DTSTAMP:20260424T050103
CREATED:20260128T181321Z
LAST-MODIFIED:20260128T181322Z
UID:10291304-1868572800-1868659199@stmichaels-litchfield.org
SUMMARY:Church Office Closed
DESCRIPTION:
URL:https://stmichaels-litchfield.org/event/summer-schedule-church-office-closed-2-2-2-3/2029-03-19/
LOCATION:Church Office\, 25 South Street\, Litchfield\, CT\, 06759\, United States
CATEGORIES:Church Office Event
END:VEVENT
BEGIN:VEVENT
DTSTART;TZID=America/New_York:20290319T070000
DTEND;TZID=America/New_York:20290319T073000
DTSTAMP:20260424T050103
CREATED:20230606T184551Z
LAST-MODIFIED:20230619T142647Z
UID:10286971-1868598000-1868599800@stmichaels-litchfield.org
SUMMARY:AA Meeting in the Parish House Library
DESCRIPTION:
URL:https://stmichaels-litchfield.org/event/aa-meeting-in-the-library/2029-03-19/
LOCATION:Parish House Library\, 25 South Street\, Litchfield\, CT\, 06759\, United States
CATEGORIES:AA/NA Events
END:VEVENT
BEGIN:VEVENT
DTSTART;TZID=America/New_York:20290319T200000
DTEND;TZID=America/New_York:20290319T213000
DTSTAMP:20260424T050103
CREATED:20260218T173517Z
LAST-MODIFIED:20260218T173517Z
UID:10292727-1868644800-1868650200@stmichaels-litchfield.org
SUMMARY:AA meeting in the Community House
DESCRIPTION:
URL:https://stmichaels-litchfield.org/event/aa-meeting-in-the-community-house-2/2029-03-19/
END:VEVENT
BEGIN:VEVENT
DTSTART;TZID=America/New_York:20290320T093000
DTEND;TZID=America/New_York:20290320T143000
DTSTAMP:20260424T050103
CREATED:20260128T181432Z
LAST-MODIFIED:20260128T181726Z
UID:10292079-1868693400-1868711400@stmichaels-litchfield.org
SUMMARY:Church Office Open
DESCRIPTION:
URL:https://stmichaels-litchfield.org/event/church-office-open-14/2029-03-20/
LOCATION:Church Office\, 25 South Street\, Litchfield\, CT\, 06759\, United States
CATEGORIES:Church Office Event
END:VEVENT
BEGIN:VEVENT
DTSTART;TZID=America/New_York:20290320T160000
DTEND;TZID=America/New_York:20290320T173000
DTSTAMP:20260424T050103
CREATED:20260331T205128Z
LAST-MODIFIED:20260331T205254Z
UID:10294851-1868716800-1868722200@stmichaels-litchfield.org
SUMMARY:Priest Search Committee
DESCRIPTION:
URL:https://stmichaels-litchfield.org/event/priest-search-committee-3-2-5/2029-03-20/
LOCATION:Parish House Library\, 25 South Street\, Litchfield\, CT\, 06759\, United States
END:VEVENT
END:VCALENDAR