BEGIN:VCALENDAR
VERSION:2.0
PRODID:-//St. Michael&#039;s Church - ECPv6.15.20//NONSGML v1.0//EN
CALSCALE:GREGORIAN
METHOD:PUBLISH
X-ORIGINAL-URL:https://stmichaels-litchfield.org
X-WR-CALDESC:Events for St. Michael&#039;s Church
REFRESH-INTERVAL;VALUE=DURATION:PT1H
X-Robots-Tag:noindex
X-PUBLISHED-TTL:PT1H
BEGIN:VTIMEZONE
TZID:America/New_York
BEGIN:DAYLIGHT
TZOFFSETFROM:-0500
TZOFFSETTO:-0400
TZNAME:EDT
DTSTART:20280312T070000
END:DAYLIGHT
BEGIN:STANDARD
TZOFFSETFROM:-0400
TZOFFSETTO:-0500
TZNAME:EST
DTSTART:20281105T060000
END:STANDARD
BEGIN:DAYLIGHT
TZOFFSETFROM:-0500
TZOFFSETTO:-0400
TZNAME:EDT
DTSTART:20290311T070000
END:DAYLIGHT
BEGIN:STANDARD
TZOFFSETFROM:-0400
TZOFFSETTO:-0500
TZNAME:EST
DTSTART:20291104T060000
END:STANDARD
BEGIN:DAYLIGHT
TZOFFSETFROM:-0500
TZOFFSETTO:-0400
TZNAME:EDT
DTSTART:20300310T070000
END:DAYLIGHT
BEGIN:STANDARD
TZOFFSETFROM:-0400
TZOFFSETTO:-0500
TZNAME:EST
DTSTART:20301103T060000
END:STANDARD
END:VTIMEZONE
BEGIN:VEVENT
DTSTART;TZID=America/New_York:20290424T093000
DTEND;TZID=America/New_York:20290424T143000
DTSTAMP:20260424T080040
CREATED:20260128T181432Z
LAST-MODIFIED:20260128T181726Z
UID:10292099-1871717400-1871735400@stmichaels-litchfield.org
SUMMARY:Church Office Open
DESCRIPTION:
URL:https://stmichaels-litchfield.org/event/church-office-open-14/2029-04-24/
LOCATION:Church Office\, 25 South Street\, Litchfield\, CT\, 06759\, United States
CATEGORIES:Church Office Event
END:VEVENT
BEGIN:VEVENT
DTSTART;TZID=America/New_York:20290424T160000
DTEND;TZID=America/New_York:20290424T173000
DTSTAMP:20260424T080040
CREATED:20260331T205128Z
LAST-MODIFIED:20260331T205254Z
UID:10294856-1871740800-1871746200@stmichaels-litchfield.org
SUMMARY:Priest Search Committee
DESCRIPTION:
URL:https://stmichaels-litchfield.org/event/priest-search-committee-3-2-5/2029-04-24/
LOCATION:Parish House Library\, 25 South Street\, Litchfield\, CT\, 06759\, United States
END:VEVENT
BEGIN:VEVENT
DTSTART;TZID=America/New_York:20290424T190000
DTEND;TZID=America/New_York:20290424T200000
DTSTAMP:20260424T080040
CREATED:20211108T175914Z
LAST-MODIFIED:20260130T014621Z
UID:10286665-1871751600-1871755200@stmichaels-litchfield.org
SUMMARY:AA Meeting in Community House
DESCRIPTION:
URL:https://stmichaels-litchfield.org/event/aa-group-in-community-house-2/2029-04-24/
LOCATION:Community House in Library from April 9th forward
CATEGORIES:AA/NA Events
END:VEVENT
BEGIN:VEVENT
DTSTART;TZID=America/New_York:20290425T070000
DTEND;TZID=America/New_York:20290425T073000
DTSTAMP:20260424T080040
CREATED:20230606T184551Z
LAST-MODIFIED:20230619T142647Z
UID:10286987-1871794800-1871796600@stmichaels-litchfield.org
SUMMARY:AA Meeting in the Parish House Library
DESCRIPTION:
URL:https://stmichaels-litchfield.org/event/aa-meeting-in-the-library/2029-04-25/
LOCATION:Parish House Library\, 25 South Street\, Litchfield\, CT\, 06759\, United States
CATEGORIES:AA/NA Events
END:VEVENT
BEGIN:VEVENT
DTSTART;TZID=America/New_York:20290425T083000
DTEND;TZID=America/New_York:20290425T110000
DTSTAMP:20260424T080040
CREATED:20250109T152013Z
LAST-MODIFIED:20250109T152013Z
UID:10019600-1871800200-1871809200@stmichaels-litchfield.org
SUMMARY:Greenwoods Counseling
DESCRIPTION:
URL:https://stmichaels-litchfield.org/event/greenwoods-counseling-7/2029-04-25/
CATEGORIES:Greenwoods Counseling
END:VEVENT
BEGIN:VEVENT
DTSTART;TZID=America/New_York:20290425T093000
DTEND;TZID=America/New_York:20290425T143000
DTSTAMP:20260424T080040
CREATED:20260128T181432Z
LAST-MODIFIED:20260128T181726Z
UID:10292100-1871803800-1871821800@stmichaels-litchfield.org
SUMMARY:Church Office Open
DESCRIPTION:
URL:https://stmichaels-litchfield.org/event/church-office-open-14/2029-04-25/
LOCATION:Church Office\, 25 South Street\, Litchfield\, CT\, 06759\, United States
CATEGORIES:Church Office Event
END:VEVENT
BEGIN:VEVENT
DTSTART;TZID=America/New_York:20290425T173000
DTEND;TZID=America/New_York:20290425T180000
DTSTAMP:20260424T080040
CREATED:20260327T155546Z
LAST-MODIFIED:20260422T175057Z
UID:10294597-1871832600-1871834400@stmichaels-litchfield.org
SUMMARY:Chanted Evening Prayer
DESCRIPTION:
URL:https://stmichaels-litchfield.org/event/chanted-evening-prayer-3/2029-04-25/
LOCATION:Chapel\, 25 South Street\, Litchfield\, CT\, 06759\, United States
CATEGORIES:Church Event
END:VEVENT
BEGIN:VEVENT
DTSTART;TZID=America/New_York:20290425T193000
DTEND;TZID=America/New_York:20290425T210000
DTSTAMP:20260424T080040
CREATED:20211108T180816Z
LAST-MODIFIED:20230714T003135Z
UID:10286765-1871839800-1871845200@stmichaels-litchfield.org
SUMMARY:NA meeting in Community House
DESCRIPTION:
URL:https://stmichaels-litchfield.org/event/narcotics-anonymous/2029-04-25/
LOCATION:Community House in Library from April 9th forward
CATEGORIES:AA/NA Events
END:VEVENT
BEGIN:VEVENT
DTSTART;TZID=America/New_York:20290426T093000
DTEND;TZID=America/New_York:20290426T143000
DTSTAMP:20260424T080040
CREATED:20260128T181432Z
LAST-MODIFIED:20260128T181726Z
UID:10292101-1871890200-1871908200@stmichaels-litchfield.org
SUMMARY:Church Office Open
DESCRIPTION:
URL:https://stmichaels-litchfield.org/event/church-office-open-14/2029-04-26/
LOCATION:Church Office\, 25 South Street\, Litchfield\, CT\, 06759\, United States
CATEGORIES:Church Office Event
END:VEVENT
BEGIN:VEVENT
DTSTART;TZID=America/New_York:20290427T070000
DTEND;TZID=America/New_York:20290427T073000
DTSTAMP:20260424T080040
CREATED:20230606T184551Z
LAST-MODIFIED:20230619T142647Z
UID:10286988-1871967600-1871969400@stmichaels-litchfield.org
SUMMARY:AA Meeting in the Parish House Library
DESCRIPTION:
URL:https://stmichaels-litchfield.org/event/aa-meeting-in-the-library/2029-04-27/
LOCATION:Parish House Library\, 25 South Street\, Litchfield\, CT\, 06759\, United States
CATEGORIES:AA/NA Events
END:VEVENT
BEGIN:VEVENT
DTSTART;TZID=America/New_York:20290427T093000
DTEND;TZID=America/New_York:20290427T143000
DTSTAMP:20260424T080040
CREATED:20260128T181432Z
LAST-MODIFIED:20260128T181726Z
UID:10292102-1871976600-1871994600@stmichaels-litchfield.org
SUMMARY:Church Office Open
DESCRIPTION:
URL:https://stmichaels-litchfield.org/event/church-office-open-14/2029-04-27/
LOCATION:Church Office\, 25 South Street\, Litchfield\, CT\, 06759\, United States
CATEGORIES:Church Office Event
END:VEVENT
BEGIN:VEVENT
DTSTART;TZID=America/New_York:20290429T080000
DTEND;TZID=America/New_York:20290429T090000
DTSTAMP:20260424T080040
CREATED:20211108T181651Z
LAST-MODIFIED:20260327T134504Z
UID:10020560-1872144000-1872147600@stmichaels-litchfield.org
SUMMARY:Eucharist\, Rite I
DESCRIPTION:Spoken\, no music
URL:https://stmichaels-litchfield.org/event/sunday-eucharist/2029-04-29/
LOCATION:Chapel\, 25 South Street\, Litchfield\, CT\, 06759\, United States
CATEGORIES:Church Event,Parish Events
END:VEVENT
BEGIN:VEVENT
DTSTART;TZID=America/New_York:20290429T100000
DTEND;TZID=America/New_York:20290429T110000
DTSTAMP:20260424T080040
CREATED:20250403T150154Z
LAST-MODIFIED:20260422T181447Z
UID:10020646-1872151200-1872154800@stmichaels-litchfield.org
SUMMARY:Sunday Eucharist\, Rite II
DESCRIPTION:Rite II with music \nFollowed by Coffee Hour in the Community House
URL:https://stmichaels-litchfield.org/event/sunday-eucharist-2-3/2029-04-29/
LOCATION:Church\, 25 South Street\, Litchfield\, CT\, 06759\, United States
CATEGORIES:Church Event,Parish Events
END:VEVENT
BEGIN:VEVENT
DTSTART;TZID=America/New_York:20290429T110000
DTEND;TZID=America/New_York:20290429T140000
DTSTAMP:20260424T080040
CREATED:20230711T182541Z
LAST-MODIFIED:20250806T192214Z
UID:10287250-1872154800-1872165600@stmichaels-litchfield.org
SUMMARY:Coffee and Fellowship in the Community House
DESCRIPTION:
URL:https://stmichaels-litchfield.org/event/coffee-and-congregation-in-the-community-house/2029-04-29/
LOCATION:Community House in Library from April 9th forward
CATEGORIES:Church Event
END:VEVENT
BEGIN:VEVENT
DTSTART;TZID=America/New_York:20290429T190000
DTEND;TZID=America/New_York:20290429T200000
DTSTAMP:20260424T080040
CREATED:20230619T142544Z
LAST-MODIFIED:20260416T160049Z
UID:10296149-1872183600-1872187200@stmichaels-litchfield.org
SUMMARY:AA Meeting in Community House
DESCRIPTION:
URL:https://stmichaels-litchfield.org/event/aa-meeting-in-community-house/2029-04-29/
LOCATION:Community House in Library from April 9th forward
END:VEVENT
BEGIN:VEVENT
DTSTART;VALUE=DATE:20290430
DTEND;VALUE=DATE:20290501
DTSTAMP:20260424T080040
CREATED:20260128T181321Z
LAST-MODIFIED:20260128T181322Z
UID:10291310-1872201600-1872287999@stmichaels-litchfield.org
SUMMARY:Church Office Closed
DESCRIPTION:
URL:https://stmichaels-litchfield.org/event/summer-schedule-church-office-closed-2-2-2-3/2029-04-30/
LOCATION:Church Office\, 25 South Street\, Litchfield\, CT\, 06759\, United States
CATEGORIES:Church Office Event
END:VEVENT
BEGIN:VEVENT
DTSTART;TZID=America/New_York:20290430T070000
DTEND;TZID=America/New_York:20290430T073000
DTSTAMP:20260424T080040
CREATED:20230606T184551Z
LAST-MODIFIED:20230619T142647Z
UID:10286989-1872226800-1872228600@stmichaels-litchfield.org
SUMMARY:AA Meeting in the Parish House Library
DESCRIPTION:
URL:https://stmichaels-litchfield.org/event/aa-meeting-in-the-library/2029-04-30/
LOCATION:Parish House Library\, 25 South Street\, Litchfield\, CT\, 06759\, United States
CATEGORIES:AA/NA Events
END:VEVENT
BEGIN:VEVENT
DTSTART;TZID=America/New_York:20290430T200000
DTEND;TZID=America/New_York:20290430T213000
DTSTAMP:20260424T080040
CREATED:20260218T173517Z
LAST-MODIFIED:20260218T173517Z
UID:10292733-1872273600-1872279000@stmichaels-litchfield.org
SUMMARY:AA meeting in the Community House
DESCRIPTION:
URL:https://stmichaels-litchfield.org/event/aa-meeting-in-the-community-house-2/2029-04-30/
END:VEVENT
BEGIN:VEVENT
DTSTART;TZID=America/New_York:20290501T093000
DTEND;TZID=America/New_York:20290501T143000
DTSTAMP:20260424T080040
CREATED:20260128T181432Z
LAST-MODIFIED:20260128T181726Z
UID:10292103-1872322200-1872340200@stmichaels-litchfield.org
SUMMARY:Church Office Open
DESCRIPTION:
URL:https://stmichaels-litchfield.org/event/church-office-open-14/2029-05-01/
LOCATION:Church Office\, 25 South Street\, Litchfield\, CT\, 06759\, United States
CATEGORIES:Church Office Event
END:VEVENT
BEGIN:VEVENT
DTSTART;TZID=America/New_York:20290501T160000
DTEND;TZID=America/New_York:20290501T173000
DTSTAMP:20260424T080040
CREATED:20260331T205128Z
LAST-MODIFIED:20260331T205254Z
UID:10294857-1872345600-1872351000@stmichaels-litchfield.org
SUMMARY:Priest Search Committee
DESCRIPTION:
URL:https://stmichaels-litchfield.org/event/priest-search-committee-3-2-5/2029-05-01/
LOCATION:Parish House Library\, 25 South Street\, Litchfield\, CT\, 06759\, United States
END:VEVENT
BEGIN:VEVENT
DTSTART;TZID=America/New_York:20290501T171500
DTEND;TZID=America/New_York:20290501T183000
DTSTAMP:20260424T080040
CREATED:20231227T151453Z
LAST-MODIFIED:20260317T155826Z
UID:10293674-1872350100-1872354600@stmichaels-litchfield.org
SUMMARY:Property Committee Meeting in Parish House Library
DESCRIPTION:
URL:https://stmichaels-litchfield.org/event/property-committee-meeting-in-parish-house-library-3/2029-05-01/
LOCATION:Parish House Library\, 25 South Street\, Litchfield\, CT\, 06759\, United States
CATEGORIES:Church Event
END:VEVENT
BEGIN:VEVENT
DTSTART;TZID=America/New_York:20290501T190000
DTEND;TZID=America/New_York:20290501T200000
DTSTAMP:20260424T080040
CREATED:20211108T175914Z
LAST-MODIFIED:20260130T014621Z
UID:10286666-1872356400-1872360000@stmichaels-litchfield.org
SUMMARY:AA Meeting in Community House
DESCRIPTION:
URL:https://stmichaels-litchfield.org/event/aa-group-in-community-house-2/2029-05-01/
LOCATION:Community House in Library from April 9th forward
CATEGORIES:AA/NA Events
END:VEVENT
BEGIN:VEVENT
DTSTART;TZID=America/New_York:20290502T070000
DTEND;TZID=America/New_York:20290502T073000
DTSTAMP:20260424T080040
CREATED:20230606T184551Z
LAST-MODIFIED:20230619T142647Z
UID:10286990-1872399600-1872401400@stmichaels-litchfield.org
SUMMARY:AA Meeting in the Parish House Library
DESCRIPTION:
URL:https://stmichaels-litchfield.org/event/aa-meeting-in-the-library/2029-05-02/
LOCATION:Parish House Library\, 25 South Street\, Litchfield\, CT\, 06759\, United States
CATEGORIES:AA/NA Events
END:VEVENT
BEGIN:VEVENT
DTSTART;TZID=America/New_York:20290502T083000
DTEND;TZID=America/New_York:20290502T110000
DTSTAMP:20260424T080040
CREATED:20250109T152013Z
LAST-MODIFIED:20250109T152013Z
UID:10019601-1872405000-1872414000@stmichaels-litchfield.org
SUMMARY:Greenwoods Counseling
DESCRIPTION:
URL:https://stmichaels-litchfield.org/event/greenwoods-counseling-7/2029-05-02/
CATEGORIES:Greenwoods Counseling
END:VEVENT
BEGIN:VEVENT
DTSTART;TZID=America/New_York:20290502T093000
DTEND;TZID=America/New_York:20290502T143000
DTSTAMP:20260424T080040
CREATED:20260128T181432Z
LAST-MODIFIED:20260128T181726Z
UID:10292104-1872408600-1872426600@stmichaels-litchfield.org
SUMMARY:Church Office Open
DESCRIPTION:
URL:https://stmichaels-litchfield.org/event/church-office-open-14/2029-05-02/
LOCATION:Church Office\, 25 South Street\, Litchfield\, CT\, 06759\, United States
CATEGORIES:Church Office Event
END:VEVENT
BEGIN:VEVENT
DTSTART;TZID=America/New_York:20290502T173000
DTEND;TZID=America/New_York:20290502T180000
DTSTAMP:20260424T080040
CREATED:20260327T155546Z
LAST-MODIFIED:20260422T175057Z
UID:10294598-1872437400-1872439200@stmichaels-litchfield.org
SUMMARY:Chanted Evening Prayer
DESCRIPTION:
URL:https://stmichaels-litchfield.org/event/chanted-evening-prayer-3/2029-05-02/
LOCATION:Chapel\, 25 South Street\, Litchfield\, CT\, 06759\, United States
CATEGORIES:Church Event
END:VEVENT
BEGIN:VEVENT
DTSTART;TZID=America/New_York:20290502T193000
DTEND;TZID=America/New_York:20290502T210000
DTSTAMP:20260424T080040
CREATED:20211108T180816Z
LAST-MODIFIED:20230714T003135Z
UID:10286766-1872444600-1872450000@stmichaels-litchfield.org
SUMMARY:NA meeting in Community House
DESCRIPTION:
URL:https://stmichaels-litchfield.org/event/narcotics-anonymous/2029-05-02/
LOCATION:Community House in Library from April 9th forward
CATEGORIES:AA/NA Events
END:VEVENT
BEGIN:VEVENT
DTSTART;TZID=America/New_York:20290503T093000
DTEND;TZID=America/New_York:20290503T143000
DTSTAMP:20260424T080040
CREATED:20260128T181432Z
LAST-MODIFIED:20260128T181726Z
UID:10292105-1872495000-1872513000@stmichaels-litchfield.org
SUMMARY:Church Office Open
DESCRIPTION:
URL:https://stmichaels-litchfield.org/event/church-office-open-14/2029-05-03/
LOCATION:Church Office\, 25 South Street\, Litchfield\, CT\, 06759\, United States
CATEGORIES:Church Office Event
END:VEVENT
BEGIN:VEVENT
DTSTART;TZID=America/New_York:20290504T070000
DTEND;TZID=America/New_York:20290504T073000
DTSTAMP:20260424T080040
CREATED:20230606T184551Z
LAST-MODIFIED:20230619T142647Z
UID:10286991-1872572400-1872574200@stmichaels-litchfield.org
SUMMARY:AA Meeting in the Parish House Library
DESCRIPTION:
URL:https://stmichaels-litchfield.org/event/aa-meeting-in-the-library/2029-05-04/
LOCATION:Parish House Library\, 25 South Street\, Litchfield\, CT\, 06759\, United States
CATEGORIES:AA/NA Events
END:VEVENT
BEGIN:VEVENT
DTSTART;TZID=America/New_York:20290504T093000
DTEND;TZID=America/New_York:20290504T143000
DTSTAMP:20260424T080040
CREATED:20260128T181432Z
LAST-MODIFIED:20260128T181726Z
UID:10292106-1872581400-1872599400@stmichaels-litchfield.org
SUMMARY:Church Office Open
DESCRIPTION:
URL:https://stmichaels-litchfield.org/event/church-office-open-14/2029-05-04/
LOCATION:Church Office\, 25 South Street\, Litchfield\, CT\, 06759\, United States
CATEGORIES:Church Office Event
END:VEVENT
END:VCALENDAR