BEGIN:VCALENDAR
VERSION:2.0
PRODID:-//St. Michael&#039;s Church - ECPv6.15.20//NONSGML v1.0//EN
CALSCALE:GREGORIAN
METHOD:PUBLISH
X-ORIGINAL-URL:https://stmichaels-litchfield.org
X-WR-CALDESC:Events for St. Michael&#039;s Church
REFRESH-INTERVAL;VALUE=DURATION:PT1H
X-Robots-Tag:noindex
X-PUBLISHED-TTL:PT1H
BEGIN:VTIMEZONE
TZID:America/New_York
BEGIN:DAYLIGHT
TZOFFSETFROM:-0500
TZOFFSETTO:-0400
TZNAME:EDT
DTSTART:20280312T070000
END:DAYLIGHT
BEGIN:STANDARD
TZOFFSETFROM:-0400
TZOFFSETTO:-0500
TZNAME:EST
DTSTART:20281105T060000
END:STANDARD
BEGIN:DAYLIGHT
TZOFFSETFROM:-0500
TZOFFSETTO:-0400
TZNAME:EDT
DTSTART:20290311T070000
END:DAYLIGHT
BEGIN:STANDARD
TZOFFSETFROM:-0400
TZOFFSETTO:-0500
TZNAME:EST
DTSTART:20291104T060000
END:STANDARD
BEGIN:DAYLIGHT
TZOFFSETFROM:-0500
TZOFFSETTO:-0400
TZNAME:EDT
DTSTART:20300310T070000
END:DAYLIGHT
BEGIN:STANDARD
TZOFFSETFROM:-0400
TZOFFSETTO:-0500
TZNAME:EST
DTSTART:20301103T060000
END:STANDARD
END:VTIMEZONE
BEGIN:VEVENT
DTSTART;TZID=America/New_York:20290522T093000
DTEND;TZID=America/New_York:20290522T143000
DTSTAMP:20260424T113426
CREATED:20260128T181432Z
LAST-MODIFIED:20260128T181726Z
UID:10292115-1874136600-1874154600@stmichaels-litchfield.org
SUMMARY:Church Office Open
DESCRIPTION:
URL:https://stmichaels-litchfield.org/event/church-office-open-14/2029-05-22/
LOCATION:Church Office\, 25 South Street\, Litchfield\, CT\, 06759\, United States
CATEGORIES:Church Office Event
END:VEVENT
BEGIN:VEVENT
DTSTART;TZID=America/New_York:20290522T160000
DTEND;TZID=America/New_York:20290522T173000
DTSTAMP:20260424T113426
CREATED:20260331T205128Z
LAST-MODIFIED:20260331T205254Z
UID:10294860-1874160000-1874165400@stmichaels-litchfield.org
SUMMARY:Priest Search Committee
DESCRIPTION:
URL:https://stmichaels-litchfield.org/event/priest-search-committee-3-2-5/2029-05-22/
LOCATION:Parish House Library\, 25 South Street\, Litchfield\, CT\, 06759\, United States
END:VEVENT
BEGIN:VEVENT
DTSTART;TZID=America/New_York:20290522T190000
DTEND;TZID=America/New_York:20290522T200000
DTSTAMP:20260424T113426
CREATED:20211108T175914Z
LAST-MODIFIED:20260130T014621Z
UID:10286669-1874170800-1874174400@stmichaels-litchfield.org
SUMMARY:AA Meeting in Community House
DESCRIPTION:
URL:https://stmichaels-litchfield.org/event/aa-group-in-community-house-2/2029-05-22/
LOCATION:Community House in Library from April 9th forward
CATEGORIES:AA/NA Events
END:VEVENT
BEGIN:VEVENT
DTSTART;TZID=America/New_York:20290523T070000
DTEND;TZID=America/New_York:20290523T073000
DTSTAMP:20260424T113426
CREATED:20230606T184551Z
LAST-MODIFIED:20230619T142647Z
UID:10286999-1874214000-1874215800@stmichaels-litchfield.org
SUMMARY:AA Meeting in the Parish House Library
DESCRIPTION:
URL:https://stmichaels-litchfield.org/event/aa-meeting-in-the-library/2029-05-23/
LOCATION:Parish House Library\, 25 South Street\, Litchfield\, CT\, 06759\, United States
CATEGORIES:AA/NA Events
END:VEVENT
BEGIN:VEVENT
DTSTART;TZID=America/New_York:20290523T083000
DTEND;TZID=America/New_York:20290523T110000
DTSTAMP:20260424T113426
CREATED:20250109T152013Z
LAST-MODIFIED:20250109T152013Z
UID:10019604-1874219400-1874228400@stmichaels-litchfield.org
SUMMARY:Greenwoods Counseling
DESCRIPTION:
URL:https://stmichaels-litchfield.org/event/greenwoods-counseling-7/2029-05-23/
CATEGORIES:Greenwoods Counseling
END:VEVENT
BEGIN:VEVENT
DTSTART;TZID=America/New_York:20290523T093000
DTEND;TZID=America/New_York:20290523T143000
DTSTAMP:20260424T113426
CREATED:20260128T181432Z
LAST-MODIFIED:20260128T181726Z
UID:10292116-1874223000-1874241000@stmichaels-litchfield.org
SUMMARY:Church Office Open
DESCRIPTION:
URL:https://stmichaels-litchfield.org/event/church-office-open-14/2029-05-23/
LOCATION:Church Office\, 25 South Street\, Litchfield\, CT\, 06759\, United States
CATEGORIES:Church Office Event
END:VEVENT
BEGIN:VEVENT
DTSTART;TZID=America/New_York:20290523T173000
DTEND;TZID=America/New_York:20290523T180000
DTSTAMP:20260424T113426
CREATED:20260327T155546Z
LAST-MODIFIED:20260422T175057Z
UID:10294601-1874251800-1874253600@stmichaels-litchfield.org
SUMMARY:Chanted Evening Prayer
DESCRIPTION:
URL:https://stmichaels-litchfield.org/event/chanted-evening-prayer-3/2029-05-23/
LOCATION:Chapel\, 25 South Street\, Litchfield\, CT\, 06759\, United States
CATEGORIES:Church Event
END:VEVENT
BEGIN:VEVENT
DTSTART;TZID=America/New_York:20290523T193000
DTEND;TZID=America/New_York:20290523T210000
DTSTAMP:20260424T113426
CREATED:20211108T180816Z
LAST-MODIFIED:20230714T003135Z
UID:10286769-1874259000-1874264400@stmichaels-litchfield.org
SUMMARY:NA meeting in Community House
DESCRIPTION:
URL:https://stmichaels-litchfield.org/event/narcotics-anonymous/2029-05-23/
LOCATION:Community House in Library from April 9th forward
CATEGORIES:AA/NA Events
END:VEVENT
BEGIN:VEVENT
DTSTART;TZID=America/New_York:20290524T093000
DTEND;TZID=America/New_York:20290524T143000
DTSTAMP:20260424T113426
CREATED:20260128T181432Z
LAST-MODIFIED:20260128T181726Z
UID:10292117-1874309400-1874327400@stmichaels-litchfield.org
SUMMARY:Church Office Open
DESCRIPTION:
URL:https://stmichaels-litchfield.org/event/church-office-open-14/2029-05-24/
LOCATION:Church Office\, 25 South Street\, Litchfield\, CT\, 06759\, United States
CATEGORIES:Church Office Event
END:VEVENT
BEGIN:VEVENT
DTSTART;TZID=America/New_York:20290525T070000
DTEND;TZID=America/New_York:20290525T073000
DTSTAMP:20260424T113426
CREATED:20230606T184551Z
LAST-MODIFIED:20230619T142647Z
UID:10287000-1874386800-1874388600@stmichaels-litchfield.org
SUMMARY:AA Meeting in the Parish House Library
DESCRIPTION:
URL:https://stmichaels-litchfield.org/event/aa-meeting-in-the-library/2029-05-25/
LOCATION:Parish House Library\, 25 South Street\, Litchfield\, CT\, 06759\, United States
CATEGORIES:AA/NA Events
END:VEVENT
BEGIN:VEVENT
DTSTART;TZID=America/New_York:20290525T093000
DTEND;TZID=America/New_York:20290525T143000
DTSTAMP:20260424T113426
CREATED:20260128T181432Z
LAST-MODIFIED:20260128T181726Z
UID:10292118-1874395800-1874413800@stmichaels-litchfield.org
SUMMARY:Church Office Open
DESCRIPTION:
URL:https://stmichaels-litchfield.org/event/church-office-open-14/2029-05-25/
LOCATION:Church Office\, 25 South Street\, Litchfield\, CT\, 06759\, United States
CATEGORIES:Church Office Event
END:VEVENT
BEGIN:VEVENT
DTSTART;TZID=America/New_York:20290527T080000
DTEND;TZID=America/New_York:20290527T090000
DTSTAMP:20260424T113426
CREATED:20211108T181651Z
LAST-MODIFIED:20260327T134504Z
UID:10020564-1874563200-1874566800@stmichaels-litchfield.org
SUMMARY:Eucharist\, Rite I
DESCRIPTION:Spoken\, no music
URL:https://stmichaels-litchfield.org/event/sunday-eucharist/2029-05-27/
LOCATION:Chapel\, 25 South Street\, Litchfield\, CT\, 06759\, United States
CATEGORIES:Church Event,Parish Events
END:VEVENT
BEGIN:VEVENT
DTSTART;TZID=America/New_York:20290527T100000
DTEND;TZID=America/New_York:20290527T110000
DTSTAMP:20260424T113426
CREATED:20250403T150154Z
LAST-MODIFIED:20260422T181447Z
UID:10020650-1874570400-1874574000@stmichaels-litchfield.org
SUMMARY:Sunday Eucharist\, Rite II
DESCRIPTION:Rite II with music \nFollowed by Coffee Hour in the Community House
URL:https://stmichaels-litchfield.org/event/sunday-eucharist-2-3/2029-05-27/
LOCATION:Church\, 25 South Street\, Litchfield\, CT\, 06759\, United States
CATEGORIES:Church Event,Parish Events
END:VEVENT
BEGIN:VEVENT
DTSTART;TZID=America/New_York:20290527T110000
DTEND;TZID=America/New_York:20290527T140000
DTSTAMP:20260424T113426
CREATED:20230711T182541Z
LAST-MODIFIED:20250806T192214Z
UID:10287254-1874574000-1874584800@stmichaels-litchfield.org
SUMMARY:Coffee and Fellowship in the Community House
DESCRIPTION:
URL:https://stmichaels-litchfield.org/event/coffee-and-congregation-in-the-community-house/2029-05-27/
LOCATION:Community House in Library from April 9th forward
CATEGORIES:Church Event
END:VEVENT
BEGIN:VEVENT
DTSTART;TZID=America/New_York:20290527T190000
DTEND;TZID=America/New_York:20290527T200000
DTSTAMP:20260424T113426
CREATED:20230619T142544Z
LAST-MODIFIED:20260416T160049Z
UID:10296153-1874602800-1874606400@stmichaels-litchfield.org
SUMMARY:AA Meeting in Community House
DESCRIPTION:
URL:https://stmichaels-litchfield.org/event/aa-meeting-in-community-house/2029-05-27/
LOCATION:Community House in Library from April 9th forward
END:VEVENT
BEGIN:VEVENT
DTSTART;VALUE=DATE:20290528
DTEND;VALUE=DATE:20290529
DTSTAMP:20260424T113426
CREATED:20260128T181321Z
LAST-MODIFIED:20260128T181322Z
UID:10291314-1874620800-1874707199@stmichaels-litchfield.org
SUMMARY:Church Office Closed
DESCRIPTION:
URL:https://stmichaels-litchfield.org/event/summer-schedule-church-office-closed-2-2-2-3/2029-05-28/
LOCATION:Church Office\, 25 South Street\, Litchfield\, CT\, 06759\, United States
CATEGORIES:Church Office Event
END:VEVENT
BEGIN:VEVENT
DTSTART;TZID=America/New_York:20290528T070000
DTEND;TZID=America/New_York:20290528T073000
DTSTAMP:20260424T113426
CREATED:20230606T184551Z
LAST-MODIFIED:20230619T142647Z
UID:10287001-1874646000-1874647800@stmichaels-litchfield.org
SUMMARY:AA Meeting in the Parish House Library
DESCRIPTION:
URL:https://stmichaels-litchfield.org/event/aa-meeting-in-the-library/2029-05-28/
LOCATION:Parish House Library\, 25 South Street\, Litchfield\, CT\, 06759\, United States
CATEGORIES:AA/NA Events
END:VEVENT
BEGIN:VEVENT
DTSTART;TZID=America/New_York:20290528T200000
DTEND;TZID=America/New_York:20290528T213000
DTSTAMP:20260424T113426
CREATED:20260218T173517Z
LAST-MODIFIED:20260218T173517Z
UID:10292737-1874692800-1874698200@stmichaels-litchfield.org
SUMMARY:AA meeting in the Community House
DESCRIPTION:
URL:https://stmichaels-litchfield.org/event/aa-meeting-in-the-community-house-2/2029-05-28/
END:VEVENT
BEGIN:VEVENT
DTSTART;TZID=America/New_York:20290529T093000
DTEND;TZID=America/New_York:20290529T143000
DTSTAMP:20260424T113426
CREATED:20260128T181432Z
LAST-MODIFIED:20260128T181726Z
UID:10292119-1874741400-1874759400@stmichaels-litchfield.org
SUMMARY:Church Office Open
DESCRIPTION:
URL:https://stmichaels-litchfield.org/event/church-office-open-14/2029-05-29/
LOCATION:Church Office\, 25 South Street\, Litchfield\, CT\, 06759\, United States
CATEGORIES:Church Office Event
END:VEVENT
BEGIN:VEVENT
DTSTART;TZID=America/New_York:20290529T160000
DTEND;TZID=America/New_York:20290529T173000
DTSTAMP:20260424T113426
CREATED:20260331T205128Z
LAST-MODIFIED:20260331T205254Z
UID:10294861-1874764800-1874770200@stmichaels-litchfield.org
SUMMARY:Priest Search Committee
DESCRIPTION:
URL:https://stmichaels-litchfield.org/event/priest-search-committee-3-2-5/2029-05-29/
LOCATION:Parish House Library\, 25 South Street\, Litchfield\, CT\, 06759\, United States
END:VEVENT
BEGIN:VEVENT
DTSTART;TZID=America/New_York:20290529T190000
DTEND;TZID=America/New_York:20290529T200000
DTSTAMP:20260424T113426
CREATED:20211108T175914Z
LAST-MODIFIED:20260130T014621Z
UID:10286670-1874775600-1874779200@stmichaels-litchfield.org
SUMMARY:AA Meeting in Community House
DESCRIPTION:
URL:https://stmichaels-litchfield.org/event/aa-group-in-community-house-2/2029-05-29/
LOCATION:Community House in Library from April 9th forward
CATEGORIES:AA/NA Events
END:VEVENT
BEGIN:VEVENT
DTSTART;TZID=America/New_York:20290530T070000
DTEND;TZID=America/New_York:20290530T073000
DTSTAMP:20260424T113426
CREATED:20230606T184551Z
LAST-MODIFIED:20230619T142647Z
UID:10287002-1874818800-1874820600@stmichaels-litchfield.org
SUMMARY:AA Meeting in the Parish House Library
DESCRIPTION:
URL:https://stmichaels-litchfield.org/event/aa-meeting-in-the-library/2029-05-30/
LOCATION:Parish House Library\, 25 South Street\, Litchfield\, CT\, 06759\, United States
CATEGORIES:AA/NA Events
END:VEVENT
BEGIN:VEVENT
DTSTART;TZID=America/New_York:20290530T083000
DTEND;TZID=America/New_York:20290530T110000
DTSTAMP:20260424T113426
CREATED:20250109T152013Z
LAST-MODIFIED:20250109T152013Z
UID:10019605-1874824200-1874833200@stmichaels-litchfield.org
SUMMARY:Greenwoods Counseling
DESCRIPTION:
URL:https://stmichaels-litchfield.org/event/greenwoods-counseling-7/2029-05-30/
CATEGORIES:Greenwoods Counseling
END:VEVENT
BEGIN:VEVENT
DTSTART;TZID=America/New_York:20290530T093000
DTEND;TZID=America/New_York:20290530T143000
DTSTAMP:20260424T113426
CREATED:20260128T181432Z
LAST-MODIFIED:20260128T181726Z
UID:10292120-1874827800-1874845800@stmichaels-litchfield.org
SUMMARY:Church Office Open
DESCRIPTION:
URL:https://stmichaels-litchfield.org/event/church-office-open-14/2029-05-30/
LOCATION:Church Office\, 25 South Street\, Litchfield\, CT\, 06759\, United States
CATEGORIES:Church Office Event
END:VEVENT
BEGIN:VEVENT
DTSTART;TZID=America/New_York:20290530T173000
DTEND;TZID=America/New_York:20290530T180000
DTSTAMP:20260424T113426
CREATED:20260327T155546Z
LAST-MODIFIED:20260422T175057Z
UID:10294602-1874856600-1874858400@stmichaels-litchfield.org
SUMMARY:Chanted Evening Prayer
DESCRIPTION:
URL:https://stmichaels-litchfield.org/event/chanted-evening-prayer-3/2029-05-30/
LOCATION:Chapel\, 25 South Street\, Litchfield\, CT\, 06759\, United States
CATEGORIES:Church Event
END:VEVENT
BEGIN:VEVENT
DTSTART;TZID=America/New_York:20290530T193000
DTEND;TZID=America/New_York:20290530T210000
DTSTAMP:20260424T113426
CREATED:20211108T180816Z
LAST-MODIFIED:20230714T003135Z
UID:10286770-1874863800-1874869200@stmichaels-litchfield.org
SUMMARY:NA meeting in Community House
DESCRIPTION:
URL:https://stmichaels-litchfield.org/event/narcotics-anonymous/2029-05-30/
LOCATION:Community House in Library from April 9th forward
CATEGORIES:AA/NA Events
END:VEVENT
BEGIN:VEVENT
DTSTART;TZID=America/New_York:20290531T093000
DTEND;TZID=America/New_York:20290531T143000
DTSTAMP:20260424T113426
CREATED:20260128T181432Z
LAST-MODIFIED:20260128T181726Z
UID:10292121-1874914200-1874932200@stmichaels-litchfield.org
SUMMARY:Church Office Open
DESCRIPTION:
URL:https://stmichaels-litchfield.org/event/church-office-open-14/2029-05-31/
LOCATION:Church Office\, 25 South Street\, Litchfield\, CT\, 06759\, United States
CATEGORIES:Church Office Event
END:VEVENT
BEGIN:VEVENT
DTSTART;TZID=America/New_York:20290601T070000
DTEND;TZID=America/New_York:20290601T073000
DTSTAMP:20260424T113427
CREATED:20230606T184551Z
LAST-MODIFIED:20230619T142647Z
UID:10287003-1874991600-1874993400@stmichaels-litchfield.org
SUMMARY:AA Meeting in the Parish House Library
DESCRIPTION:
URL:https://stmichaels-litchfield.org/event/aa-meeting-in-the-library/2029-06-01/
LOCATION:Parish House Library\, 25 South Street\, Litchfield\, CT\, 06759\, United States
CATEGORIES:AA/NA Events
END:VEVENT
BEGIN:VEVENT
DTSTART;TZID=America/New_York:20290601T093000
DTEND;TZID=America/New_York:20290601T143000
DTSTAMP:20260424T113427
CREATED:20260128T181432Z
LAST-MODIFIED:20260128T181726Z
UID:10292122-1875000600-1875018600@stmichaels-litchfield.org
SUMMARY:Church Office Open
DESCRIPTION:
URL:https://stmichaels-litchfield.org/event/church-office-open-14/2029-06-01/
LOCATION:Church Office\, 25 South Street\, Litchfield\, CT\, 06759\, United States
CATEGORIES:Church Office Event
END:VEVENT
BEGIN:VEVENT
DTSTART;TZID=America/New_York:20290603T080000
DTEND;TZID=America/New_York:20290603T090000
DTSTAMP:20260424T113427
CREATED:20211108T181651Z
LAST-MODIFIED:20260327T134504Z
UID:10020565-1875168000-1875171600@stmichaels-litchfield.org
SUMMARY:Eucharist\, Rite I
DESCRIPTION:Spoken\, no music
URL:https://stmichaels-litchfield.org/event/sunday-eucharist/2029-06-03/
LOCATION:Chapel\, 25 South Street\, Litchfield\, CT\, 06759\, United States
CATEGORIES:Church Event,Parish Events
END:VEVENT
END:VCALENDAR