BEGIN:VCALENDAR
VERSION:2.0
PRODID:-//St. Michael&#039;s Church - ECPv6.15.20//NONSGML v1.0//EN
CALSCALE:GREGORIAN
METHOD:PUBLISH
X-ORIGINAL-URL:https://stmichaels-litchfield.org
X-WR-CALDESC:Events for St. Michael&#039;s Church
REFRESH-INTERVAL;VALUE=DURATION:PT1H
X-Robots-Tag:noindex
X-PUBLISHED-TTL:PT1H
BEGIN:VTIMEZONE
TZID:America/New_York
BEGIN:DAYLIGHT
TZOFFSETFROM:-0500
TZOFFSETTO:-0400
TZNAME:EDT
DTSTART:20240310T070000
END:DAYLIGHT
BEGIN:STANDARD
TZOFFSETFROM:-0400
TZOFFSETTO:-0500
TZNAME:EST
DTSTART:20241103T060000
END:STANDARD
BEGIN:DAYLIGHT
TZOFFSETFROM:-0500
TZOFFSETTO:-0400
TZNAME:EDT
DTSTART:20250309T070000
END:DAYLIGHT
BEGIN:STANDARD
TZOFFSETFROM:-0400
TZOFFSETTO:-0500
TZNAME:EST
DTSTART:20251102T060000
END:STANDARD
BEGIN:DAYLIGHT
TZOFFSETFROM:-0500
TZOFFSETTO:-0400
TZNAME:EDT
DTSTART:20260308T070000
END:DAYLIGHT
BEGIN:STANDARD
TZOFFSETFROM:-0400
TZOFFSETTO:-0500
TZNAME:EST
DTSTART:20261101T060000
END:STANDARD
END:VTIMEZONE
BEGIN:VEVENT
DTSTART;TZID=America/New_York:20250507T100000
DTEND;TZID=America/New_York:20250507T130000
DTSTAMP:20260419T133100
CREATED:20240206T174237Z
LAST-MODIFIED:20240223T173652Z
UID:10017081-1746612000-1746622800@stmichaels-litchfield.org
SUMMARY:Church Office Open
DESCRIPTION:
URL:https://stmichaels-litchfield.org/event/church-office-open-3-4-2/2025-05-07/
LOCATION:Church Office\, 25 South Street\, Litchfield\, CT\, 06759\, United States
END:VEVENT
BEGIN:VEVENT
DTSTART;TZID=America/New_York:20250507T190000
DTEND;TZID=America/New_York:20250507T203000
DTSTAMP:20260419T133100
CREATED:20230817T183342Z
LAST-MODIFIED:20230817T183342Z
UID:10013085-1746644400-1746649800@stmichaels-litchfield.org
SUMMARY:Choir Rehearsal in Parish House Music Room
DESCRIPTION:
URL:https://stmichaels-litchfield.org/event/choir-rehearsal-in-parish-house-music-room/2025-05-07/
LOCATION:Parish House Music Room
CATEGORIES:Church Event
END:VEVENT
BEGIN:VEVENT
DTSTART;TZID=America/New_York:20250507T193000
DTEND;TZID=America/New_York:20250507T210000
DTSTAMP:20260419T133100
CREATED:20211108T180816Z
LAST-MODIFIED:20230714T003135Z
UID:10012409-1746646200-1746651600@stmichaels-litchfield.org
SUMMARY:NA meeting in Community House
DESCRIPTION:
URL:https://stmichaels-litchfield.org/event/narcotics-anonymous/2025-05-07/
LOCATION:Community House in Library from April 9th forward
CATEGORIES:AA/NA Events
END:VEVENT
BEGIN:VEVENT
DTSTART;TZID=America/New_York:20250508T090000
DTEND;TZID=America/New_York:20250508T130000
DTSTAMP:20260419T133100
CREATED:20240206T174110Z
LAST-MODIFIED:20260107T171415Z
UID:10288742-1746694800-1746709200@stmichaels-litchfield.org
SUMMARY:Church Office Open
DESCRIPTION:
URL:https://stmichaels-litchfield.org/event/church-office-open-2-2-2-2/2025-05-08/
LOCATION:Church Office\, 25 South Street\, Litchfield\, CT\, 06759\, United States
CATEGORIES:Church Office Event
END:VEVENT
BEGIN:VEVENT
DTSTART;TZID=America/New_York:20250508T100000
DTEND;TZID=America/New_York:20250508T130000
DTSTAMP:20260419T133100
CREATED:20240206T174423Z
LAST-MODIFIED:20240223T173813Z
UID:10017342-1746698400-1746709200@stmichaels-litchfield.org
SUMMARY:Church Office Open
DESCRIPTION:
URL:https://stmichaels-litchfield.org/event/church-office-open-4-5-2/2025-05-08/
LOCATION:Church Office\, 25 South Street\, Litchfield\, CT\, 06759\, United States
END:VEVENT
BEGIN:VEVENT
DTSTART;TZID=America/New_York:20250508T143000
DTEND;TZID=America/New_York:20250508T163000
DTSTAMP:20260419T133100
CREATED:20250115T162847Z
LAST-MODIFIED:20250115T162847Z
UID:10019660-1746714600-1746721800@stmichaels-litchfield.org
SUMMARY:Italian Club
DESCRIPTION:
URL:https://stmichaels-litchfield.org/event/italian-club-2/2025-05-08/
LOCATION:Community House in Library from April 9th forward
END:VEVENT
BEGIN:VEVENT
DTSTART;TZID=America/New_York:20250509T070000
DTEND;TZID=America/New_York:20250509T073000
DTSTAMP:20260419T133100
CREATED:20230606T184551Z
LAST-MODIFIED:20230619T142647Z
UID:10005970-1746774000-1746775800@stmichaels-litchfield.org
SUMMARY:AA Meeting in the Parish House Library
DESCRIPTION:
URL:https://stmichaels-litchfield.org/event/aa-meeting-in-the-library/2025-05-09/
LOCATION:Parish House Library\, 25 South Street\, Litchfield\, CT\, 06759\, United States
CATEGORIES:AA/NA Events
END:VEVENT
BEGIN:VEVENT
DTSTART;TZID=America/New_York:20250509T083000
DTEND;TZID=America/New_York:20250509T103000
DTSTAMP:20260419T133100
CREATED:20250507T144913Z
LAST-MODIFIED:20250507T144913Z
UID:10021029-1746779400-1746786600@stmichaels-litchfield.org
SUMMARY:School on the Green
DESCRIPTION:
URL:https://stmichaels-litchfield.org/event/school-on-the-green-11/
LOCATION:Community House in Library from April 9th forward
CATEGORIES:School on the Green Event
END:VEVENT
BEGIN:VEVENT
DTSTART;TZID=America/New_York:20250509T100000
DTEND;TZID=America/New_York:20250509T130000
DTSTAMP:20260419T133100
CREATED:20240223T172033Z
LAST-MODIFIED:20240223T172034Z
UID:10016298-1746784800-1746795600@stmichaels-litchfield.org
SUMMARY:Church Office Open
DESCRIPTION:
URL:https://stmichaels-litchfield.org/event/summer-schedule-church-office-closed-2-2/2025-05-09/
LOCATION:Church Office\, 25 South Street\, Litchfield\, CT\, 06759\, United States
CATEGORIES:Church Office Event
END:VEVENT
BEGIN:VEVENT
DTSTART;TZID=America/New_York:20250509T133000
DTEND;TZID=America/New_York:20250509T153000
DTSTAMP:20260419T133100
CREATED:20250115T163522Z
LAST-MODIFIED:20250115T163522Z
UID:10019709-1746797400-1746804600@stmichaels-litchfield.org
SUMMARY:Italian Club
DESCRIPTION:
URL:https://stmichaels-litchfield.org/event/italian-club-3/2025-05-09/
LOCATION:Community House in Library from April 9th forward
CATEGORIES:Other Groups
END:VEVENT
BEGIN:VEVENT
DTSTART;TZID=America/New_York:20250510T083000
DTEND;TZID=America/New_York:20250510T093000
DTSTAMP:20260419T133100
CREATED:20230619T143626Z
LAST-MODIFIED:20230619T143720Z
UID:10010662-1746865800-1746869400@stmichaels-litchfield.org
SUMMARY:AA Meeting in Parish House Library
DESCRIPTION:
URL:https://stmichaels-litchfield.org/event/aa-meeting-in-community-house-2/2025-05-10/
LOCATION:Community House in Library from April 9th forward
CATEGORIES:AA/NA Events
END:VEVENT
BEGIN:VEVENT
DTSTART;TZID=America/New_York:20250511T080000
DTEND;TZID=America/New_York:20250511T090000
DTSTAMP:20260419T133100
CREATED:20211108T181651Z
LAST-MODIFIED:20260327T134504Z
UID:10020353-1746950400-1746954000@stmichaels-litchfield.org
SUMMARY:Eucharist\, Rite I
DESCRIPTION:Spoken\, no music
URL:https://stmichaels-litchfield.org/event/sunday-eucharist/2025-05-11/
LOCATION:Chapel\, 25 South Street\, Litchfield\, CT\, 06759\, United States
CATEGORIES:Church Event,Parish Events
END:VEVENT
BEGIN:VEVENT
DTSTART;TZID=America/New_York:20250511T100000
DTEND;TZID=America/New_York:20250511T110000
DTSTAMP:20260419T133100
CREATED:20250403T150154Z
LAST-MODIFIED:20250806T192031Z
UID:10012668-1746957600-1746961200@stmichaels-litchfield.org
SUMMARY:Sunday Eucharist\, Rite II
DESCRIPTION:Rite II with music \nFollowed by Coffee Hour in the Community House
URL:https://stmichaels-litchfield.org/event/sunday-eucharist-2-3/2025-05-11/
LOCATION:Church and Community House
CATEGORIES:Church Event,Parish Events
END:VEVENT
BEGIN:VEVENT
DTSTART;TZID=America/New_York:20250511T110000
DTEND;TZID=America/New_York:20250511T140000
DTSTAMP:20260419T133100
CREATED:20230711T182541Z
LAST-MODIFIED:20250806T192214Z
UID:10012007-1746961200-1746972000@stmichaels-litchfield.org
SUMMARY:Coffee and Fellowship in the Community House
DESCRIPTION:
URL:https://stmichaels-litchfield.org/event/coffee-and-congregation-in-the-community-house/2025-05-11/
LOCATION:Community House in Library from April 9th forward
CATEGORIES:Church Event
END:VEVENT
BEGIN:VEVENT
DTSTART;TZID=America/New_York:20250511T190000
DTEND;TZID=America/New_York:20250511T200000
DTSTAMP:20260419T133100
CREATED:20230619T142544Z
LAST-MODIFIED:20260416T160049Z
UID:10009852-1746990000-1746993600@stmichaels-litchfield.org
SUMMARY:AA Meeting in Community House
DESCRIPTION:
URL:https://stmichaels-litchfield.org/event/aa-meeting-in-community-house/2025-05-11/
LOCATION:Community House in Library from April 9th forward
END:VEVENT
BEGIN:VEVENT
DTSTART;TZID=America/New_York:20250512T070000
DTEND;TZID=America/New_York:20250512T073000
DTSTAMP:20260419T133100
CREATED:20230606T184551Z
LAST-MODIFIED:20230619T142647Z
UID:10005971-1747033200-1747035000@stmichaels-litchfield.org
SUMMARY:AA Meeting in the Parish House Library
DESCRIPTION:
URL:https://stmichaels-litchfield.org/event/aa-meeting-in-the-library/2025-05-12/
LOCATION:Parish House Library\, 25 South Street\, Litchfield\, CT\, 06759\, United States
CATEGORIES:AA/NA Events
END:VEVENT
BEGIN:VEVENT
DTSTART;TZID=America/New_York:20250512T080000
DTEND;TZID=America/New_York:20250512T170000
DTSTAMP:20260419T133100
CREATED:20250403T174430Z
LAST-MODIFIED:20250403T174430Z
UID:10021015-1747036800-1747069200@stmichaels-litchfield.org
SUMMARY:School on the Green
DESCRIPTION:
URL:https://stmichaels-litchfield.org/event/school-on-the-green-6/2025-05-12/1/
LOCATION:Church Courtyard
CATEGORIES:School on the Green Event
END:VEVENT
BEGIN:VEVENT
DTSTART;TZID=America/New_York:20250512T090000
DTEND;TZID=America/New_York:20250512T130000
DTSTAMP:20260419T133100
CREATED:20240206T174110Z
LAST-MODIFIED:20260107T171415Z
UID:10288743-1747040400-1747054800@stmichaels-litchfield.org
SUMMARY:Church Office Open
DESCRIPTION:
URL:https://stmichaels-litchfield.org/event/church-office-open-2-2-2-2/2025-05-12/
LOCATION:Church Office\, 25 South Street\, Litchfield\, CT\, 06759\, United States
CATEGORIES:Church Office Event
END:VEVENT
BEGIN:VEVENT
DTSTART;TZID=America/New_York:20250512T090000
DTEND;TZID=America/New_York:20250512T140000
DTSTAMP:20260419T133100
CREATED:20250403T174430Z
LAST-MODIFIED:20250403T174430Z
UID:10021016-1747040400-1747058400@stmichaels-litchfield.org
SUMMARY:School on the Green
DESCRIPTION:
URL:https://stmichaels-litchfield.org/event/school-on-the-green-6/2025-05-12/2/
LOCATION:Church Courtyard
CATEGORIES:School on the Green Event
END:VEVENT
BEGIN:VEVENT
DTSTART;TZID=America/New_York:20250512T100000
DTEND;TZID=America/New_York:20250512T130000
DTSTAMP:20260419T133100
CREATED:20240206T173900Z
LAST-MODIFIED:20240223T172212Z
UID:10016560-1747044000-1747054800@stmichaels-litchfield.org
SUMMARY:Church Office Open
DESCRIPTION:
URL:https://stmichaels-litchfield.org/event/church-office-open-7-5-2/2025-05-12/
LOCATION:Church Office\, 25 South Street\, Litchfield\, CT\, 06759\, United States
END:VEVENT
BEGIN:VEVENT
DTSTART;TZID=America/New_York:20250513T090000
DTEND;TZID=America/New_York:20250513T130000
DTSTAMP:20260419T133100
CREATED:20240206T174110Z
LAST-MODIFIED:20260107T171415Z
UID:10020759-1747126800-1747141200@stmichaels-litchfield.org
SUMMARY:Church Office Open
DESCRIPTION:
URL:https://stmichaels-litchfield.org/event/church-office-open-2-2-2-2/2025-05-13/
LOCATION:Church Office\, 25 South Street\, Litchfield\, CT\, 06759\, United States
CATEGORIES:Church Office Event
END:VEVENT
BEGIN:VEVENT
DTSTART;TZID=America/New_York:20250513T090000
DTEND;TZID=America/New_York:20250513T140000
DTSTAMP:20260419T133100
CREATED:20250403T175658Z
LAST-MODIFIED:20250403T175658Z
UID:10021017-1747126800-1747144800@stmichaels-litchfield.org
SUMMARY:School on the Green
DESCRIPTION:
URL:https://stmichaels-litchfield.org/event/school-on-the-green-7/
LOCATION:Church Courtyard
CATEGORIES:School on the Green Event
END:VEVENT
BEGIN:VEVENT
DTSTART;TZID=America/New_York:20250513T183000
DTEND;TZID=America/New_York:20250513T203000
DTSTAMP:20260419T133100
CREATED:20250512T003640Z
LAST-MODIFIED:20250512T003640Z
UID:10021030-1747161000-1747168200@stmichaels-litchfield.org
SUMMARY:Moving Forward
DESCRIPTION:
URL:https://stmichaels-litchfield.org/event/moving-forward/
LOCATION:Church\, 25 South Street\, Litchfield\, CT\, 06759\, United States
CATEGORIES:Church Event,Parish Events
END:VEVENT
BEGIN:VEVENT
DTSTART;TZID=America/New_York:20250513T190000
DTEND;TZID=America/New_York:20250513T200000
DTSTAMP:20260419T133100
CREATED:20211108T175914Z
LAST-MODIFIED:20260130T014621Z
UID:10010056-1747162800-1747166400@stmichaels-litchfield.org
SUMMARY:AA Meeting in Community House
DESCRIPTION:
URL:https://stmichaels-litchfield.org/event/aa-group-in-community-house-2/2025-05-13/
LOCATION:Community House in Library from April 9th forward
CATEGORIES:AA/NA Events
END:VEVENT
BEGIN:VEVENT
DTSTART;TZID=America/New_York:20250514T070000
DTEND;TZID=America/New_York:20250514T073000
DTSTAMP:20260419T133100
CREATED:20230606T184551Z
LAST-MODIFIED:20230619T142647Z
UID:10005972-1747206000-1747207800@stmichaels-litchfield.org
SUMMARY:AA Meeting in the Parish House Library
DESCRIPTION:
URL:https://stmichaels-litchfield.org/event/aa-meeting-in-the-library/2025-05-14/
LOCATION:Parish House Library\, 25 South Street\, Litchfield\, CT\, 06759\, United States
CATEGORIES:AA/NA Events
END:VEVENT
BEGIN:VEVENT
DTSTART;TZID=America/New_York:20250514T083000
DTEND;TZID=America/New_York:20250514T110000
DTSTAMP:20260419T133100
CREATED:20250109T152013Z
LAST-MODIFIED:20250109T152013Z
UID:10019394-1747211400-1747220400@stmichaels-litchfield.org
SUMMARY:Greenwoods Counseling
DESCRIPTION:
URL:https://stmichaels-litchfield.org/event/greenwoods-counseling-7/2025-05-14/
LOCATION:CT
CATEGORIES:Greenwoods Counseling
END:VEVENT
BEGIN:VEVENT
DTSTART;TZID=America/New_York:20250514T090000
DTEND;TZID=America/New_York:20250514T130000
DTSTAMP:20260419T133100
CREATED:20240206T174110Z
LAST-MODIFIED:20260107T171415Z
UID:10288744-1747213200-1747227600@stmichaels-litchfield.org
SUMMARY:Church Office Open
DESCRIPTION:
URL:https://stmichaels-litchfield.org/event/church-office-open-2-2-2-2/2025-05-14/
LOCATION:Church Office\, 25 South Street\, Litchfield\, CT\, 06759\, United States
CATEGORIES:Church Office Event
END:VEVENT
BEGIN:VEVENT
DTSTART;TZID=America/New_York:20250514T100000
DTEND;TZID=America/New_York:20250514T130000
DTSTAMP:20260419T133100
CREATED:20240206T174237Z
LAST-MODIFIED:20240223T173652Z
UID:10017082-1747216800-1747227600@stmichaels-litchfield.org
SUMMARY:Church Office Open
DESCRIPTION:
URL:https://stmichaels-litchfield.org/event/church-office-open-3-4-2/2025-05-14/
LOCATION:Church Office\, 25 South Street\, Litchfield\, CT\, 06759\, United States
END:VEVENT
BEGIN:VEVENT
DTSTART;TZID=America/New_York:20250514T150000
DTEND;TZID=America/New_York:20250514T170000
DTSTAMP:20260419T133100
CREATED:20250424T131003Z
LAST-MODIFIED:20250424T131003Z
UID:10021026-1747234800-1747242000@stmichaels-litchfield.org
SUMMARY:Finance Committee Mtg
DESCRIPTION:
URL:https://stmichaels-litchfield.org/event/finance-committee-mtg/
LOCATION:Parish House Library\, 25 South Street\, Litchfield\, CT\, 06759\, United States
CATEGORIES:Church Office Event
END:VEVENT
BEGIN:VEVENT
DTSTART;TZID=America/New_York:20250514T160000
DTEND;TZID=America/New_York:20250514T190000
DTSTAMP:20260419T133100
CREATED:20250507T144559Z
LAST-MODIFIED:20250507T144559Z
UID:10021028-1747238400-1747249200@stmichaels-litchfield.org
SUMMARY:School on the Green
DESCRIPTION:
URL:https://stmichaels-litchfield.org/event/school-on-the-green-10/
LOCATION:Community House in Library from April 9th forward
CATEGORIES:School on the Green Event
END:VEVENT
END:VCALENDAR