BEGIN:VCALENDAR
VERSION:2.0
PRODID:-//St. Michael&#039;s Church - ECPv6.15.20//NONSGML v1.0//EN
CALSCALE:GREGORIAN
METHOD:PUBLISH
X-WR-CALNAME:St. Michael&#039;s Church
X-ORIGINAL-URL:https://stmichaels-litchfield.org
X-WR-CALDESC:Events for St. Michael&#039;s Church
REFRESH-INTERVAL;VALUE=DURATION:PT1H
X-Robots-Tag:noindex
X-PUBLISHED-TTL:PT1H
BEGIN:VTIMEZONE
TZID:America/New_York
BEGIN:DAYLIGHT
TZOFFSETFROM:-0500
TZOFFSETTO:-0400
TZNAME:EDT
DTSTART:20240310T070000
END:DAYLIGHT
BEGIN:STANDARD
TZOFFSETFROM:-0400
TZOFFSETTO:-0500
TZNAME:EST
DTSTART:20241103T060000
END:STANDARD
BEGIN:DAYLIGHT
TZOFFSETFROM:-0500
TZOFFSETTO:-0400
TZNAME:EDT
DTSTART:20250309T070000
END:DAYLIGHT
BEGIN:STANDARD
TZOFFSETFROM:-0400
TZOFFSETTO:-0500
TZNAME:EST
DTSTART:20251102T060000
END:STANDARD
BEGIN:DAYLIGHT
TZOFFSETFROM:-0500
TZOFFSETTO:-0400
TZNAME:EDT
DTSTART:20260308T070000
END:DAYLIGHT
BEGIN:STANDARD
TZOFFSETFROM:-0400
TZOFFSETTO:-0500
TZNAME:EST
DTSTART:20261101T060000
END:STANDARD
END:VTIMEZONE
BEGIN:VEVENT
DTSTART;TZID=America/New_York:20250515T143000
DTEND;TZID=America/New_York:20250515T163000
DTSTAMP:20260419T183150
CREATED:20250115T162847Z
LAST-MODIFIED:20250115T162847Z
UID:10019661-1747319400-1747326600@stmichaels-litchfield.org
SUMMARY:Italian Club
DESCRIPTION:
URL:https://stmichaels-litchfield.org/event/italian-club-2/2025-05-15/
LOCATION:Community House in Library from April 9th forward
END:VEVENT
BEGIN:VEVENT
DTSTART;TZID=America/New_York:20250516T070000
DTEND;TZID=America/New_York:20250516T073000
DTSTAMP:20260419T183150
CREATED:20230606T184551Z
LAST-MODIFIED:20230619T142647Z
UID:10005973-1747378800-1747380600@stmichaels-litchfield.org
SUMMARY:AA Meeting in the Parish House Library
DESCRIPTION:
URL:https://stmichaels-litchfield.org/event/aa-meeting-in-the-library/2025-05-16/
LOCATION:Parish House Library\, 25 South Street\, Litchfield\, CT\, 06759\, United States
CATEGORIES:AA/NA Events
END:VEVENT
BEGIN:VEVENT
DTSTART;TZID=America/New_York:20250516T090000
DTEND;TZID=America/New_York:20250516T140000
DTSTAMP:20260419T183150
CREATED:20250403T180117Z
LAST-MODIFIED:20250403T180117Z
UID:10021019-1747386000-1747404000@stmichaels-litchfield.org
SUMMARY:School on the Green
DESCRIPTION:
URL:https://stmichaels-litchfield.org/event/school-on-the-green-9/
LOCATION:Church Courtyard
CATEGORIES:School on the Green Event
END:VEVENT
BEGIN:VEVENT
DTSTART;TZID=America/New_York:20250516T100000
DTEND;TZID=America/New_York:20250516T130000
DTSTAMP:20260419T183150
CREATED:20240223T172033Z
LAST-MODIFIED:20240223T172034Z
UID:10016299-1747389600-1747400400@stmichaels-litchfield.org
SUMMARY:Church Office Open
DESCRIPTION:
URL:https://stmichaels-litchfield.org/event/summer-schedule-church-office-closed-2-2/2025-05-16/
LOCATION:Church Office\, 25 South Street\, Litchfield\, CT\, 06759\, United States
CATEGORIES:Church Office Event
END:VEVENT
BEGIN:VEVENT
DTSTART;TZID=America/New_York:20250516T133000
DTEND;TZID=America/New_York:20250516T153000
DTSTAMP:20260419T183150
CREATED:20250115T163522Z
LAST-MODIFIED:20250115T163522Z
UID:10019710-1747402200-1747409400@stmichaels-litchfield.org
SUMMARY:Italian Club
DESCRIPTION:
URL:https://stmichaels-litchfield.org/event/italian-club-3/2025-05-16/
LOCATION:Community House in Library from April 9th forward
CATEGORIES:Other Groups
END:VEVENT
BEGIN:VEVENT
DTSTART;TZID=America/New_York:20250517T083000
DTEND;TZID=America/New_York:20250517T093000
DTSTAMP:20260419T183150
CREATED:20230619T143626Z
LAST-MODIFIED:20230619T143720Z
UID:10010663-1747470600-1747474200@stmichaels-litchfield.org
SUMMARY:AA Meeting in Parish House Library
DESCRIPTION:
URL:https://stmichaels-litchfield.org/event/aa-meeting-in-community-house-2/2025-05-17/
LOCATION:Community House in Library from April 9th forward
CATEGORIES:AA/NA Events
END:VEVENT
BEGIN:VEVENT
DTSTART;TZID=America/New_York:20250518T080000
DTEND;TZID=America/New_York:20250518T090000
DTSTAMP:20260419T183150
CREATED:20211108T181651Z
LAST-MODIFIED:20260327T134504Z
UID:10020354-1747555200-1747558800@stmichaels-litchfield.org
SUMMARY:Eucharist\, Rite I
DESCRIPTION:Spoken\, no music
URL:https://stmichaels-litchfield.org/event/sunday-eucharist/2025-05-18/
LOCATION:Chapel\, 25 South Street\, Litchfield\, CT\, 06759\, United States
CATEGORIES:Church Event,Parish Events
END:VEVENT
BEGIN:VEVENT
DTSTART;TZID=America/New_York:20250518T100000
DTEND;TZID=America/New_York:20250518T110000
DTSTAMP:20260419T183150
CREATED:20250403T150154Z
LAST-MODIFIED:20250806T192031Z
UID:10012669-1747562400-1747566000@stmichaels-litchfield.org
SUMMARY:Sunday Eucharist\, Rite II
DESCRIPTION:Rite II with music \nFollowed by Coffee Hour in the Community House
URL:https://stmichaels-litchfield.org/event/sunday-eucharist-2-3/2025-05-18/
LOCATION:Church and Community House
CATEGORIES:Church Event,Parish Events
END:VEVENT
BEGIN:VEVENT
DTSTART;TZID=America/New_York:20250518T110000
DTEND;TZID=America/New_York:20250518T140000
DTSTAMP:20260419T183150
CREATED:20230711T182541Z
LAST-MODIFIED:20250806T192214Z
UID:10012008-1747566000-1747576800@stmichaels-litchfield.org
SUMMARY:Coffee and Fellowship in the Community House
DESCRIPTION:
URL:https://stmichaels-litchfield.org/event/coffee-and-congregation-in-the-community-house/2025-05-18/
LOCATION:Community House in Library from April 9th forward
CATEGORIES:Church Event
END:VEVENT
BEGIN:VEVENT
DTSTART;TZID=America/New_York:20250518T190000
DTEND;TZID=America/New_York:20250518T200000
DTSTAMP:20260419T183150
CREATED:20230619T142544Z
LAST-MODIFIED:20260416T160049Z
UID:10009853-1747594800-1747598400@stmichaels-litchfield.org
SUMMARY:AA Meeting in Community House
DESCRIPTION:
URL:https://stmichaels-litchfield.org/event/aa-meeting-in-community-house/2025-05-18/
LOCATION:Community House in Library from April 9th forward
END:VEVENT
BEGIN:VEVENT
DTSTART;TZID=America/New_York:20250519T070000
DTEND;TZID=America/New_York:20250519T073000
DTSTAMP:20260419T183150
CREATED:20230606T184551Z
LAST-MODIFIED:20230619T142647Z
UID:10005974-1747638000-1747639800@stmichaels-litchfield.org
SUMMARY:AA Meeting in the Parish House Library
DESCRIPTION:
URL:https://stmichaels-litchfield.org/event/aa-meeting-in-the-library/2025-05-19/
LOCATION:Parish House Library\, 25 South Street\, Litchfield\, CT\, 06759\, United States
CATEGORIES:AA/NA Events
END:VEVENT
BEGIN:VEVENT
DTSTART;TZID=America/New_York:20250519T090000
DTEND;TZID=America/New_York:20250519T130000
DTSTAMP:20260419T183150
CREATED:20240206T174110Z
LAST-MODIFIED:20260107T171415Z
UID:10288746-1747645200-1747659600@stmichaels-litchfield.org
SUMMARY:Church Office Open
DESCRIPTION:
URL:https://stmichaels-litchfield.org/event/church-office-open-2-2-2-2/2025-05-19/
LOCATION:Church Office\, 25 South Street\, Litchfield\, CT\, 06759\, United States
CATEGORIES:Church Office Event
END:VEVENT
BEGIN:VEVENT
DTSTART;TZID=America/New_York:20250519T100000
DTEND;TZID=America/New_York:20250519T130000
DTSTAMP:20260419T183150
CREATED:20240206T173900Z
LAST-MODIFIED:20240223T172212Z
UID:10016561-1747648800-1747659600@stmichaels-litchfield.org
SUMMARY:Church Office Open
DESCRIPTION:
URL:https://stmichaels-litchfield.org/event/church-office-open-7-5-2/2025-05-19/
LOCATION:Church Office\, 25 South Street\, Litchfield\, CT\, 06759\, United States
END:VEVENT
BEGIN:VEVENT
DTSTART;TZID=America/New_York:20250520T090000
DTEND;TZID=America/New_York:20250520T130000
DTSTAMP:20260419T183150
CREATED:20240206T174110Z
LAST-MODIFIED:20260107T171415Z
UID:10020760-1747731600-1747746000@stmichaels-litchfield.org
SUMMARY:Church Office Open
DESCRIPTION:
URL:https://stmichaels-litchfield.org/event/church-office-open-2-2-2-2/2025-05-20/
LOCATION:Church Office\, 25 South Street\, Litchfield\, CT\, 06759\, United States
CATEGORIES:Church Office Event
END:VEVENT
BEGIN:VEVENT
DTSTART;TZID=America/New_York:20250520T190000
DTEND;TZID=America/New_York:20250520T200000
DTSTAMP:20260419T183150
CREATED:20211108T175914Z
LAST-MODIFIED:20260130T014621Z
UID:10010057-1747767600-1747771200@stmichaels-litchfield.org
SUMMARY:AA Meeting in Community House
DESCRIPTION:
URL:https://stmichaels-litchfield.org/event/aa-group-in-community-house-2/2025-05-20/
LOCATION:Community House in Library from April 9th forward
CATEGORIES:AA/NA Events
END:VEVENT
BEGIN:VEVENT
DTSTART;TZID=America/New_York:20250521T070000
DTEND;TZID=America/New_York:20250521T073000
DTSTAMP:20260419T183150
CREATED:20230606T184551Z
LAST-MODIFIED:20230619T142647Z
UID:10005975-1747810800-1747812600@stmichaels-litchfield.org
SUMMARY:AA Meeting in the Parish House Library
DESCRIPTION:
URL:https://stmichaels-litchfield.org/event/aa-meeting-in-the-library/2025-05-21/
LOCATION:Parish House Library\, 25 South Street\, Litchfield\, CT\, 06759\, United States
CATEGORIES:AA/NA Events
END:VEVENT
BEGIN:VEVENT
DTSTART;TZID=America/New_York:20250521T083000
DTEND;TZID=America/New_York:20250521T110000
DTSTAMP:20260419T183150
CREATED:20250109T152013Z
LAST-MODIFIED:20250109T152013Z
UID:10019395-1747816200-1747825200@stmichaels-litchfield.org
SUMMARY:Greenwoods Counseling
DESCRIPTION:
URL:https://stmichaels-litchfield.org/event/greenwoods-counseling-7/2025-05-21/
LOCATION:CT
CATEGORIES:Greenwoods Counseling
END:VEVENT
BEGIN:VEVENT
DTSTART;TZID=America/New_York:20250521T090000
DTEND;TZID=America/New_York:20250521T130000
DTSTAMP:20260419T183150
CREATED:20240206T174110Z
LAST-MODIFIED:20260107T171415Z
UID:10288747-1747818000-1747832400@stmichaels-litchfield.org
SUMMARY:Church Office Open
DESCRIPTION:
URL:https://stmichaels-litchfield.org/event/church-office-open-2-2-2-2/2025-05-21/
LOCATION:Church Office\, 25 South Street\, Litchfield\, CT\, 06759\, United States
CATEGORIES:Church Office Event
END:VEVENT
BEGIN:VEVENT
DTSTART;TZID=America/New_York:20250521T100000
DTEND;TZID=America/New_York:20250521T130000
DTSTAMP:20260419T183150
CREATED:20240206T174237Z
LAST-MODIFIED:20240223T173652Z
UID:10017083-1747821600-1747832400@stmichaels-litchfield.org
SUMMARY:Church Office Open
DESCRIPTION:
URL:https://stmichaels-litchfield.org/event/church-office-open-3-4-2/2025-05-21/
LOCATION:Church Office\, 25 South Street\, Litchfield\, CT\, 06759\, United States
END:VEVENT
BEGIN:VEVENT
DTSTART;TZID=America/New_York:20250521T190000
DTEND;TZID=America/New_York:20250521T203000
DTSTAMP:20260419T183150
CREATED:20230817T183342Z
LAST-MODIFIED:20230817T183342Z
UID:10013087-1747854000-1747859400@stmichaels-litchfield.org
SUMMARY:Choir Rehearsal in Parish House Music Room
DESCRIPTION:
URL:https://stmichaels-litchfield.org/event/choir-rehearsal-in-parish-house-music-room/2025-05-21/
LOCATION:Parish House Music Room
CATEGORIES:Church Event
END:VEVENT
BEGIN:VEVENT
DTSTART;TZID=America/New_York:20250521T193000
DTEND;TZID=America/New_York:20250521T210000
DTSTAMP:20260419T183150
CREATED:20211108T180816Z
LAST-MODIFIED:20230714T003135Z
UID:10012411-1747855800-1747861200@stmichaels-litchfield.org
SUMMARY:NA meeting in Community House
DESCRIPTION:
URL:https://stmichaels-litchfield.org/event/narcotics-anonymous/2025-05-21/
LOCATION:Community House in Library from April 9th forward
CATEGORIES:AA/NA Events
END:VEVENT
BEGIN:VEVENT
DTSTART;TZID=America/New_York:20250522T090000
DTEND;TZID=America/New_York:20250522T130000
DTSTAMP:20260419T183150
CREATED:20240206T174110Z
LAST-MODIFIED:20260107T171415Z
UID:10288748-1747904400-1747918800@stmichaels-litchfield.org
SUMMARY:Church Office Open
DESCRIPTION:
URL:https://stmichaels-litchfield.org/event/church-office-open-2-2-2-2/2025-05-22/
LOCATION:Church Office\, 25 South Street\, Litchfield\, CT\, 06759\, United States
CATEGORIES:Church Office Event
END:VEVENT
BEGIN:VEVENT
DTSTART;TZID=America/New_York:20250522T090000
DTEND;TZID=America/New_York:20250522T150000
DTSTAMP:20260419T183150
CREATED:20250506T160526Z
LAST-MODIFIED:20250513T173027Z
UID:10021027-1747904400-1747926000@stmichaels-litchfield.org
SUMMARY:Wellcare meeting
DESCRIPTION:
URL:https://stmichaels-litchfield.org/event/wellcare-meeting-tentative/
LOCATION:Parish House Library\, 25 South Street\, Litchfield\, CT\, 06759\, United States
END:VEVENT
BEGIN:VEVENT
DTSTART;TZID=America/New_York:20250522T100000
DTEND;TZID=America/New_York:20250522T130000
DTSTAMP:20260419T183150
CREATED:20240206T174423Z
LAST-MODIFIED:20240223T173813Z
UID:10017344-1747908000-1747918800@stmichaels-litchfield.org
SUMMARY:Church Office Open
DESCRIPTION:
URL:https://stmichaels-litchfield.org/event/church-office-open-4-5-2/2025-05-22/
LOCATION:Church Office\, 25 South Street\, Litchfield\, CT\, 06759\, United States
END:VEVENT
BEGIN:VEVENT
DTSTART;TZID=America/New_York:20250522T143000
DTEND;TZID=America/New_York:20250522T163000
DTSTAMP:20260419T183150
CREATED:20250115T162847Z
LAST-MODIFIED:20250115T162847Z
UID:10019662-1747924200-1747931400@stmichaels-litchfield.org
SUMMARY:Italian Club
DESCRIPTION:
URL:https://stmichaels-litchfield.org/event/italian-club-2/2025-05-22/
LOCATION:Community House in Library from April 9th forward
END:VEVENT
BEGIN:VEVENT
DTSTART;TZID=America/New_York:20250523T070000
DTEND;TZID=America/New_York:20250523T073000
DTSTAMP:20260419T183150
CREATED:20230606T184551Z
LAST-MODIFIED:20230619T142647Z
UID:10005976-1747983600-1747985400@stmichaels-litchfield.org
SUMMARY:AA Meeting in the Parish House Library
DESCRIPTION:
URL:https://stmichaels-litchfield.org/event/aa-meeting-in-the-library/2025-05-23/
LOCATION:Parish House Library\, 25 South Street\, Litchfield\, CT\, 06759\, United States
CATEGORIES:AA/NA Events
END:VEVENT
BEGIN:VEVENT
DTSTART;TZID=America/New_York:20250523T100000
DTEND;TZID=America/New_York:20250523T130000
DTSTAMP:20260419T183150
CREATED:20240223T172033Z
LAST-MODIFIED:20240223T172034Z
UID:10016300-1747994400-1748005200@stmichaels-litchfield.org
SUMMARY:Church Office Open
DESCRIPTION:
URL:https://stmichaels-litchfield.org/event/summer-schedule-church-office-closed-2-2/2025-05-23/
LOCATION:Church Office\, 25 South Street\, Litchfield\, CT\, 06759\, United States
CATEGORIES:Church Office Event
END:VEVENT
BEGIN:VEVENT
DTSTART;TZID=America/New_York:20250523T133000
DTEND;TZID=America/New_York:20250523T153000
DTSTAMP:20260419T183150
CREATED:20250115T163522Z
LAST-MODIFIED:20250115T163522Z
UID:10019711-1748007000-1748014200@stmichaels-litchfield.org
SUMMARY:Italian Club
DESCRIPTION:
URL:https://stmichaels-litchfield.org/event/italian-club-3/2025-05-23/
LOCATION:Community House in Library from April 9th forward
CATEGORIES:Other Groups
END:VEVENT
BEGIN:VEVENT
DTSTART;TZID=America/New_York:20250524T083000
DTEND;TZID=America/New_York:20250524T093000
DTSTAMP:20260419T183150
CREATED:20230619T143626Z
LAST-MODIFIED:20230619T143720Z
UID:10010664-1748075400-1748079000@stmichaels-litchfield.org
SUMMARY:AA Meeting in Parish House Library
DESCRIPTION:
URL:https://stmichaels-litchfield.org/event/aa-meeting-in-community-house-2/2025-05-24/
LOCATION:Community House in Library from April 9th forward
CATEGORIES:AA/NA Events
END:VEVENT
BEGIN:VEVENT
DTSTART;TZID=America/New_York:20250525T080000
DTEND;TZID=America/New_York:20250525T090000
DTSTAMP:20260419T183150
CREATED:20211108T181651Z
LAST-MODIFIED:20260327T134504Z
UID:10020355-1748160000-1748163600@stmichaels-litchfield.org
SUMMARY:Eucharist\, Rite I
DESCRIPTION:Spoken\, no music
URL:https://stmichaels-litchfield.org/event/sunday-eucharist/2025-05-25/
LOCATION:Chapel\, 25 South Street\, Litchfield\, CT\, 06759\, United States
CATEGORIES:Church Event,Parish Events
END:VEVENT
END:VCALENDAR