BEGIN:VCALENDAR
VERSION:2.0
PRODID:-//St. Michael&#039;s Church - ECPv6.15.20//NONSGML v1.0//EN
CALSCALE:GREGORIAN
METHOD:PUBLISH
X-WR-CALNAME:St. Michael&#039;s Church
X-ORIGINAL-URL:https://stmichaels-litchfield.org
X-WR-CALDESC:Events for St. Michael&#039;s Church
REFRESH-INTERVAL;VALUE=DURATION:PT1H
X-Robots-Tag:noindex
X-PUBLISHED-TTL:PT1H
BEGIN:VTIMEZONE
TZID:America/New_York
BEGIN:DAYLIGHT
TZOFFSETFROM:-0500
TZOFFSETTO:-0400
TZNAME:EDT
DTSTART:20240310T070000
END:DAYLIGHT
BEGIN:STANDARD
TZOFFSETFROM:-0400
TZOFFSETTO:-0500
TZNAME:EST
DTSTART:20241103T060000
END:STANDARD
BEGIN:DAYLIGHT
TZOFFSETFROM:-0500
TZOFFSETTO:-0400
TZNAME:EDT
DTSTART:20250309T070000
END:DAYLIGHT
BEGIN:STANDARD
TZOFFSETFROM:-0400
TZOFFSETTO:-0500
TZNAME:EST
DTSTART:20251102T060000
END:STANDARD
BEGIN:DAYLIGHT
TZOFFSETFROM:-0500
TZOFFSETTO:-0400
TZNAME:EDT
DTSTART:20260308T070000
END:DAYLIGHT
BEGIN:STANDARD
TZOFFSETFROM:-0400
TZOFFSETTO:-0500
TZNAME:EST
DTSTART:20261101T060000
END:STANDARD
END:VTIMEZONE
BEGIN:VEVENT
DTSTART;TZID=America/New_York:20250212T090000
DTEND;TZID=America/New_York:20250212T130000
DTSTAMP:20260419T215124
CREATED:20240206T174110Z
LAST-MODIFIED:20260107T171415Z
UID:10288705-1739350800-1739365200@stmichaels-litchfield.org
SUMMARY:Church Office Open
DESCRIPTION:
URL:https://stmichaels-litchfield.org/event/church-office-open-2-2-2-2/2025-02-12/
LOCATION:Church Office\, 25 South Street\, Litchfield\, CT\, 06759\, United States
CATEGORIES:Church Office Event
END:VEVENT
BEGIN:VEVENT
DTSTART;TZID=America/New_York:20250212T083000
DTEND;TZID=America/New_York:20250212T110000
DTSTAMP:20260419T215124
CREATED:20250109T152013Z
LAST-MODIFIED:20250109T152013Z
UID:10019381-1739349000-1739358000@stmichaels-litchfield.org
SUMMARY:Greenwoods Counseling
DESCRIPTION:
URL:https://stmichaels-litchfield.org/event/greenwoods-counseling-7/2025-02-12/
LOCATION:CT
CATEGORIES:Greenwoods Counseling
END:VEVENT
BEGIN:VEVENT
DTSTART;TZID=America/New_York:20250212T070000
DTEND;TZID=America/New_York:20250212T073000
DTSTAMP:20260419T215124
CREATED:20230606T184551Z
LAST-MODIFIED:20230619T142647Z
UID:10005933-1739343600-1739345400@stmichaels-litchfield.org
SUMMARY:AA Meeting in the Parish House Library
DESCRIPTION:
URL:https://stmichaels-litchfield.org/event/aa-meeting-in-the-library/2025-02-12/
LOCATION:Parish House Library\, 25 South Street\, Litchfield\, CT\, 06759\, United States
CATEGORIES:AA/NA Events
END:VEVENT
BEGIN:VEVENT
DTSTART;TZID=America/New_York:20250211T190000
DTEND;TZID=America/New_York:20250211T200000
DTSTAMP:20260419T215124
CREATED:20211108T175914Z
LAST-MODIFIED:20260130T014621Z
UID:10010043-1739300400-1739304000@stmichaels-litchfield.org
SUMMARY:AA Meeting in Community House
DESCRIPTION:
URL:https://stmichaels-litchfield.org/event/aa-group-in-community-house-2/2025-02-11/
LOCATION:Community House in Library from April 9th forward
CATEGORIES:AA/NA Events
END:VEVENT
BEGIN:VEVENT
DTSTART;TZID=America/New_York:20250211T090000
DTEND;TZID=America/New_York:20250211T130000
DTSTAMP:20260419T215124
CREATED:20240206T174110Z
LAST-MODIFIED:20260107T171415Z
UID:10020746-1739264400-1739278800@stmichaels-litchfield.org
SUMMARY:Church Office Open
DESCRIPTION:
URL:https://stmichaels-litchfield.org/event/church-office-open-2-2-2-2/2025-02-11/
LOCATION:Church Office\, 25 South Street\, Litchfield\, CT\, 06759\, United States
CATEGORIES:Church Office Event
END:VEVENT
BEGIN:VEVENT
DTSTART;TZID=America/New_York:20250210T100000
DTEND;TZID=America/New_York:20250210T130000
DTSTAMP:20260419T215124
CREATED:20240206T173900Z
LAST-MODIFIED:20240223T172212Z
UID:10016547-1739181600-1739192400@stmichaels-litchfield.org
SUMMARY:Church Office Open
DESCRIPTION:
URL:https://stmichaels-litchfield.org/event/church-office-open-7-5-2/2025-02-10/
LOCATION:Church Office\, 25 South Street\, Litchfield\, CT\, 06759\, United States
END:VEVENT
BEGIN:VEVENT
DTSTART;TZID=America/New_York:20250210T090000
DTEND;TZID=America/New_York:20250210T130000
DTSTAMP:20260419T215124
CREATED:20240206T174110Z
LAST-MODIFIED:20260107T171415Z
UID:10288704-1739178000-1739192400@stmichaels-litchfield.org
SUMMARY:Church Office Open
DESCRIPTION:
URL:https://stmichaels-litchfield.org/event/church-office-open-2-2-2-2/2025-02-10/
LOCATION:Church Office\, 25 South Street\, Litchfield\, CT\, 06759\, United States
CATEGORIES:Church Office Event
END:VEVENT
BEGIN:VEVENT
DTSTART;TZID=America/New_York:20250210T070000
DTEND;TZID=America/New_York:20250210T073000
DTSTAMP:20260419T215124
CREATED:20230606T184551Z
LAST-MODIFIED:20230619T142647Z
UID:10005932-1739170800-1739172600@stmichaels-litchfield.org
SUMMARY:AA Meeting in the Parish House Library
DESCRIPTION:
URL:https://stmichaels-litchfield.org/event/aa-meeting-in-the-library/2025-02-10/
LOCATION:Parish House Library\, 25 South Street\, Litchfield\, CT\, 06759\, United States
CATEGORIES:AA/NA Events
END:VEVENT
BEGIN:VEVENT
DTSTART;TZID=America/New_York:20250209T190000
DTEND;TZID=America/New_York:20250209T200000
DTSTAMP:20260419T215124
CREATED:20230619T142544Z
LAST-MODIFIED:20260416T160049Z
UID:10009839-1739127600-1739131200@stmichaels-litchfield.org
SUMMARY:AA Meeting in Community House
DESCRIPTION:
URL:https://stmichaels-litchfield.org/event/aa-meeting-in-community-house/2025-02-09/
LOCATION:Community House in Library from April 9th forward
END:VEVENT
BEGIN:VEVENT
DTSTART;TZID=America/New_York:20250209T110000
DTEND;TZID=America/New_York:20250209T140000
DTSTAMP:20260419T215124
CREATED:20230711T182541Z
LAST-MODIFIED:20250806T192214Z
UID:10011994-1739098800-1739109600@stmichaels-litchfield.org
SUMMARY:Coffee and Fellowship in the Community House
DESCRIPTION:
URL:https://stmichaels-litchfield.org/event/coffee-and-congregation-in-the-community-house/2025-02-09/
LOCATION:Community House in Library from April 9th forward
CATEGORIES:Church Event
END:VEVENT
BEGIN:VEVENT
DTSTART;TZID=America/New_York:20250209T100000
DTEND;TZID=America/New_York:20250209T110000
DTSTAMP:20260419T215124
CREATED:20211108T181948Z
LAST-MODIFIED:20250403T150318Z
UID:10012655-1739095200-1739098800@stmichaels-litchfield.org
SUMMARY:Sunday Eucharist\, Rite II
DESCRIPTION:Rite II with Choir \nFollowed by Coffee Hour in the Community House
URL:https://stmichaels-litchfield.org/event/sunday-eucharist-2/2025-02-09/
LOCATION:CT
CATEGORIES:Parish Events
END:VEVENT
BEGIN:VEVENT
DTSTART;TZID=America/New_York:20250209T080000
DTEND;TZID=America/New_York:20250209T090000
DTSTAMP:20260419T215124
CREATED:20211108T181651Z
LAST-MODIFIED:20260327T134504Z
UID:10020340-1739088000-1739091600@stmichaels-litchfield.org
SUMMARY:Eucharist\, Rite I
DESCRIPTION:Spoken\, no music
URL:https://stmichaels-litchfield.org/event/sunday-eucharist/2025-02-09/
LOCATION:Chapel\, 25 South Street\, Litchfield\, CT\, 06759\, United States
CATEGORIES:Church Event,Parish Events
END:VEVENT
BEGIN:VEVENT
DTSTART;TZID=America/New_York:20250208T110000
DTEND;TZID=America/New_York:20250208T140000
DTSTAMP:20260419T215124
CREATED:20250130T173324Z
LAST-MODIFIED:20250130T173324Z
UID:10019751-1739012400-1739023200@stmichaels-litchfield.org
SUMMARY:Gerard L. Studley Funeral
DESCRIPTION:
URL:https://stmichaels-litchfield.org/event/gerard-l-studley-funeral/
LOCATION:Church and Community House
CATEGORIES:Other Groups
END:VEVENT
BEGIN:VEVENT
DTSTART;TZID=America/New_York:20250208T083000
DTEND;TZID=America/New_York:20250208T093000
DTSTAMP:20260419T215124
CREATED:20230619T143626Z
LAST-MODIFIED:20230619T143720Z
UID:10010649-1739003400-1739007000@stmichaels-litchfield.org
SUMMARY:AA Meeting in Parish House Library
DESCRIPTION:
URL:https://stmichaels-litchfield.org/event/aa-meeting-in-community-house-2/2025-02-08/
LOCATION:Community House in Library from April 9th forward
CATEGORIES:AA/NA Events
END:VEVENT
BEGIN:VEVENT
DTSTART;TZID=America/New_York:20250207T133000
DTEND;TZID=America/New_York:20250207T153000
DTSTAMP:20260419T215124
CREATED:20250115T163522Z
LAST-MODIFIED:20250115T163522Z
UID:10019696-1738935000-1738942200@stmichaels-litchfield.org
SUMMARY:Italian Club
DESCRIPTION:
URL:https://stmichaels-litchfield.org/event/italian-club-3/2025-02-07/
LOCATION:Community House in Library from April 9th forward
CATEGORIES:Other Groups
END:VEVENT
BEGIN:VEVENT
DTSTART;TZID=America/New_York:20250207T100000
DTEND;TZID=America/New_York:20250207T130000
DTSTAMP:20260419T215124
CREATED:20240223T172033Z
LAST-MODIFIED:20240223T172034Z
UID:10016285-1738922400-1738933200@stmichaels-litchfield.org
SUMMARY:Church Office Open
DESCRIPTION:
URL:https://stmichaels-litchfield.org/event/summer-schedule-church-office-closed-2-2/2025-02-07/
LOCATION:Church Office\, 25 South Street\, Litchfield\, CT\, 06759\, United States
CATEGORIES:Church Office Event
END:VEVENT
BEGIN:VEVENT
DTSTART;TZID=America/New_York:20250207T070000
DTEND;TZID=America/New_York:20250207T073000
DTSTAMP:20260419T215124
CREATED:20230606T184551Z
LAST-MODIFIED:20230619T142647Z
UID:10005931-1738911600-1738913400@stmichaels-litchfield.org
SUMMARY:AA Meeting in the Parish House Library
DESCRIPTION:
URL:https://stmichaels-litchfield.org/event/aa-meeting-in-the-library/2025-02-07/
LOCATION:Parish House Library\, 25 South Street\, Litchfield\, CT\, 06759\, United States
CATEGORIES:AA/NA Events
END:VEVENT
BEGIN:VEVENT
DTSTART;TZID=America/New_York:20250206T190000
DTEND;TZID=America/New_York:20250206T220000
DTSTAMP:20260419T215124
CREATED:20230810T152445Z
LAST-MODIFIED:20230823T141209Z
UID:10012908-1738868400-1738879200@stmichaels-litchfield.org
SUMMARY:SOTG Board meeting in the Parish House Library
DESCRIPTION:
URL:https://stmichaels-litchfield.org/event/sotg-board-meeting-2/2025-02-06/
LOCATION:Parish House Library\, 25 South Street\, Litchfield\, CT\, 06759\, United States
CATEGORIES:School on the Green Event
END:VEVENT
BEGIN:VEVENT
DTSTART;TZID=America/New_York:20250206T143000
DTEND;TZID=America/New_York:20250206T163000
DTSTAMP:20260419T215124
CREATED:20250115T162847Z
LAST-MODIFIED:20250115T162847Z
UID:10019647-1738852200-1738859400@stmichaels-litchfield.org
SUMMARY:Italian Club
DESCRIPTION:
URL:https://stmichaels-litchfield.org/event/italian-club-2/2025-02-06/
LOCATION:Community House in Library from April 9th forward
END:VEVENT
BEGIN:VEVENT
DTSTART;TZID=America/New_York:20250206T100000
DTEND;TZID=America/New_York:20250206T130000
DTSTAMP:20260419T215124
CREATED:20240206T174423Z
LAST-MODIFIED:20240223T173813Z
UID:10017329-1738836000-1738846800@stmichaels-litchfield.org
SUMMARY:Church Office Open
DESCRIPTION:
URL:https://stmichaels-litchfield.org/event/church-office-open-4-5-2/2025-02-06/
LOCATION:Church Office\, 25 South Street\, Litchfield\, CT\, 06759\, United States
END:VEVENT
BEGIN:VEVENT
DTSTART;TZID=America/New_York:20250206T090000
DTEND;TZID=America/New_York:20250206T130000
DTSTAMP:20260419T215124
CREATED:20240206T174110Z
LAST-MODIFIED:20260107T171415Z
UID:10288703-1738832400-1738846800@stmichaels-litchfield.org
SUMMARY:Church Office Open
DESCRIPTION:
URL:https://stmichaels-litchfield.org/event/church-office-open-2-2-2-2/2025-02-06/
LOCATION:Church Office\, 25 South Street\, Litchfield\, CT\, 06759\, United States
CATEGORIES:Church Office Event
END:VEVENT
BEGIN:VEVENT
DTSTART;TZID=America/New_York:20250205T193000
DTEND;TZID=America/New_York:20250205T210000
DTSTAMP:20260419T215124
CREATED:20211108T180816Z
LAST-MODIFIED:20230714T003135Z
UID:10012396-1738783800-1738789200@stmichaels-litchfield.org
SUMMARY:NA meeting in Community House
DESCRIPTION:
URL:https://stmichaels-litchfield.org/event/narcotics-anonymous/2025-02-05/
LOCATION:Community House in Library from April 9th forward
CATEGORIES:AA/NA Events
END:VEVENT
BEGIN:VEVENT
DTSTART;TZID=America/New_York:20250205T190000
DTEND;TZID=America/New_York:20250205T203000
DTSTAMP:20260419T215124
CREATED:20230817T183342Z
LAST-MODIFIED:20230817T183342Z
UID:10013072-1738782000-1738787400@stmichaels-litchfield.org
SUMMARY:Choir Rehearsal in Parish House Music Room
DESCRIPTION:
URL:https://stmichaels-litchfield.org/event/choir-rehearsal-in-parish-house-music-room/2025-02-05/
LOCATION:Parish House Music Room
CATEGORIES:Church Event
END:VEVENT
BEGIN:VEVENT
DTSTART;TZID=America/New_York:20250205T100000
DTEND;TZID=America/New_York:20250205T130000
DTSTAMP:20260419T215124
CREATED:20240206T174237Z
LAST-MODIFIED:20240223T173652Z
UID:10017068-1738749600-1738760400@stmichaels-litchfield.org
SUMMARY:Church Office Open
DESCRIPTION:
URL:https://stmichaels-litchfield.org/event/church-office-open-3-4-2/2025-02-05/
LOCATION:Church Office\, 25 South Street\, Litchfield\, CT\, 06759\, United States
END:VEVENT
BEGIN:VEVENT
DTSTART;TZID=America/New_York:20250205T090000
DTEND;TZID=America/New_York:20250205T130000
DTSTAMP:20260419T215124
CREATED:20240206T174110Z
LAST-MODIFIED:20260107T171415Z
UID:10288702-1738746000-1738760400@stmichaels-litchfield.org
SUMMARY:Church Office Open
DESCRIPTION:
URL:https://stmichaels-litchfield.org/event/church-office-open-2-2-2-2/2025-02-05/
LOCATION:Church Office\, 25 South Street\, Litchfield\, CT\, 06759\, United States
CATEGORIES:Church Office Event
END:VEVENT
BEGIN:VEVENT
DTSTART;TZID=America/New_York:20250205T083000
DTEND;TZID=America/New_York:20250205T110000
DTSTAMP:20260419T215124
CREATED:20250109T152013Z
LAST-MODIFIED:20250109T152013Z
UID:10019380-1738744200-1738753200@stmichaels-litchfield.org
SUMMARY:Greenwoods Counseling
DESCRIPTION:
URL:https://stmichaels-litchfield.org/event/greenwoods-counseling-7/2025-02-05/
LOCATION:CT
CATEGORIES:Greenwoods Counseling
END:VEVENT
BEGIN:VEVENT
DTSTART;TZID=America/New_York:20250205T070000
DTEND;TZID=America/New_York:20250205T073000
DTSTAMP:20260419T215124
CREATED:20230606T184551Z
LAST-MODIFIED:20230619T142647Z
UID:10005930-1738738800-1738740600@stmichaels-litchfield.org
SUMMARY:AA Meeting in the Parish House Library
DESCRIPTION:
URL:https://stmichaels-litchfield.org/event/aa-meeting-in-the-library/2025-02-05/
LOCATION:Parish House Library\, 25 South Street\, Litchfield\, CT\, 06759\, United States
CATEGORIES:AA/NA Events
END:VEVENT
BEGIN:VEVENT
DTSTART;TZID=America/New_York:20250204T191500
DTEND;TZID=America/New_York:20250204T210000
DTSTAMP:20260419T215124
CREATED:20231205T151748Z
LAST-MODIFIED:20231205T151808Z
UID:10014046-1738696500-1738702800@stmichaels-litchfield.org
SUMMARY:Property Committee meeting in Parish House Library
DESCRIPTION:
URL:https://stmichaels-litchfield.org/event/property-committee-meeting-in-parish-house-library/2025-02-04/
LOCATION:Parish House Library\, 25 South Street\, Litchfield\, CT\, 06759\, United States
CATEGORIES:Church Event
END:VEVENT
BEGIN:VEVENT
DTSTART;TZID=America/New_York:20250204T190000
DTEND;TZID=America/New_York:20250204T200000
DTSTAMP:20260419T215124
CREATED:20211108T175914Z
LAST-MODIFIED:20260130T014621Z
UID:10010042-1738695600-1738699200@stmichaels-litchfield.org
SUMMARY:AA Meeting in Community House
DESCRIPTION:
URL:https://stmichaels-litchfield.org/event/aa-group-in-community-house-2/2025-02-04/
LOCATION:Community House in Library from April 9th forward
CATEGORIES:AA/NA Events
END:VEVENT
BEGIN:VEVENT
DTSTART;TZID=America/New_York:20250204T171500
DTEND;TZID=America/New_York:20250204T183000
DTSTAMP:20260419T215124
CREATED:20231227T151453Z
LAST-MODIFIED:20260317T155826Z
UID:10293627-1738689300-1738693800@stmichaels-litchfield.org
SUMMARY:Property Committee Meeting in Parish House Library
DESCRIPTION:
URL:https://stmichaels-litchfield.org/event/property-committee-meeting-in-parish-house-library-3/2025-02-04/
LOCATION:Parish House Library\, 25 South Street\, Litchfield\, CT\, 06759\, United States
CATEGORIES:Church Event
END:VEVENT
END:VCALENDAR