BEGIN:VCALENDAR
VERSION:2.0
PRODID:-//St. Michael&#039;s Church - ECPv6.15.20//NONSGML v1.0//EN
CALSCALE:GREGORIAN
METHOD:PUBLISH
X-WR-CALNAME:St. Michael&#039;s Church
X-ORIGINAL-URL:https://stmichaels-litchfield.org
X-WR-CALDESC:Events for St. Michael&#039;s Church
REFRESH-INTERVAL;VALUE=DURATION:PT1H
X-Robots-Tag:noindex
X-PUBLISHED-TTL:PT1H
BEGIN:VTIMEZONE
TZID:America/New_York
BEGIN:DAYLIGHT
TZOFFSETFROM:-0500
TZOFFSETTO:-0400
TZNAME:EDT
DTSTART:20260308T070000
END:DAYLIGHT
BEGIN:STANDARD
TZOFFSETFROM:-0400
TZOFFSETTO:-0500
TZNAME:EST
DTSTART:20261101T060000
END:STANDARD
BEGIN:DAYLIGHT
TZOFFSETFROM:-0500
TZOFFSETTO:-0400
TZNAME:EDT
DTSTART:20270314T070000
END:DAYLIGHT
BEGIN:STANDARD
TZOFFSETFROM:-0400
TZOFFSETTO:-0500
TZNAME:EST
DTSTART:20271107T060000
END:STANDARD
BEGIN:DAYLIGHT
TZOFFSETFROM:-0500
TZOFFSETTO:-0400
TZNAME:EDT
DTSTART:20280312T070000
END:DAYLIGHT
BEGIN:STANDARD
TZOFFSETFROM:-0400
TZOFFSETTO:-0500
TZNAME:EST
DTSTART:20281105T060000
END:STANDARD
END:VTIMEZONE
BEGIN:VEVENT
DTSTART;TZID=America/New_York:20270112T120000
DTEND;TZID=America/New_York:20270112T130000
DTSTAMP:20260420T011951
CREATED:20260223T205039Z
LAST-MODIFIED:20260223T205039Z
UID:10293175-1799755200-1799758800@stmichaels-litchfield.org
SUMMARY:Lunch with Meredith
DESCRIPTION:
URL:https://stmichaels-litchfield.org/event/lunch-with-meredith-2/2027-01-12/
LOCATION:Community House in Library from April 9th forward
CATEGORIES:Church Event,Parish Events
END:VEVENT
BEGIN:VEVENT
DTSTART;TZID=America/New_York:20270112T151500
DTEND;TZID=America/New_York:20270112T163000
DTSTAMP:20260420T011951
CREATED:20260223T204456Z
LAST-MODIFIED:20260304T185946Z
UID:10293563-1799766900-1799771400@stmichaels-litchfield.org
SUMMARY:Property Committee meeting in Parish House Library
DESCRIPTION:
URL:https://stmichaels-litchfield.org/event/property-committee-meeting-in-parish-house-library-4/2027-01-12/
LOCATION:Parish House Library\, 25 South Street\, Litchfield\, CT\, 06759\, United States
CATEGORIES:Church Event
END:VEVENT
BEGIN:VEVENT
DTSTART;TZID=America/New_York:20270112T160000
DTEND;TZID=America/New_York:20270112T173000
DTSTAMP:20260420T011951
CREATED:20260331T205128Z
LAST-MODIFIED:20260331T205254Z
UID:10294737-1799769600-1799775000@stmichaels-litchfield.org
SUMMARY:Priest Search Committee
DESCRIPTION:
URL:https://stmichaels-litchfield.org/event/priest-search-committee-3-2-5/2027-01-12/
LOCATION:Parish House Library\, 25 South Street\, Litchfield\, CT\, 06759\, United States
END:VEVENT
BEGIN:VEVENT
DTSTART;TZID=America/New_York:20270112T190000
DTEND;TZID=America/New_York:20270112T200000
DTSTAMP:20260420T011951
CREATED:20211108T175914Z
LAST-MODIFIED:20260130T014621Z
UID:10010143-1799780400-1799784000@stmichaels-litchfield.org
SUMMARY:AA Meeting in Community House
DESCRIPTION:
URL:https://stmichaels-litchfield.org/event/aa-group-in-community-house-2/2027-01-12/
LOCATION:Community House in Library from April 9th forward
CATEGORIES:AA/NA Events
END:VEVENT
BEGIN:VEVENT
DTSTART;TZID=America/New_York:20270113T070000
DTEND;TZID=America/New_York:20270113T073000
DTSTAMP:20260420T011951
CREATED:20230606T184551Z
LAST-MODIFIED:20230619T142647Z
UID:10006233-1799823600-1799825400@stmichaels-litchfield.org
SUMMARY:AA Meeting in the Parish House Library
DESCRIPTION:
URL:https://stmichaels-litchfield.org/event/aa-meeting-in-the-library/2027-01-13/
LOCATION:Parish House Library\, 25 South Street\, Litchfield\, CT\, 06759\, United States
CATEGORIES:AA/NA Events
END:VEVENT
BEGIN:VEVENT
DTSTART;TZID=America/New_York:20270113T083000
DTEND;TZID=America/New_York:20270113T110000
DTSTAMP:20260420T011951
CREATED:20250109T152013Z
LAST-MODIFIED:20250109T152013Z
UID:10019481-1799829000-1799838000@stmichaels-litchfield.org
SUMMARY:Greenwoods Counseling
DESCRIPTION:
URL:https://stmichaels-litchfield.org/event/greenwoods-counseling-7/2027-01-13/
CATEGORIES:Greenwoods Counseling
END:VEVENT
BEGIN:VEVENT
DTSTART;TZID=America/New_York:20270113T093000
DTEND;TZID=America/New_York:20270113T143000
DTSTAMP:20260420T011951
CREATED:20260128T181432Z
LAST-MODIFIED:20260128T181726Z
UID:10291624-1799832600-1799850600@stmichaels-litchfield.org
SUMMARY:Church Office Open
DESCRIPTION:
URL:https://stmichaels-litchfield.org/event/church-office-open-14/2027-01-13/
LOCATION:Church Office\, 25 South Street\, Litchfield\, CT\, 06759\, United States
CATEGORIES:Church Office Event
END:VEVENT
BEGIN:VEVENT
DTSTART;TZID=America/New_York:20270113T173000
DTEND;TZID=America/New_York:20270113T180000
DTSTAMP:20260420T011951
CREATED:20260327T155546Z
LAST-MODIFIED:20260327T155546Z
UID:10294478-1799861400-1799863200@stmichaels-litchfield.org
SUMMARY:Chanted Evening Prayer
DESCRIPTION:
URL:https://stmichaels-litchfield.org/event/chanted-evening-prayer-3/2027-01-13/
LOCATION:Chapel\, 25 South Street\, Litchfield\, CT\, 06759\, United States
CATEGORIES:Church Event
END:VEVENT
BEGIN:VEVENT
DTSTART;TZID=America/New_York:20270113T190000
DTEND;TZID=America/New_York:20270113T203000
DTSTAMP:20260420T011951
CREATED:20230817T183342Z
LAST-MODIFIED:20230817T183342Z
UID:10013173-1799866800-1799872200@stmichaels-litchfield.org
SUMMARY:Choir Rehearsal in Parish House Music Room
DESCRIPTION:
URL:https://stmichaels-litchfield.org/event/choir-rehearsal-in-parish-house-music-room/2027-01-13/
LOCATION:Parish House Music Room
CATEGORIES:Church Event
END:VEVENT
BEGIN:VEVENT
DTSTART;TZID=America/New_York:20270113T193000
DTEND;TZID=America/New_York:20270113T210000
DTSTAMP:20260420T011951
CREATED:20211108T180816Z
LAST-MODIFIED:20230714T003135Z
UID:10012497-1799868600-1799874000@stmichaels-litchfield.org
SUMMARY:NA meeting in Community House
DESCRIPTION:
URL:https://stmichaels-litchfield.org/event/narcotics-anonymous/2027-01-13/
LOCATION:Community House in Library from April 9th forward
CATEGORIES:AA/NA Events
END:VEVENT
BEGIN:VEVENT
DTSTART;TZID=America/New_York:20270114T093000
DTEND;TZID=America/New_York:20270114T143000
DTSTAMP:20260420T011951
CREATED:20260128T181432Z
LAST-MODIFIED:20260128T181726Z
UID:10291625-1799919000-1799937000@stmichaels-litchfield.org
SUMMARY:Church Office Open
DESCRIPTION:
URL:https://stmichaels-litchfield.org/event/church-office-open-14/2027-01-14/
LOCATION:Church Office\, 25 South Street\, Litchfield\, CT\, 06759\, United States
CATEGORIES:Church Office Event
END:VEVENT
BEGIN:VEVENT
DTSTART;TZID=America/New_York:20270115T070000
DTEND;TZID=America/New_York:20270115T073000
DTSTAMP:20260420T011951
CREATED:20230606T184551Z
LAST-MODIFIED:20230619T142647Z
UID:10006234-1799996400-1799998200@stmichaels-litchfield.org
SUMMARY:AA Meeting in the Parish House Library
DESCRIPTION:
URL:https://stmichaels-litchfield.org/event/aa-meeting-in-the-library/2027-01-15/
LOCATION:Parish House Library\, 25 South Street\, Litchfield\, CT\, 06759\, United States
CATEGORIES:AA/NA Events
END:VEVENT
BEGIN:VEVENT
DTSTART;TZID=America/New_York:20270115T093000
DTEND;TZID=America/New_York:20270115T143000
DTSTAMP:20260420T011951
CREATED:20260128T181432Z
LAST-MODIFIED:20260128T181726Z
UID:10291626-1800005400-1800023400@stmichaels-litchfield.org
SUMMARY:Church Office Open
DESCRIPTION:
URL:https://stmichaels-litchfield.org/event/church-office-open-14/2027-01-15/
LOCATION:Church Office\, 25 South Street\, Litchfield\, CT\, 06759\, United States
CATEGORIES:Church Office Event
END:VEVENT
BEGIN:VEVENT
DTSTART;TZID=America/New_York:20270116T083000
DTEND;TZID=America/New_York:20270116T093000
DTSTAMP:20260420T011951
CREATED:20230619T143626Z
LAST-MODIFIED:20230619T143720Z
UID:10010750-1800088200-1800091800@stmichaels-litchfield.org
SUMMARY:AA Meeting in Parish House Library
DESCRIPTION:
URL:https://stmichaels-litchfield.org/event/aa-meeting-in-community-house-2/2027-01-16/
LOCATION:Community House in Library from April 9th forward
CATEGORIES:AA/NA Events
END:VEVENT
BEGIN:VEVENT
DTSTART;TZID=America/New_York:20270117T080000
DTEND;TZID=America/New_York:20270117T090000
DTSTAMP:20260420T011951
CREATED:20211108T181651Z
LAST-MODIFIED:20260327T134504Z
UID:10020441-1800172800-1800176400@stmichaels-litchfield.org
SUMMARY:Eucharist\, Rite I
DESCRIPTION:Spoken\, no music
URL:https://stmichaels-litchfield.org/event/sunday-eucharist/2027-01-17/
LOCATION:Chapel\, 25 South Street\, Litchfield\, CT\, 06759\, United States
CATEGORIES:Church Event,Parish Events
END:VEVENT
BEGIN:VEVENT
DTSTART;TZID=America/New_York:20270117T100000
DTEND;TZID=America/New_York:20270117T110000
DTSTAMP:20260420T011951
CREATED:20250403T150154Z
LAST-MODIFIED:20250806T192031Z
UID:10012756-1800180000-1800183600@stmichaels-litchfield.org
SUMMARY:Sunday Eucharist\, Rite II
DESCRIPTION:Rite II with music \nFollowed by Coffee Hour in the Community House
URL:https://stmichaels-litchfield.org/event/sunday-eucharist-2-3/2027-01-17/
LOCATION:Church and Community House
CATEGORIES:Church Event,Parish Events
END:VEVENT
BEGIN:VEVENT
DTSTART;TZID=America/New_York:20270117T110000
DTEND;TZID=America/New_York:20270117T140000
DTSTAMP:20260420T011951
CREATED:20230711T182541Z
LAST-MODIFIED:20250806T192214Z
UID:10012095-1800183600-1800194400@stmichaels-litchfield.org
SUMMARY:Coffee and Fellowship in the Community House
DESCRIPTION:
URL:https://stmichaels-litchfield.org/event/coffee-and-congregation-in-the-community-house/2027-01-17/
LOCATION:Community House in Library from April 9th forward
CATEGORIES:Church Event
END:VEVENT
BEGIN:VEVENT
DTSTART;TZID=America/New_York:20270117T190000
DTEND;TZID=America/New_York:20270117T200000
DTSTAMP:20260420T011951
CREATED:20230619T142544Z
LAST-MODIFIED:20260416T160049Z
UID:10009940-1800212400-1800216000@stmichaels-litchfield.org
SUMMARY:AA Meeting in Community House
DESCRIPTION:
URL:https://stmichaels-litchfield.org/event/aa-meeting-in-community-house/2027-01-17/
LOCATION:Community House in Library from April 9th forward
END:VEVENT
BEGIN:VEVENT
DTSTART;VALUE=DATE:20270118
DTEND;VALUE=DATE:20270119
DTSTAMP:20260420T011951
CREATED:20260128T181321Z
LAST-MODIFIED:20260128T181322Z
UID:10291191-1800230400-1800316799@stmichaels-litchfield.org
SUMMARY:Church Office Closed
DESCRIPTION:
URL:https://stmichaels-litchfield.org/event/summer-schedule-church-office-closed-2-2-2-3/2027-01-18/
LOCATION:Church Office\, 25 South Street\, Litchfield\, CT\, 06759\, United States
CATEGORIES:Church Office Event
END:VEVENT
BEGIN:VEVENT
DTSTART;TZID=America/New_York:20270118T070000
DTEND;TZID=America/New_York:20270118T073000
DTSTAMP:20260420T011951
CREATED:20230606T184551Z
LAST-MODIFIED:20230619T142647Z
UID:10006235-1800255600-1800257400@stmichaels-litchfield.org
SUMMARY:AA Meeting in the Parish House Library
DESCRIPTION:
URL:https://stmichaels-litchfield.org/event/aa-meeting-in-the-library/2027-01-18/
LOCATION:Parish House Library\, 25 South Street\, Litchfield\, CT\, 06759\, United States
CATEGORIES:AA/NA Events
END:VEVENT
BEGIN:VEVENT
DTSTART;TZID=America/New_York:20270118T200000
DTEND;TZID=America/New_York:20270118T213000
DTSTAMP:20260420T011951
CREATED:20260218T173517Z
LAST-MODIFIED:20260218T173517Z
UID:10292614-1800302400-1800307800@stmichaels-litchfield.org
SUMMARY:AA meeting in the Community House
DESCRIPTION:
URL:https://stmichaels-litchfield.org/event/aa-meeting-in-the-community-house-2/2027-01-18/
END:VEVENT
BEGIN:VEVENT
DTSTART;TZID=America/New_York:20270119T093000
DTEND;TZID=America/New_York:20270119T143000
DTSTAMP:20260420T011951
CREATED:20260128T181432Z
LAST-MODIFIED:20260128T181726Z
UID:10291627-1800351000-1800369000@stmichaels-litchfield.org
SUMMARY:Church Office Open
DESCRIPTION:
URL:https://stmichaels-litchfield.org/event/church-office-open-14/2027-01-19/
LOCATION:Church Office\, 25 South Street\, Litchfield\, CT\, 06759\, United States
CATEGORIES:Church Office Event
END:VEVENT
BEGIN:VEVENT
DTSTART;TZID=America/New_York:20270119T160000
DTEND;TZID=America/New_York:20270119T173000
DTSTAMP:20260420T011951
CREATED:20260331T205128Z
LAST-MODIFIED:20260331T205254Z
UID:10294738-1800374400-1800379800@stmichaels-litchfield.org
SUMMARY:Priest Search Committee
DESCRIPTION:
URL:https://stmichaels-litchfield.org/event/priest-search-committee-3-2-5/2027-01-19/
LOCATION:Parish House Library\, 25 South Street\, Litchfield\, CT\, 06759\, United States
END:VEVENT
BEGIN:VEVENT
DTSTART;TZID=America/New_York:20270119T190000
DTEND;TZID=America/New_York:20270119T200000
DTSTAMP:20260420T011951
CREATED:20211108T175914Z
LAST-MODIFIED:20260130T014621Z
UID:10010144-1800385200-1800388800@stmichaels-litchfield.org
SUMMARY:AA Meeting in Community House
DESCRIPTION:
URL:https://stmichaels-litchfield.org/event/aa-group-in-community-house-2/2027-01-19/
LOCATION:Community House in Library from April 9th forward
CATEGORIES:AA/NA Events
END:VEVENT
BEGIN:VEVENT
DTSTART;TZID=America/New_York:20270120T070000
DTEND;TZID=America/New_York:20270120T073000
DTSTAMP:20260420T011951
CREATED:20230606T184551Z
LAST-MODIFIED:20230619T142647Z
UID:10006236-1800428400-1800430200@stmichaels-litchfield.org
SUMMARY:AA Meeting in the Parish House Library
DESCRIPTION:
URL:https://stmichaels-litchfield.org/event/aa-meeting-in-the-library/2027-01-20/
LOCATION:Parish House Library\, 25 South Street\, Litchfield\, CT\, 06759\, United States
CATEGORIES:AA/NA Events
END:VEVENT
BEGIN:VEVENT
DTSTART;TZID=America/New_York:20270120T083000
DTEND;TZID=America/New_York:20270120T110000
DTSTAMP:20260420T011951
CREATED:20250109T152013Z
LAST-MODIFIED:20250109T152013Z
UID:10019482-1800433800-1800442800@stmichaels-litchfield.org
SUMMARY:Greenwoods Counseling
DESCRIPTION:
URL:https://stmichaels-litchfield.org/event/greenwoods-counseling-7/2027-01-20/
CATEGORIES:Greenwoods Counseling
END:VEVENT
BEGIN:VEVENT
DTSTART;TZID=America/New_York:20270120T093000
DTEND;TZID=America/New_York:20270120T143000
DTSTAMP:20260420T011951
CREATED:20260128T181432Z
LAST-MODIFIED:20260128T181726Z
UID:10291628-1800437400-1800455400@stmichaels-litchfield.org
SUMMARY:Church Office Open
DESCRIPTION:
URL:https://stmichaels-litchfield.org/event/church-office-open-14/2027-01-20/
LOCATION:Church Office\, 25 South Street\, Litchfield\, CT\, 06759\, United States
CATEGORIES:Church Office Event
END:VEVENT
BEGIN:VEVENT
DTSTART;TZID=America/New_York:20270120T173000
DTEND;TZID=America/New_York:20270120T180000
DTSTAMP:20260420T011951
CREATED:20260327T155546Z
LAST-MODIFIED:20260327T155546Z
UID:10294479-1800466200-1800468000@stmichaels-litchfield.org
SUMMARY:Chanted Evening Prayer
DESCRIPTION:
URL:https://stmichaels-litchfield.org/event/chanted-evening-prayer-3/2027-01-20/
LOCATION:Chapel\, 25 South Street\, Litchfield\, CT\, 06759\, United States
CATEGORIES:Church Event
END:VEVENT
BEGIN:VEVENT
DTSTART;TZID=America/New_York:20270120T190000
DTEND;TZID=America/New_York:20270120T203000
DTSTAMP:20260420T011951
CREATED:20230817T183342Z
LAST-MODIFIED:20230817T183342Z
UID:10013174-1800471600-1800477000@stmichaels-litchfield.org
SUMMARY:Choir Rehearsal in Parish House Music Room
DESCRIPTION:
URL:https://stmichaels-litchfield.org/event/choir-rehearsal-in-parish-house-music-room/2027-01-20/
LOCATION:Parish House Music Room
CATEGORIES:Church Event
END:VEVENT
BEGIN:VEVENT
DTSTART;TZID=America/New_York:20270120T193000
DTEND;TZID=America/New_York:20270120T210000
DTSTAMP:20260420T011951
CREATED:20211108T180816Z
LAST-MODIFIED:20230714T003135Z
UID:10012498-1800473400-1800478800@stmichaels-litchfield.org
SUMMARY:NA meeting in Community House
DESCRIPTION:
URL:https://stmichaels-litchfield.org/event/narcotics-anonymous/2027-01-20/
LOCATION:Community House in Library from April 9th forward
CATEGORIES:AA/NA Events
END:VEVENT
END:VCALENDAR