BEGIN:VCALENDAR
VERSION:2.0
PRODID:-//St. Michael&#039;s Church - ECPv6.15.20//NONSGML v1.0//EN
CALSCALE:GREGORIAN
METHOD:PUBLISH
X-WR-CALNAME:St. Michael&#039;s Church
X-ORIGINAL-URL:https://stmichaels-litchfield.org
X-WR-CALDESC:Events for St. Michael&#039;s Church
REFRESH-INTERVAL;VALUE=DURATION:PT1H
X-Robots-Tag:noindex
X-PUBLISHED-TTL:PT1H
BEGIN:VTIMEZONE
TZID:America/New_York
BEGIN:DAYLIGHT
TZOFFSETFROM:-0500
TZOFFSETTO:-0400
TZNAME:EDT
DTSTART:20260308T070000
END:DAYLIGHT
BEGIN:STANDARD
TZOFFSETFROM:-0400
TZOFFSETTO:-0500
TZNAME:EST
DTSTART:20261101T060000
END:STANDARD
BEGIN:DAYLIGHT
TZOFFSETFROM:-0500
TZOFFSETTO:-0400
TZNAME:EDT
DTSTART:20270314T070000
END:DAYLIGHT
BEGIN:STANDARD
TZOFFSETFROM:-0400
TZOFFSETTO:-0500
TZNAME:EST
DTSTART:20271107T060000
END:STANDARD
BEGIN:DAYLIGHT
TZOFFSETFROM:-0500
TZOFFSETTO:-0400
TZNAME:EDT
DTSTART:20280312T070000
END:DAYLIGHT
BEGIN:STANDARD
TZOFFSETFROM:-0400
TZOFFSETTO:-0500
TZNAME:EST
DTSTART:20281105T060000
END:STANDARD
END:VTIMEZONE
BEGIN:VEVENT
DTSTART;TZID=America/New_York:20270526T083000
DTEND;TZID=America/New_York:20270526T110000
DTSTAMP:20260420T080541
CREATED:20250109T152013Z
LAST-MODIFIED:20250109T152013Z
UID:10019500-1811320200-1811329200@stmichaels-litchfield.org
SUMMARY:Greenwoods Counseling
DESCRIPTION:
URL:https://stmichaels-litchfield.org/event/greenwoods-counseling-7/2027-05-26/
CATEGORIES:Greenwoods Counseling
END:VEVENT
BEGIN:VEVENT
DTSTART;TZID=America/New_York:20270526T093000
DTEND;TZID=America/New_York:20270526T143000
DTSTAMP:20260420T080541
CREATED:20260128T181432Z
LAST-MODIFIED:20260128T181726Z
UID:10291700-1811323800-1811341800@stmichaels-litchfield.org
SUMMARY:Church Office Open
DESCRIPTION:
URL:https://stmichaels-litchfield.org/event/church-office-open-14/2027-05-26/
LOCATION:Church Office\, 25 South Street\, Litchfield\, CT\, 06759\, United States
CATEGORIES:Church Office Event
END:VEVENT
BEGIN:VEVENT
DTSTART;TZID=America/New_York:20270526T110000
DTEND;TZID=America/New_York:20270526T133000
DTSTAMP:20260420T080541
CREATED:20231012T152740Z
LAST-MODIFIED:20231012T152740Z
UID:10013921-1811329200-1811338200@stmichaels-litchfield.org
SUMMARY:Greenwoods Counselling All Staff Meeting in the Community House
DESCRIPTION:
URL:https://stmichaels-litchfield.org/event/greenwoods-counselling-all-staff-meeting-in-the-community-house/2027-05-26/
LOCATION:Community House in Library from April 9th forward
CATEGORIES:Greenwoods Counseling
END:VEVENT
BEGIN:VEVENT
DTSTART;TZID=America/New_York:20270526T173000
DTEND;TZID=America/New_York:20270526T180000
DTSTAMP:20260420T080541
CREATED:20260327T155546Z
LAST-MODIFIED:20260327T155546Z
UID:10294497-1811352600-1811354400@stmichaels-litchfield.org
SUMMARY:Chanted Evening Prayer
DESCRIPTION:
URL:https://stmichaels-litchfield.org/event/chanted-evening-prayer-3/2027-05-26/
LOCATION:Chapel\, 25 South Street\, Litchfield\, CT\, 06759\, United States
CATEGORIES:Church Event
END:VEVENT
BEGIN:VEVENT
DTSTART;TZID=America/New_York:20270526T190000
DTEND;TZID=America/New_York:20270526T203000
DTSTAMP:20260420T080541
CREATED:20230817T183342Z
LAST-MODIFIED:20230817T183342Z
UID:10013192-1811358000-1811363400@stmichaels-litchfield.org
SUMMARY:Choir Rehearsal in Parish House Music Room
DESCRIPTION:
URL:https://stmichaels-litchfield.org/event/choir-rehearsal-in-parish-house-music-room/2027-05-26/
LOCATION:Parish House Music Room
CATEGORIES:Church Event
END:VEVENT
BEGIN:VEVENT
DTSTART;TZID=America/New_York:20270526T193000
DTEND;TZID=America/New_York:20270526T210000
DTSTAMP:20260420T080541
CREATED:20211108T180816Z
LAST-MODIFIED:20230714T003135Z
UID:10012516-1811359800-1811365200@stmichaels-litchfield.org
SUMMARY:NA meeting in Community House
DESCRIPTION:
URL:https://stmichaels-litchfield.org/event/narcotics-anonymous/2027-05-26/
LOCATION:Community House in Library from April 9th forward
CATEGORIES:AA/NA Events
END:VEVENT
BEGIN:VEVENT
DTSTART;TZID=America/New_York:20270527T093000
DTEND;TZID=America/New_York:20270527T143000
DTSTAMP:20260420T080541
CREATED:20260128T181432Z
LAST-MODIFIED:20260128T181726Z
UID:10291701-1811410200-1811428200@stmichaels-litchfield.org
SUMMARY:Church Office Open
DESCRIPTION:
URL:https://stmichaels-litchfield.org/event/church-office-open-14/2027-05-27/
LOCATION:Church Office\, 25 South Street\, Litchfield\, CT\, 06759\, United States
CATEGORIES:Church Office Event
END:VEVENT
BEGIN:VEVENT
DTSTART;TZID=America/New_York:20270528T070000
DTEND;TZID=America/New_York:20270528T073000
DTSTAMP:20260420T080541
CREATED:20230606T184551Z
LAST-MODIFIED:20230619T142647Z
UID:10006291-1811487600-1811489400@stmichaels-litchfield.org
SUMMARY:AA Meeting in the Parish House Library
DESCRIPTION:
URL:https://stmichaels-litchfield.org/event/aa-meeting-in-the-library/2027-05-28/
LOCATION:Parish House Library\, 25 South Street\, Litchfield\, CT\, 06759\, United States
CATEGORIES:AA/NA Events
END:VEVENT
BEGIN:VEVENT
DTSTART;TZID=America/New_York:20270528T093000
DTEND;TZID=America/New_York:20270528T143000
DTSTAMP:20260420T080541
CREATED:20260128T181432Z
LAST-MODIFIED:20260128T181726Z
UID:10291702-1811496600-1811514600@stmichaels-litchfield.org
SUMMARY:Church Office Open
DESCRIPTION:
URL:https://stmichaels-litchfield.org/event/church-office-open-14/2027-05-28/
LOCATION:Church Office\, 25 South Street\, Litchfield\, CT\, 06759\, United States
CATEGORIES:Church Office Event
END:VEVENT
BEGIN:VEVENT
DTSTART;TZID=America/New_York:20270529T083000
DTEND;TZID=America/New_York:20270529T093000
DTSTAMP:20260420T080541
CREATED:20230619T143626Z
LAST-MODIFIED:20230619T143720Z
UID:10010769-1811579400-1811583000@stmichaels-litchfield.org
SUMMARY:AA Meeting in Parish House Library
DESCRIPTION:
URL:https://stmichaels-litchfield.org/event/aa-meeting-in-community-house-2/2027-05-29/
LOCATION:Community House in Library from April 9th forward
CATEGORIES:AA/NA Events
END:VEVENT
BEGIN:VEVENT
DTSTART;TZID=America/New_York:20270530T080000
DTEND;TZID=America/New_York:20270530T090000
DTSTAMP:20260420T080541
CREATED:20211108T181651Z
LAST-MODIFIED:20260327T134504Z
UID:10020460-1811664000-1811667600@stmichaels-litchfield.org
SUMMARY:Eucharist\, Rite I
DESCRIPTION:Spoken\, no music
URL:https://stmichaels-litchfield.org/event/sunday-eucharist/2027-05-30/
LOCATION:Chapel\, 25 South Street\, Litchfield\, CT\, 06759\, United States
CATEGORIES:Church Event,Parish Events
END:VEVENT
BEGIN:VEVENT
DTSTART;TZID=America/New_York:20270530T100000
DTEND;TZID=America/New_York:20270530T110000
DTSTAMP:20260420T080541
CREATED:20250403T150154Z
LAST-MODIFIED:20250806T192031Z
UID:10012775-1811671200-1811674800@stmichaels-litchfield.org
SUMMARY:Sunday Eucharist\, Rite II
DESCRIPTION:Rite II with music \nFollowed by Coffee Hour in the Community House
URL:https://stmichaels-litchfield.org/event/sunday-eucharist-2-3/2027-05-30/
LOCATION:Church and Community House
CATEGORIES:Church Event,Parish Events
END:VEVENT
BEGIN:VEVENT
DTSTART;TZID=America/New_York:20270530T110000
DTEND;TZID=America/New_York:20270530T140000
DTSTAMP:20260420T080541
CREATED:20230711T182541Z
LAST-MODIFIED:20250806T192214Z
UID:10012114-1811674800-1811685600@stmichaels-litchfield.org
SUMMARY:Coffee and Fellowship in the Community House
DESCRIPTION:
URL:https://stmichaels-litchfield.org/event/coffee-and-congregation-in-the-community-house/2027-05-30/
LOCATION:Community House in Library from April 9th forward
CATEGORIES:Church Event
END:VEVENT
BEGIN:VEVENT
DTSTART;TZID=America/New_York:20270530T190000
DTEND;TZID=America/New_York:20270530T200000
DTSTAMP:20260420T080541
CREATED:20230619T142544Z
LAST-MODIFIED:20260416T160049Z
UID:10009959-1811703600-1811707200@stmichaels-litchfield.org
SUMMARY:AA Meeting in Community House
DESCRIPTION:
URL:https://stmichaels-litchfield.org/event/aa-meeting-in-community-house/2027-05-30/
LOCATION:Community House in Library from April 9th forward
END:VEVENT
BEGIN:VEVENT
DTSTART;VALUE=DATE:20270531
DTEND;VALUE=DATE:20270601
DTSTAMP:20260420T080541
CREATED:20260128T181321Z
LAST-MODIFIED:20260128T181322Z
UID:10291210-1811721600-1811807999@stmichaels-litchfield.org
SUMMARY:Church Office Closed
DESCRIPTION:
URL:https://stmichaels-litchfield.org/event/summer-schedule-church-office-closed-2-2-2-3/2027-05-31/
LOCATION:Church Office\, 25 South Street\, Litchfield\, CT\, 06759\, United States
CATEGORIES:Church Office Event
END:VEVENT
BEGIN:VEVENT
DTSTART;TZID=America/New_York:20270531T070000
DTEND;TZID=America/New_York:20270531T073000
DTSTAMP:20260420T080541
CREATED:20230606T184551Z
LAST-MODIFIED:20230619T142647Z
UID:10006292-1811746800-1811748600@stmichaels-litchfield.org
SUMMARY:AA Meeting in the Parish House Library
DESCRIPTION:
URL:https://stmichaels-litchfield.org/event/aa-meeting-in-the-library/2027-05-31/
LOCATION:Parish House Library\, 25 South Street\, Litchfield\, CT\, 06759\, United States
CATEGORIES:AA/NA Events
END:VEVENT
BEGIN:VEVENT
DTSTART;TZID=America/New_York:20270531T200000
DTEND;TZID=America/New_York:20270531T213000
DTSTAMP:20260420T080541
CREATED:20260218T173517Z
LAST-MODIFIED:20260218T173517Z
UID:10292633-1811793600-1811799000@stmichaels-litchfield.org
SUMMARY:AA meeting in the Community House
DESCRIPTION:
URL:https://stmichaels-litchfield.org/event/aa-meeting-in-the-community-house-2/2027-05-31/
END:VEVENT
BEGIN:VEVENT
DTSTART;TZID=America/New_York:20270601T093000
DTEND;TZID=America/New_York:20270601T143000
DTSTAMP:20260420T080541
CREATED:20260128T181432Z
LAST-MODIFIED:20260128T181726Z
UID:10291703-1811842200-1811860200@stmichaels-litchfield.org
SUMMARY:Church Office Open
DESCRIPTION:
URL:https://stmichaels-litchfield.org/event/church-office-open-14/2027-06-01/
LOCATION:Church Office\, 25 South Street\, Litchfield\, CT\, 06759\, United States
CATEGORIES:Church Office Event
END:VEVENT
BEGIN:VEVENT
DTSTART;TZID=America/New_York:20270601T160000
DTEND;TZID=America/New_York:20270601T173000
DTSTAMP:20260420T080541
CREATED:20260331T205128Z
LAST-MODIFIED:20260331T205254Z
UID:10294757-1811865600-1811871000@stmichaels-litchfield.org
SUMMARY:Priest Search Committee
DESCRIPTION:
URL:https://stmichaels-litchfield.org/event/priest-search-committee-3-2-5/2027-06-01/
LOCATION:Parish House Library\, 25 South Street\, Litchfield\, CT\, 06759\, United States
END:VEVENT
BEGIN:VEVENT
DTSTART;TZID=America/New_York:20270601T171500
DTEND;TZID=America/New_York:20270601T183000
DTSTAMP:20260420T080541
CREATED:20231227T151453Z
LAST-MODIFIED:20260317T155826Z
UID:10293651-1811870100-1811874600@stmichaels-litchfield.org
SUMMARY:Property Committee Meeting in Parish House Library
DESCRIPTION:
URL:https://stmichaels-litchfield.org/event/property-committee-meeting-in-parish-house-library-3/2027-06-01/
LOCATION:Parish House Library\, 25 South Street\, Litchfield\, CT\, 06759\, United States
CATEGORIES:Church Event
END:VEVENT
BEGIN:VEVENT
DTSTART;TZID=America/New_York:20270601T190000
DTEND;TZID=America/New_York:20270601T200000
DTSTAMP:20260420T080541
CREATED:20211108T175914Z
LAST-MODIFIED:20260130T014621Z
UID:10010163-1811876400-1811880000@stmichaels-litchfield.org
SUMMARY:AA Meeting in Community House
DESCRIPTION:
URL:https://stmichaels-litchfield.org/event/aa-group-in-community-house-2/2027-06-01/
LOCATION:Community House in Library from April 9th forward
CATEGORIES:AA/NA Events
END:VEVENT
BEGIN:VEVENT
DTSTART;TZID=America/New_York:20270602T070000
DTEND;TZID=America/New_York:20270602T073000
DTSTAMP:20260420T080541
CREATED:20230606T184551Z
LAST-MODIFIED:20230619T142647Z
UID:10006293-1811919600-1811921400@stmichaels-litchfield.org
SUMMARY:AA Meeting in the Parish House Library
DESCRIPTION:
URL:https://stmichaels-litchfield.org/event/aa-meeting-in-the-library/2027-06-02/
LOCATION:Parish House Library\, 25 South Street\, Litchfield\, CT\, 06759\, United States
CATEGORIES:AA/NA Events
END:VEVENT
BEGIN:VEVENT
DTSTART;TZID=America/New_York:20270602T083000
DTEND;TZID=America/New_York:20270602T110000
DTSTAMP:20260420T080541
CREATED:20250109T152013Z
LAST-MODIFIED:20250109T152013Z
UID:10019501-1811925000-1811934000@stmichaels-litchfield.org
SUMMARY:Greenwoods Counseling
DESCRIPTION:
URL:https://stmichaels-litchfield.org/event/greenwoods-counseling-7/2027-06-02/
CATEGORIES:Greenwoods Counseling
END:VEVENT
BEGIN:VEVENT
DTSTART;TZID=America/New_York:20270602T093000
DTEND;TZID=America/New_York:20270602T143000
DTSTAMP:20260420T080541
CREATED:20260128T181432Z
LAST-MODIFIED:20260128T181726Z
UID:10291704-1811928600-1811946600@stmichaels-litchfield.org
SUMMARY:Church Office Open
DESCRIPTION:
URL:https://stmichaels-litchfield.org/event/church-office-open-14/2027-06-02/
LOCATION:Church Office\, 25 South Street\, Litchfield\, CT\, 06759\, United States
CATEGORIES:Church Office Event
END:VEVENT
BEGIN:VEVENT
DTSTART;TZID=America/New_York:20270602T173000
DTEND;TZID=America/New_York:20270602T180000
DTSTAMP:20260420T080541
CREATED:20260327T155546Z
LAST-MODIFIED:20260327T155546Z
UID:10294498-1811957400-1811959200@stmichaels-litchfield.org
SUMMARY:Chanted Evening Prayer
DESCRIPTION:
URL:https://stmichaels-litchfield.org/event/chanted-evening-prayer-3/2027-06-02/
LOCATION:Chapel\, 25 South Street\, Litchfield\, CT\, 06759\, United States
CATEGORIES:Church Event
END:VEVENT
BEGIN:VEVENT
DTSTART;TZID=America/New_York:20270602T190000
DTEND;TZID=America/New_York:20270602T203000
DTSTAMP:20260420T080541
CREATED:20230817T183342Z
LAST-MODIFIED:20230817T183342Z
UID:10013193-1811962800-1811968200@stmichaels-litchfield.org
SUMMARY:Choir Rehearsal in Parish House Music Room
DESCRIPTION:
URL:https://stmichaels-litchfield.org/event/choir-rehearsal-in-parish-house-music-room/2027-06-02/
LOCATION:Parish House Music Room
CATEGORIES:Church Event
END:VEVENT
BEGIN:VEVENT
DTSTART;TZID=America/New_York:20270602T193000
DTEND;TZID=America/New_York:20270602T210000
DTSTAMP:20260420T080541
CREATED:20211108T180816Z
LAST-MODIFIED:20230714T003135Z
UID:10012517-1811964600-1811970000@stmichaels-litchfield.org
SUMMARY:NA meeting in Community House
DESCRIPTION:
URL:https://stmichaels-litchfield.org/event/narcotics-anonymous/2027-06-02/
LOCATION:Community House in Library from April 9th forward
CATEGORIES:AA/NA Events
END:VEVENT
BEGIN:VEVENT
DTSTART;TZID=America/New_York:20270603T093000
DTEND;TZID=America/New_York:20270603T143000
DTSTAMP:20260420T080541
CREATED:20260128T181432Z
LAST-MODIFIED:20260128T181726Z
UID:10291705-1812015000-1812033000@stmichaels-litchfield.org
SUMMARY:Church Office Open
DESCRIPTION:
URL:https://stmichaels-litchfield.org/event/church-office-open-14/2027-06-03/
LOCATION:Church Office\, 25 South Street\, Litchfield\, CT\, 06759\, United States
CATEGORIES:Church Office Event
END:VEVENT
BEGIN:VEVENT
DTSTART;TZID=America/New_York:20270603T190000
DTEND;TZID=America/New_York:20270603T220000
DTSTAMP:20260420T080541
CREATED:20230810T152445Z
LAST-MODIFIED:20230823T141209Z
UID:10012933-1812049200-1812060000@stmichaels-litchfield.org
SUMMARY:SOTG Board meeting in the Parish House Library
DESCRIPTION:
URL:https://stmichaels-litchfield.org/event/sotg-board-meeting-2/2027-06-03/
LOCATION:Parish House Library\, 25 South Street\, Litchfield\, CT\, 06759\, United States
CATEGORIES:School on the Green Event
END:VEVENT
BEGIN:VEVENT
DTSTART;TZID=America/New_York:20270604T070000
DTEND;TZID=America/New_York:20270604T073000
DTSTAMP:20260420T080541
CREATED:20230606T184551Z
LAST-MODIFIED:20230619T142647Z
UID:10006294-1812092400-1812094200@stmichaels-litchfield.org
SUMMARY:AA Meeting in the Parish House Library
DESCRIPTION:
URL:https://stmichaels-litchfield.org/event/aa-meeting-in-the-library/2027-06-04/
LOCATION:Parish House Library\, 25 South Street\, Litchfield\, CT\, 06759\, United States
CATEGORIES:AA/NA Events
END:VEVENT
END:VCALENDAR